Report for Text-Textile-Plaintext-0.101

Back
From: metabase:user:313dc9fe-2aae-11df-837a-5e0a49663a4f
Subject: PASS Text-Textile-Plaintext-0.101 v5.13.10 GNU/Linux
Date: 2011-04-20T05:12:27Z

This distribution has been tested as part of the CPAN Testers
project, supporting the Perl programming language.  See
http://wiki.cpantesters.org/ for more information or email
questions to cpan-testers-discuss@perl.org


--
Dear Randy J Ray,

This is a computer-generated report for Text-Textile-Plaintext-0.101
on perl 5.13.10, created by CPAN-Reporter-1.1902.

Thank you for uploading your work to CPAN.  Congratulations!
All tests were successful.

Sections of this report:

    * Tester comments
    * Program output
    * Prerequisites
    * Environment and other context

------------------------------
TESTER COMMENTS
------------------------------

Additional comments from tester:

this report is from an automated smoke testing program
and was not reviewed by a human for accuracy

------------------------------
PROGRAM OUTPUT
------------------------------

Output from './Build test':

t/00_load.t ............ ok
t/01_pod.t ............. ok
t/02_pod_coverage.t .... ok
t/03_meta.t ............ skipped: Test::CPAN::Meta 0.12 not available for testing
t/04_minimumversion.t .. skipped: Perl::MinimumVersion 1.20 not available for testing
t/05_critic.t .......... skipped: Perl::Critic 1.098 not available for testing
All tests successful.
Files=6, Tests=12,  2 wallclock secs ( 0.04 usr  0.03 sys +  0.62 cusr  0.12 csys =  0.81 CPU)
Result: PASS

------------------------------
PREREQUISITES
------------------------------

Prerequisite modules loaded:

requires:

    Module            Need     Have    
    ----------------- -------- --------
    HTML::FormatText  2.04     2.05    
    HTML::TreeBuilder 3.23     4.2     
    perl              5.008    5.013010
    Text::Textile     2.12     2.12    

build_requires:

    Module            Need     Have    
    ----------------- -------- --------
    Test::More        0.80     0.97_01 

configure_requires:

    Module            Need     Have    
    ----------------- -------- --------
    Module::Build     0.340201 0.3800  


------------------------------
ENVIRONMENT AND OTHER CONTEXT
------------------------------

Environment variables:

    AUTOMATED_TESTING = 1
    LANG = en_US.UTF-8
    LANGUAGE = en_US:en
    PATH = /usr/local/sbin:/usr/local/bin:/usr/sbin:/usr/bin:/sbin:/bin:/usr/games
    PERL5LIB = /home/perl51310/.cpan/build/HTML-Format-2.05-IRgYlT/blib/arch:/home/perl51310/.cpan/build/HTML-Format-2.05-IRgYlT/blib/lib:/home/perl51310/.cpan/build/File-Slurp-9999.15-SYApTO/blib/arch:/home/perl51310/.cpan/build/File-Slurp-9999.15-SYApTO/blib/lib:/home/perl51310/.cpan/build/Font-AFM-1.20-LY4ji_/blib/arch:/home/perl51310/.cpan/build/Font-AFM-1.20-LY4ji_/blib/lib:/home/perl51310/.cpan/build/Sub-Uplevel-0.22-AOfGi7/blib/arch:/home/perl51310/.cpan/build/Sub-Uplevel-0.22-AOfGi7/blib/lib:/home/perl51310/.cpan/build/Test-Exception-0.31-0_1Lgv/blib/arch:/home/perl51310/.cpan/build/Test-Exception-0.31-0_1Lgv/blib/lib:/home/perl51310/.cpan/build/Text-Textile-2.12-z2qDie/blib/arch:/home/perl51310/.cpan/build/Text-Textile-2.12-z2qDie/blib/lib:/home/perl51310/.cpan/build/HTML-Tree-4.2-64XUf1/blib/arch:/home/perl51310/.cpan/build/HTML-Tree-4.2-64XUf1/blib/lib
    PERL5OPT = 
    PERL5_CPANPLUS_IS_RUNNING = 28976
    PERL5_CPAN_IS_RUNNING = 28976
    PERL5_CPAN_IS_RUNNING_IN_RECURSION = 2405,28976
    PERL_CR_SMOKER_CURRENT = Text-Textile-Plaintext-0.101
    PERL_EXTUTILS_AUTOINSTALL = --defaultdeps
    PERL_MM_USE_DEFAULT = 1
    SHELL = /bin/bash
    TERM = xterm

Perl special variables (and OS-specific diagnostics, for MSWin32):

    $^X = /home/perl51310/perl51310/perl
    $UID/$EUID = 1006 / 1006
    $GID = 1006 1006
    $EGID = 1006 1006

Perl module toolchain versions installed:

    Module              Have    
    ------------------- --------
    CPAN                1.94_65 
    Cwd                 3.37    
    ExtUtils::CBuilder  0.280202
    ExtUtils::Command   1.16    
    ExtUtils::Install   1.56    
    ExtUtils::MakeMaker 6.57_05 
    ExtUtils::Manifest  1.58    
    ExtUtils::ParseXS   2.2209  
    File::Spec          3.33    
    Module::Build       0.3800  
    Module::Signature   n/a     
    Test::Harness       3.22    
    Test::More          0.97_01 
    YAML                0.72    
    YAML::Syck          1.17    
    version             0.88    


--

Summary of my perl5 (revision 5 version 13 subversion 10) configuration:
   
  Platform:
    osname=linux, osvers=2.6.35-27-generic, archname=i686-linux-thread-multi-64int-ld
    uname='linux st47-laptop 2.6.35-27-generic #47-ubuntu smp fri feb 11 21:01:29 utc 2011 i686 gnulinux '
    config_args=''
    hint=recommended, useposix=true, d_sigaction=define
    useithreads=define, usemultiplicity=define
    useperlio=define, d_sfio=undef, uselargefiles=define, usesocks=undef
    use64bitint=define, use64bitall=undef, uselongdouble=define
    usemymalloc=n, bincompat5005=undef
  Compiler:
    cc='cc', ccflags ='-D_REENTRANT -D_GNU_SOURCE -fno-strict-aliasing -pipe -fstack-protector -I/usr/local/include -D_LARGEFILE_SOURCE -D_FILE_OFFSET_BITS=64',
    optimize='-O2',
    cppflags='-D_REENTRANT -D_GNU_SOURCE -fno-strict-aliasing -pipe -fstack-protector -I/usr/local/include'
    ccversion='', gccversion='4.4.5', gccosandvers=''
    intsize=4, longsize=4, ptrsize=4, doublesize=8, byteorder=12345678
    d_longlong=define, longlongsize=8, d_longdbl=define, longdblsize=12
    ivtype='long long', ivsize=8, nvtype='long double', nvsize=12, Off_t='off_t', lseeksize=8
    alignbytes=4, prototype=define
  Linker and Libraries:
    ld='cc', ldflags =' -fstack-protector -L/usr/local/lib'
    libpth=/usr/local/lib /lib /usr/lib /usr/lib64
    libs=-lnsl -ldl -lm -lcrypt -lutil -lpthread -lc
    perllibs=-lnsl -ldl -lm -lcrypt -lutil -lpthread -lc
    libc=/lib/libc-2.12.1.so, so=so, useshrplib=false, libperl=libperl.a
    gnulibc_version='2.12.1'
  Dynamic Linking:
    dlsrc=dl_dlopen.xs, dlext=so, d_dlsymun=undef, ccdlflags='-Wl,-E'
    cccdlflags='-fPIC', lddlflags='-shared -O2 -L/usr/local/lib -fstack-protector'


Characteristics of this binary (from libperl): 
  Compile-time options: MULTIPLICITY PERL_DONT_CREATE_GVSV
                        PERL_IMPLICIT_CONTEXT PERL_MALLOC_WRAP USE_64_BIT_INT
                        USE_ITHREADS USE_LARGE_FILES USE_LONG_DOUBLE
                        USE_PERLIO USE_PERL_ATOF USE_REENTRANT_API
  Built under linux
  Compiled at Apr  6 2011 11:41:38
  %ENV:
    PERL5LIB="/home/perl51310/.cpan/build/HTML-Format-2.05-IRgYlT/blib/arch:/home/perl51310/.cpan/build/HTML-Format-2.05-IRgYlT/blib/lib:/home/perl51310/.cpan/build/File-Slurp-9999.15-SYApTO/blib/arch:/home/perl51310/.cpan/build/File-Slurp-9999.15-SYApTO/blib/lib:/home/perl51310/.cpan/build/Font-AFM-1.20-LY4ji_/blib/arch:/home/perl51310/.cpan/build/Font-AFM-1.20-LY4ji_/blib/lib:/home/perl51310/.cpan/build/Sub-Uplevel-0.22-AOfGi7/blib/arch:/home/perl51310/.cpan/build/Sub-Uplevel-0.22-AOfGi7/blib/lib:/home/perl51310/.cpan/build/Test-Exception-0.31-0_1Lgv/blib/arch:/home/perl51310/.cpan/build/Test-Exception-0.31-0_1Lgv/blib/lib:/home/perl51310/.cpan/build/Text-Textile-2.12-z2qDie/blib/arch:/home/perl51310/.cpan/build/Text-Textile-2.12-z2qDie/blib/lib:/home/perl51310/.cpan/build/HTML-Tree-4.2-64XUf1/blib/arch:/home/perl51310/.cpan/build/HTML-Tree-4.2-64XUf1/blib/lib"
    PERL5OPT=""
    PERL5_CPANPLUS_IS_RUNNING="28976"
    PERL5_CPAN_IS_RUNNING="28976"
    PERL5_CPAN_IS_RUNNING_IN_RECURSION="2405,28976"
    PERL_CR_SMOKER_CURRENT="Text-Textile-Plaintext-0.101"
    PERL_EXTUTILS_AUTOINSTALL="--defaultdeps"
    PERL_MM_USE_DEFAULT="1"
  @INC:
    /home/perl51310/.cpan/build/HTML-Format-2.05-IRgYlT/blib/arch
    /home/perl51310/.cpan/build/HTML-Format-2.05-IRgYlT/blib/lib
    /home/perl51310/.cpan/build/File-Slurp-9999.15-SYApTO/blib/arch
    /home/perl51310/.cpan/build/File-Slurp-9999.15-SYApTO/blib/lib
    /home/perl51310/.cpan/build/Font-AFM-1.20-LY4ji_/blib/arch
    /home/perl51310/.cpan/build/Font-AFM-1.20-LY4ji_/blib/lib
    /home/perl51310/.cpan/build/Sub-Uplevel-0.22-AOfGi7/blib/arch
    /home/perl51310/.cpan/build/Sub-Uplevel-0.22-AOfGi7/blib/lib
    /home/perl51310/.cpan/build/Test-Exception-0.31-0_1Lgv/blib/arch
    /home/perl51310/.cpan/build/Test-Exception-0.31-0_1Lgv/blib/lib
    /home/perl51310/.cpan/build/Text-Textile-2.12-z2qDie/blib/arch
    /home/perl51310/.cpan/build/Text-Textile-2.12-z2qDie/blib/lib
    /home/perl51310/.cpan/build/HTML-Tree-4.2-64XUf1/blib/arch
    /home/perl51310/.cpan/build/HTML-Tree-4.2-64XUf1/blib/lib
    /home/perl51310/perl51310/lib/site_perl/5.13.10/i686-linux-thread-multi-64int-ld
    /home/perl51310/perl51310/lib/site_perl/5.13.10
    /home/perl51310/perl51310/lib/5.13.10/i686-linux-thread-multi-64int-ld
    /home/perl51310/perl51310/lib/5.13.10
    .