Zabbix-API v0.009 Perl 5 v5.27.3 x86_64-linux-thread-multi-ld
- Status
- Pass
- From
- Andreas J. König (ANDK)
- Dist
-
Zabbix-API v0.009
- Platform
- Perl 5 v5.27.3 x86_64-linux-thread-multi-ld
- Date
- 2017-09-19 02:11:02
- ID
- c903669e-9cdf-11e7-a472-f6289ae40bc1
This distribution has been tested as part of the CPAN Testers
project, supporting the Perl programming language. See
http://wiki.cpantesters.org/ for more information or email
questions to cpan-testers-discuss@perl.org
--
Dear Fabrice Gabolde,
This is a computer-generated report for Zabbix-API-0.009
on perl 5.27.3, created by CPAN-Reporter-1.2018.
Thank you for uploading your work to CPAN. Congratulations!
All tests were successful.
Sections of this report:
* Tester comments
* Program output
* Prerequisites
* Environment and other context
------------------------------
TESTER COMMENTS
------------------------------
Additional comments from tester:
this report is from an automated smoke testing program
and was not reviewed by a human for accuracy
------------------------------
PROGRAM OUTPUT
------------------------------
Output from './Build test':
given is experimental at /tmp/loop_over_bdir-29904-qh6OVw/Zabbix-API-0.009-0/blib/lib/Zabbix/API.pm line 159.
when is experimental at /tmp/loop_over_bdir-29904-qh6OVw/Zabbix-API-0.009-0/blib/lib/Zabbix/API.pm line 161.
when is experimental at /tmp/loop_over_bdir-29904-qh6OVw/Zabbix-API-0.009-0/blib/lib/Zabbix/API.pm line 167.
t/actions.t ............ skipped: Needs an URL in $ENV{ZABBIX_SERVER} to run tests.
t/connect-and-fetch.t .. skipped: Needs an URL in $ENV{ZABBIX_SERVER} to run tests.
given is experimental at /tmp/loop_over_bdir-29904-qh6OVw/Zabbix-API-0.009-0/blib/lib/Zabbix/API.pm line 159.
when is experimental at /tmp/loop_over_bdir-29904-qh6OVw/Zabbix-API-0.009-0/blib/lib/Zabbix/API.pm line 161.
when is experimental at /tmp/loop_over_bdir-29904-qh6OVw/Zabbix-API-0.009-0/blib/lib/Zabbix/API.pm line 167.
t/graphs.t ............. skipped: Needs an URL in $ENV{ZABBIX_SERVER} to run tests.
given is experimental at /tmp/loop_over_bdir-29904-qh6OVw/Zabbix-API-0.009-0/blib/lib/Zabbix/API.pm line 159.
when is experimental at /tmp/loop_over_bdir-29904-qh6OVw/Zabbix-API-0.009-0/blib/lib/Zabbix/API.pm line 161.
when is experimental at /tmp/loop_over_bdir-29904-qh6OVw/Zabbix-API-0.009-0/blib/lib/Zabbix/API.pm line 167.
t/hostgroups.t ......... skipped: Needs an URL in $ENV{ZABBIX_SERVER} to run tests.
given is experimental at /tmp/loop_over_bdir-29904-qh6OVw/Zabbix-API-0.009-0/blib/lib/Zabbix/API.pm line 159.
when is experimental at /tmp/loop_over_bdir-29904-qh6OVw/Zabbix-API-0.009-0/blib/lib/Zabbix/API.pm line 161.
when is experimental at /tmp/loop_over_bdir-29904-qh6OVw/Zabbix-API-0.009-0/blib/lib/Zabbix/API.pm line 167.
t/hosts.t .............. skipped: Needs an URL in $ENV{ZABBIX_SERVER} to run tests.
given is experimental at /tmp/loop_over_bdir-29904-qh6OVw/Zabbix-API-0.009-0/blib/lib/Zabbix/API.pm line 159.
when is experimental at /tmp/loop_over_bdir-29904-qh6OVw/Zabbix-API-0.009-0/blib/lib/Zabbix/API.pm line 161.
when is experimental at /tmp/loop_over_bdir-29904-qh6OVw/Zabbix-API-0.009-0/blib/lib/Zabbix/API.pm line 167.
t/items.t .............. skipped: Needs an URL in $ENV{ZABBIX_SERVER} to run tests.
t/kwalitee.t ........... skipped: these tests are for release candidate testing
given is experimental at /tmp/loop_over_bdir-29904-qh6OVw/Zabbix-API-0.009-0/blib/lib/Zabbix/API.pm line 159.
when is experimental at /tmp/loop_over_bdir-29904-qh6OVw/Zabbix-API-0.009-0/blib/lib/Zabbix/API.pm line 161.
when is experimental at /tmp/loop_over_bdir-29904-qh6OVw/Zabbix-API-0.009-0/blib/lib/Zabbix/API.pm line 167.
t/macros.t ............. skipped: Needs an URL in $ENV{ZABBIX_SERVER} to run tests.
given is experimental at /tmp/loop_over_bdir-29904-qh6OVw/Zabbix-API-0.009-0/blib/lib/Zabbix/API.pm line 159.
when is experimental at /tmp/loop_over_bdir-29904-qh6OVw/Zabbix-API-0.009-0/blib/lib/Zabbix/API.pm line 161.
when is experimental at /tmp/loop_over_bdir-29904-qh6OVw/Zabbix-API-0.009-0/blib/lib/Zabbix/API.pm line 167.
t/maps.t ............... skipped: Needs an URL in $ENV{ZABBIX_SERVER} to run tests.
t/parse-formula.t ...... ok
t/perl-critic.t ........ skipped: Author test. Set $ENV{AUTHOR_TESTS} to a true value to run.
t/pod-coverage.t ....... skipped: Author test. Set $ENV{AUTHOR_TESTS} to a true value to run.
t/pod-syntax.t ......... skipped: Author test. Set $ENV{AUTHOR_TESTS} to a true value to run.
given is experimental at /tmp/loop_over_bdir-29904-qh6OVw/Zabbix-API-0.009-0/blib/lib/Zabbix/API.pm line 159.
when is experimental at /tmp/loop_over_bdir-29904-qh6OVw/Zabbix-API-0.009-0/blib/lib/Zabbix/API.pm line 161.
when is experimental at /tmp/loop_over_bdir-29904-qh6OVw/Zabbix-API-0.009-0/blib/lib/Zabbix/API.pm line 167.
t/screens.t ............ skipped: Needs an URL in $ENV{ZABBIX_SERVER} to run tests.
given is experimental at /tmp/loop_over_bdir-29904-qh6OVw/Zabbix-API-0.009-0/blib/lib/Zabbix/API.pm line 159.
when is experimental at /tmp/loop_over_bdir-29904-qh6OVw/Zabbix-API-0.009-0/blib/lib/Zabbix/API.pm line 161.
when is experimental at /tmp/loop_over_bdir-29904-qh6OVw/Zabbix-API-0.009-0/blib/lib/Zabbix/API.pm line 167.
t/triggers.t ........... skipped: Needs an URL in $ENV{ZABBIX_SERVER} to run tests.
given is experimental at /tmp/loop_over_bdir-29904-qh6OVw/Zabbix-API-0.009-0/blib/lib/Zabbix/API.pm line 159.
when is experimental at /tmp/loop_over_bdir-29904-qh6OVw/Zabbix-API-0.009-0/blib/lib/Zabbix/API.pm line 161.
when is experimental at /tmp/loop_over_bdir-29904-qh6OVw/Zabbix-API-0.009-0/blib/lib/Zabbix/API.pm line 167.
t/usergroups.t ......... skipped: Needs an URL in $ENV{ZABBIX_SERVER} to run tests.
given is experimental at /tmp/loop_over_bdir-29904-qh6OVw/Zabbix-API-0.009-0/blib/lib/Zabbix/API.pm line 159.
when is experimental at /tmp/loop_over_bdir-29904-qh6OVw/Zabbix-API-0.009-0/blib/lib/Zabbix/API.pm line 161.
when is experimental at /tmp/loop_over_bdir-29904-qh6OVw/Zabbix-API-0.009-0/blib/lib/Zabbix/API.pm line 167.
t/users.t .............. skipped: Needs an URL in $ENV{ZABBIX_SERVER} to run tests.
All tests successful.
Files=17, Tests=3, 12 wallclock secs ( 0.04 usr 0.14 sys + 1.90 cusr 0.44 csys = 2.52 CPU)
Result: PASS
------------------------------
PREREQUISITES
------------------------------
Prerequisite modules loaded:
requires:
Module Need Have
---------------- -------- --------
JSON 0 2.94
LWP 0 6.26
Params::Validate 0 1.29
perl 5.010001 5.027003
build_requires:
Module Need Have
---------------- -------- --------
File::Spec 0 3.68
Test::Exception 0 0.43
Test::More 0 1.302096
configure_requires:
Module Need Have
---------------- -------- --------
Module::Build 0.36_14 0.4224
------------------------------
ENVIRONMENT AND OTHER CONTEXT
------------------------------
Environment variables:
AUTOMATED_TESTING = 1
LANG = en_US.UTF-8
PATH = /home/sand/bin:/usr/local/bin:/usr/bin:/bin:/usr/games:/usr/local/perl/bin:/usr/X11/bin:/sbin:/usr/sbin
PERL5LIB = /tmp/loop_over_bdir-29904-qh6OVw/IO-Interactive-1.022-0/blib/arch:/tmp/loop_over_bdir-29904-qh6OVw/IO-Interactive-1.022-0/blib/lib
PERL5OPT =
PERL5_CPANPLUS_IS_RUNNING = 29964
PERL5_CPAN_IS_RUNNING = 29964
PERL5_CPAN_IS_RUNNING_IN_RECURSION = 31873,29964
PERL_CANARY_STABILITY_NOPROMPT = 1
PERL_MM_USE_DEFAULT = 1
PERL_USE_UNSAFE_INC = 1
SHELL = /usr/bin/zsh
TERM = screen
Perl special variables (and OS-specific diagnostics, for MSWin32):
$^X = /home/sand/src/perl/repoperls/installed-perls/host/k93msid/v5.27.3/a1a1/bin/perl
$UID/$EUID = 1005 / 1005
$GID = 1005 1005
$EGID = 1005 1005
Perl module toolchain versions installed:
Module Have
------------------- --------
CPAN 2.18
CPAN::Meta 2.150010
Cwd 3.68
ExtUtils::CBuilder 0.280228
ExtUtils::Command 7.30
ExtUtils::Install 2.14
ExtUtils::MakeMaker 7.30
ExtUtils::Manifest 1.70
ExtUtils::ParseXS 3.35
File::Spec 3.68
JSON 2.94
JSON::PP 2.94
Module::Build 0.4224
Module::Signature 0.81
Parse::CPAN::Meta 2.150010
Test::Harness 3.39
Test::More 1.302096
YAML 1.23
YAML::Syck 1.30
version 0.9918
--
Summary of my perl5 (revision 5 version 27 subversion 3) configuration:
Commit id: 7c9c5138c6a704d1caf5908650193f777b81ad23
Platform:
osname=linux
osvers=4.9.0-2-amd64
archname=x86_64-linux-thread-multi-ld
uname='linux k93msid 4.9.0-2-amd64 #1 smp debian 4.9.18-1 (2017-03-30) x86_64 gnulinux '
config_args='-Dprefix=/home/sand/src/perl/repoperls/installed-perls/host/k93msid/v5.27.3/a1a1 -Dmyhostname=k93msid -Dinstallusrbinperl=n -Uversiononly -Dusedevel -des -Ui_db -Dlibswanted=cl pthread socket inet nsl gdbm dbm malloc dl ld sun m crypt sec util c cposix posix ucb BSD gdbm_compat -Duseithreads -Duselongdouble -DDEBUGGING=both'
hint=recommended
useposix=true
d_sigaction=define
useithreads=define
usemultiplicity=define
use64bitint=define
use64bitall=define
uselongdouble=define
usemymalloc=n
default_inc_excludes_dot=define
bincompat5005=undef
Compiler:
cc='cc'
ccflags ='-D_REENTRANT -D_GNU_SOURCE -fwrapv -DDEBUGGING -fno-strict-aliasing -pipe -fstack-protector-strong -I/usr/local/include -D_LARGEFILE_SOURCE -D_FILE_OFFSET_BITS=64 -D_FORTIFY_SOURCE=2'
optimize='-O2 -g'
cppflags='-D_REENTRANT -D_GNU_SOURCE -fwrapv -DDEBUGGING -fno-strict-aliasing -pipe -fstack-protector-strong -I/usr/local/include'
ccversion=''
gccversion='6.3.0 20170406'
gccosandvers=''
intsize=4
longsize=8
ptrsize=8
doublesize=8
byteorder=12345678
doublekind=3
d_longlong=define
longlongsize=8
d_longdbl=define
longdblsize=16
longdblkind=3
ivtype='long'
ivsize=8
nvtype='long double'
nvsize=16
Off_t='off_t'
lseeksize=8
alignbytes=16
prototype=define
Linker and Libraries:
ld='cc'
ldflags =' -fstack-protector-strong -L/usr/local/lib'
libpth=/usr/local/lib /usr/lib/gcc/x86_64-linux-gnu/6/include-fixed /usr/include/x86_64-linux-gnu /usr/lib /lib/x86_64-linux-gnu /lib/../lib /usr/lib/x86_64-linux-gnu /usr/lib/../lib /lib
libs=-lpthread -lnsl -ldl -lm -lcrypt -lutil -lc
perllibs=-lpthread -lnsl -ldl -lm -lcrypt -lutil -lc
libc=libc-2.24.so
so=so
useshrplib=false
libperl=libperl.a
gnulibc_version='2.24'
Dynamic Linking:
dlsrc=dl_dlopen.xs
dlext=so
d_dlsymun=undef
ccdlflags='-Wl,-E'
cccdlflags='-fPIC'
lddlflags='-shared -O2 -g -L/usr/local/lib -fstack-protector-strong'
Characteristics of this binary (from libperl):
Compile-time options:
DEBUGGING
HAS_TIMES
MULTIPLICITY
PERLIO_LAYERS
PERL_COPY_ON_WRITE
PERL_DONT_CREATE_GVSV
PERL_IMPLICIT_CONTEXT
PERL_MALLOC_WRAP
PERL_OP_PARENT
PERL_PRESERVE_IVUV
PERL_TRACK_MEMPOOL
PERL_USE_DEVEL
USE_64_BIT_ALL
USE_64_BIT_INT
USE_ITHREADS
USE_LARGE_FILES
USE_LOCALE
USE_LOCALE_COLLATE
USE_LOCALE_CTYPE
USE_LOCALE_NUMERIC
USE_LOCALE_TIME
USE_LONG_DOUBLE
USE_PERLIO
USE_PERL_ATOF
USE_REENTRANT_API
Built under linux
Compiled at Sep 14 2017 06:36:45
%ENV:
PERL5LIB="/tmp/loop_over_bdir-29904-qh6OVw/IO-Interactive-1.022-0/blib/arch:/tmp/loop_over_bdir-29904-qh6OVw/IO-Interactive-1.022-0/blib/lib"
PERL5OPT=""
PERL5_CPANPLUS_IS_RUNNING="29964"
PERL5_CPAN_IS_RUNNING="29964"
PERL5_CPAN_IS_RUNNING_IN_RECURSION="31873,29964"
PERL_CANARY_STABILITY_NOPROMPT="1"
PERL_MM_USE_DEFAULT="1"
PERL_USE_UNSAFE_INC="1"
@INC:
/tmp/loop_over_bdir-29904-qh6OVw/IO-Interactive-1.022-0/blib/arch
/tmp/loop_over_bdir-29904-qh6OVw/IO-Interactive-1.022-0/blib/lib
/home/sand/src/perl/repoperls/installed-perls/host/k93msid/v5.27.3/a1a1/lib/site_perl/5.27.3/x86_64-linux-thread-multi-ld
/home/sand/src/perl/repoperls/installed-perls/host/k93msid/v5.27.3/a1a1/lib/site_perl/5.27.3
/home/sand/src/perl/repoperls/installed-perls/host/k93msid/v5.27.3/a1a1/lib/5.27.3/x86_64-linux-thread-multi-ld
/home/sand/src/perl/repoperls/installed-perls/host/k93msid/v5.27.3/a1a1/lib/5.27.3
.