Report for POE-Component-SSLify-1.008

Back
From: metabase:user:31d414ea-2aae-11df-837a-5e0a49663a4f
Subject: PASS POE-Component-SSLify-1.008 v5.14.3 GNU/Linux
Date: 2012-11-20T12:57:05Z

This distribution has been tested as part of the CPAN Testers
project, supporting the Perl programming language.  See
http://wiki.cpantesters.org/ for more information or email
questions to cpan-testers-discuss@perl.org


--
Dear Apocalypse,

This is a computer-generated report for POE-Component-SSLify-1.008
on perl 5.14.3, created by CPAN-Reporter-1.2006.

Thank you for uploading your work to CPAN.  Congratulations!
All tests were successful.

Sections of this report:

    * Tester comments
    * Program output
    * Prerequisites
    * Environment and other context

------------------------------
TESTER COMMENTS
------------------------------

Additional comments from tester:

this report is from an automated smoke testing program
and was not reviewed by a human for accuracy

------------------------------
PROGRAM OUTPUT
------------------------------

Output from './Build test':

t/00-compile.t ................ ok
# 
# 
# Generated by Dist::Zilla::Plugin::ReportVersions::Tiny v1.03
# perl: v5.14.3 (wanted 5.006) on linux from /home/david/cpantesting/perl-5.14.3/bin/perl
# 
# Exporter                                      => 5.64_03    (want any version)
# File::Find                                    => 1.19       (want any version)
# File::Temp                                    => 0.22       (want any version)
# IO::Handle                                    => 1.31       (want 1.28)   
# Module::Build                                 => 0.4003     (want 0.3601) 
# Net::SSLeay                                   => 1.49       (want 1.36)   
# POE                                           => 1.354      (want 1.267)  
# POE::Component::Client::TCP                   => 1.354      (want any version)
# POE::Component::Server::TCP                   => 1.354      (want any version)
# Scalar::Util                                  => 1.23       (want any version)
# Socket                                        => 1.94       (want any version)
# Symbol                                        => 1.07       (want any version)
# Task::Weaken                                  => 1.04       (want 1.03)   
# Test::More                                    => 0.98       (want 0.88)   
# parent                                        => 0.225      (want any version)
# 
# Thanks for using my code.  I hope it works for you.
# If not, please try and include this output in the bug report.
# That will help me reproduce the issue and solve your problem.
# 
t/000-report-versions-tiny.t .. ok
t/1_simple.t .................. ok
t/2_renegotiate_client.t ...... ok
t/3_upgrade.t ................. ok
t/4_connect_hook.t ............ ok
t/5_connfail_client.t ......... ok
t/6_connfail_server.t ......... ok
t/7_connect_hook_nodata.t ..... ok
t/8_renegotiate_server.t ...... ok
t/98_renegotiate.t ............ skipped: AUTHOR TEST
t/99_mire_test.t .............. skipped: AUTHOR TEST
t/apocalypse.t ................ skipped: Test::Apocalypse required for validating the distribution
All tests successful.
Files=13, Tests=131,  1 wallclock secs ( 0.03 usr  0.07 sys +  0.95 cusr  0.19 csys =  1.24 CPU)
Result: PASS

------------------------------
PREREQUISITES
------------------------------

Prerequisite modules loaded:

requires:

    Module                      Need   Have    
    --------------------------- ------ --------
    Exporter                    0      5.64_03 
    IO::Handle                  1.28   1.31    
    Net::SSLeay                 1.36   1.49    
    parent                      0      0.225   
    perl                        5.006  5.014003
    POE                         0      1.354   
    Scalar::Util                0      1.23    
    Symbol                      0      1.07    
    Task::Weaken                1.03   1.04    

build_requires:

    Module                      Need   Have    
    --------------------------- ------ --------
    File::Find                  0      1.19    
    File::Temp                  0      0.22    
    Module::Build               0.3601 0.4003  
    POE                         1.267  1.354   
    POE::Component::Client::TCP 0      1.354   
    POE::Component::Server::TCP 0      1.354   
    Socket                      0      1.94    
    Test::More                  0.88   0.98    

configure_requires:

    Module                      Need   Have    
    --------------------------- ------ --------
    Module::Build               0.3601 0.4003  


------------------------------
ENVIRONMENT AND OTHER CONTEXT
------------------------------

Environment variables:

    AUTOMATED_TESTING = 1
    PATH = /usr/local/bin:/usr/bin:/bin:/usr/games
    PERL = 5.14.3
    PERL5LIB = 
    PERL5OPT = 
    PERL5_CPANPLUS_IS_RUNNING = 13392
    PERL5_CPAN_IS_RUNNING = 13392
    PERLVER = 5.14.3
    PERL_INLINE_DIRECTORY = /home/david/.Inline-5.14.3
    SHELL = /bin/bash
    TERM = screen

Perl special variables (and OS-specific diagnostics, for MSWin32):

    $^X = /home/david/cpantesting/perl-5.14.3/bin/perl
    $UID/$EUID = 1000 / 1000
    $GID = 1000 1000
    $EGID = 1000 1000

Perl module toolchain versions installed:

    Module              Have     
    ------------------- ---------
    CPAN                1.9600_01
    CPAN::Meta          2.112150 
    Cwd                 3.36     
    ExtUtils::CBuilder  0.280205 
    ExtUtils::Command   1.17     
    ExtUtils::Install   1.56     
    ExtUtils::MakeMaker 6.62     
    ExtUtils::Manifest  1.58     
    ExtUtils::ParseXS   2.2210   
    File::Spec          3.33     
    JSON                2.53     
    JSON::PP            2.27105  
    Module::Build       0.4003   
    Module::Signature   n/a      
    Parse::CPAN::Meta   1.4401   
    Test::Harness       3.23     
    Test::More          0.98     
    YAML                0.84     
    YAML::Syck          1.21     
    version             0.88     


--

Summary of my perl5 (revision 5 version 14 subversion 3) configuration:
   
  Platform:
    osname=linux, osvers=2.6.32-5-xen-amd64, archname=x86_64-linux-thread-multi
    uname='linux pigsty.barnyard.co.uk 2.6.32-5-xen-amd64 #1 smp sun may 6 08:57:29 utc 2012 x86_64 gnulinux '
    config_args='-de -Dprefix=/home/david/cpantesting/perl-5.14.3 -Dusethreads -Duse64bitall'
    hint=recommended, useposix=true, d_sigaction=define
    useithreads=define, usemultiplicity=define
    useperlio=define, d_sfio=undef, uselargefiles=define, usesocks=undef
    use64bitint=define, use64bitall=define, uselongdouble=undef
    usemymalloc=n, bincompat5005=undef
  Compiler:
    cc='cc', ccflags ='-D_REENTRANT -D_GNU_SOURCE -fno-strict-aliasing -pipe -fstack-protector -I/usr/local/include -D_LARGEFILE_SOURCE -D_FILE_OFFSET_BITS=64',
    optimize='-O2',
    cppflags='-D_REENTRANT -D_GNU_SOURCE -fno-strict-aliasing -pipe -fstack-protector -I/usr/local/include'
    ccversion='', gccversion='4.1.2 20061115 (prerelease) (Debian 4.1.1-21)', gccosandvers=''
    intsize=4, longsize=8, ptrsize=8, doublesize=8, byteorder=12345678
    d_longlong=define, longlongsize=8, d_longdbl=define, longdblsize=16
    ivtype='long', ivsize=8, nvtype='double', nvsize=8, Off_t='off_t', lseeksize=8
    alignbytes=8, prototype=define
  Linker and Libraries:
    ld='cc', ldflags =' -fstack-protector -L/usr/local/lib'
    libpth=/usr/local/lib /lib /usr/lib /lib64 /usr/lib64
    libs=-lnsl -lgdbm -ldb -ldl -lm -lcrypt -lutil -lpthread -lc -lgdbm_compat
    perllibs=-lnsl -ldl -lm -lcrypt -lutil -lpthread -lc
    libc=/lib/libc-2.3.6.so, so=so, useshrplib=false, libperl=libperl.a
    gnulibc_version='2.3.6'
  Dynamic Linking:
    dlsrc=dl_dlopen.xs, dlext=so, d_dlsymun=undef, ccdlflags='-Wl,-E'
    cccdlflags='-fPIC', lddlflags='-shared -O2 -L/usr/local/lib -fstack-protector'


Characteristics of this binary (from libperl): 
  Compile-time options: MULTIPLICITY PERL_DONT_CREATE_GVSV
                        PERL_IMPLICIT_CONTEXT PERL_MALLOC_WRAP
                        PERL_PRESERVE_IVUV USE_64_BIT_ALL USE_64_BIT_INT
                        USE_ITHREADS USE_LARGE_FILES USE_PERLIO USE_PERL_ATOF
                        USE_REENTRANT_API
  Built under linux
  Compiled at Oct 15 2012 11:59:53
  %ENV:
    PERL="5.14.3"
    PERL5LIB=""
    PERL5OPT=""
    PERL5_CPANPLUS_IS_RUNNING="13392"
    PERL5_CPAN_IS_RUNNING="13392"
    PERLVER="5.14.3"
    PERL_INLINE_DIRECTORY="/home/david/.Inline-5.14.3"
  @INC:
    /home/david/cpantesting/perl-5.14.3/lib/site_perl/5.14.3/x86_64-linux-thread-multi
    /home/david/cpantesting/perl-5.14.3/lib/site_perl/5.14.3
    /home/david/cpantesting/perl-5.14.3/lib/5.14.3/x86_64-linux-thread-multi
    /home/david/cpantesting/perl-5.14.3/lib/5.14.3
    .