Device-Network-ConfigParser v0.006 Perl 5 v5.20.3 amd64-freebsd
- Status
- Pass
- From
- Slaven Rezić (SREZIC)
- Dist
-
Device-Network-ConfigParser v0.006
- Platform
- Perl 5 v5.20.3 amd64-freebsd
- Date
- 2017-11-14 01:40:25
- ID
- c925bab8-c8dc-11e7-95a7-86225bf19096
This distribution has been tested as part of the CPAN Testers
project, supporting the Perl programming language. See
http://wiki.cpantesters.org/ for more information or email
questions to cpan-testers-discuss@perl.org
--
Dear Greg Foletta,
This is a computer-generated report for Device-Network-ConfigParser-0.006
on perl 5.20.3, created by CPAN-Reporter-1.2018.
Thank you for uploading your work to CPAN. Congratulations!
All tests were successful.
Sections of this report:
* Tester comments
* Program output
* Prerequisites
* Environment and other context
------------------------------
TESTER COMMENTS
------------------------------
Additional comments from tester:
none provided
------------------------------
PROGRAM OUTPUT
------------------------------
Output from '/usr/bin/make test':
PERL_DL_NONLAZY=1 "/usr/perl5.20.3p/bin/perl" "-MExtUtils::Command::MM" "-MTest::Harness" "-e" "undef *Test::Harness::Switches; test_harness(0, 'blib/lib', 'blib/arch')" t/*.t
t/00-load.t .............. ok
t/01-checkpoint_gaia.t ... ok
t/02-cisco_asa.t ......... ok
t/03-linux_netutils.t .... ok
t/04-linux_iproute2.t .... ok
t/author-pod-coverage.t .. skipped: these tests are for testing by the author
t/author-pod-syntax.t .... skipped: these tests are for testing by the author
t/release-kwalitee.t ..... skipped: these tests are for release candidate testing
All tests successful.
Files=8, Tests=43, 2 wallclock secs ( 0.05 usr 0.05 sys + 1.48 cusr 0.16 csys = 1.73 CPU)
Result: PASS
------------------------------
PREREQUISITES
------------------------------
Prerequisite modules loaded:
requires:
Module Need Have
------------------- ----- ----------
Data::Dumper 0 2.161
Exporter 0 5.71
Getopt::Long 0 2.5
JSON 0 2.94
Modern::Perl 0 1.20170117
Module::Load 0 0.32
Parse::RecDescent 0 1.967015
perl 5.006 5.020003
Perl6::Slurp 0 0.051005
Pod::Usage 0 1.69
Scalar::Util 0 1.49
strict 0 1.08
warnings 0 1.23
build_requires:
Module Need Have
------------------- ----- ----------
ExtUtils::MakeMaker 0 7.30
Test::More 0 1.302106
configure_requires:
Module Need Have
------------------- ----- ----------
ExtUtils::MakeMaker 0 7.30
------------------------------
ENVIRONMENT AND OTHER CONTEXT
------------------------------
Environment variables:
PATH = /usr/local/bin:/usr/bin:/bin:/usr/local/sbin:/usr/sbin:/sbin:/home/cpansand/bin/freebsd12.0:/home/cpansand/bin/sh:/home/cpansand/bin:/usr/games:/home/cpansand/devel:/usr/home/eserte/src/srezic-misc/scripts
PERL5LIB =
PERL5OPT =
PERL5_CPANPLUS_IS_RUNNING = 83011
PERL5_CPAN_IS_RUNNING = 83011
PERL5_CPAN_IS_RUNNING_IN_RECURSION = 82971,83011
PERL_BATCH = yes
PERL_CANARY_STABILITY_NOPROMPT = 1
PERL_CPAN_REPORTER_CONFIG = /var/tmp/cpansmoker-1023/2017111400/cpanreporter_000_config.ini
PERL_EXTUTILS_AUTOINSTALL = --defaultdeps
SHELL = /bin/sh
TMPDIR = /var/tmp/cpansmoker-1023/2017111400
Perl special variables (and OS-specific diagnostics, for MSWin32):
$^X = /usr/perl5.20.3p/bin/perl
$UID/$EUID = 1023 / 1023
$GID = 1023 1023
$EGID = 1023 1023
Perl module toolchain versions installed:
Module Have
------------------- --------
CPAN 2.16
CPAN::Meta 2.150010
Cwd 3.62
ExtUtils::CBuilder 0.280226
ExtUtils::Command 7.30
ExtUtils::Install 2.06
ExtUtils::MakeMaker 7.30
ExtUtils::Manifest 1.70
ExtUtils::ParseXS 3.35
File::Spec 3.62
JSON 2.94
JSON::PP 2.94
Module::Build 0.4224
Module::Signature 0.81
Parse::CPAN::Meta 2.150010
Test::Harness 3.39
Test::More 1.302106
YAML 1.24
YAML::Syck 1.30
version 0.9918
--
Summary of my perl5 (revision 5 version 20 subversion 3) configuration:
Platform:
osname=freebsd, osvers=12.0-current, archname=amd64-freebsd
uname='freebsd freebsd 12.0-current freebsd 12.0-current #1 ff104cc9da3(master)-dirty: thu oct 19 23:44:51 cest 2017 root@freebsd:usrobjusrsrcsysgeneric amd64 '
config_args='-ds -e -Dprefix=/usr/perl5.20.3p -Dcf_email=srezic@cpan.org -Doptimize=-O2 -pipe'
hint=recommended, useposix=true, d_sigaction=define
useithreads=undef, usemultiplicity=undef
use64bitint=define, use64bitall=define, uselongdouble=undef
usemymalloc=n, bincompat5005=undef
Compiler:
cc='cc', ccflags ='-DHAS_FPSETMASK -DHAS_FLOATINGPOINT_H -fno-strict-aliasing -pipe -fstack-protector -I/usr/local/include',
optimize='-O2 -pipe',
cppflags='-DHAS_FPSETMASK -DHAS_FLOATINGPOINT_H -fno-strict-aliasing -pipe -fstack-protector -I/usr/local/include'
ccversion='', gccversion='4.2.1 Compatible FreeBSD Clang 5.0.0 (tags/RELEASE_500/final 312559)', gccosandvers=''
intsize=4, longsize=8, ptrsize=8, doublesize=8, byteorder=12345678
d_longlong=define, longlongsize=8, d_longdbl=define, longdblsize=16
ivtype='long', ivsize=8, nvtype='double', nvsize=8, Off_t='off_t', lseeksize=8
alignbytes=8, prototype=define
Linker and Libraries:
ld='cc', ldflags ='-pthread -Wl,-E -fstack-protector -L/usr/local/lib'
libpth=/usr/lib /usr/local/lib /usr/lib/clang/5.0.0/lib /usr/lib
libs=-lpthread -lgdbm -lm -lcrypt -lutil -lc
perllibs=-lpthread -lm -lcrypt -lutil -lc
libc=, so=so, useshrplib=false, libperl=libperl.a
gnulibc_version=''
Dynamic Linking:
dlsrc=dl_dlopen.xs, dlext=so, d_dlsymun=undef, ccdlflags=' '
cccdlflags='-DPIC -fPIC', lddlflags='-shared -L/usr/local/lib -fstack-protector'
Characteristics of this binary (from libperl):
Compile-time options: HAS_TIMES PERLIO_LAYERS PERL_DONT_CREATE_GVSV
PERL_HASH_FUNC_ONE_AT_A_TIME_HARD PERL_MALLOC_WRAP
PERL_NEW_COPY_ON_WRITE PERL_PRESERVE_IVUV
USE_64_BIT_ALL USE_64_BIT_INT USE_LARGE_FILES
USE_LOCALE USE_LOCALE_COLLATE USE_LOCALE_CTYPE
USE_LOCALE_NUMERIC USE_PERLIO USE_PERL_ATOF
Built under freebsd
Compiled at Oct 23 2017 17:25:19
%ENV:
PERL5LIB=""
PERL5OPT=""
PERL5_CPANPLUS_IS_RUNNING="83011"
PERL5_CPAN_IS_RUNNING="83011"
PERL5_CPAN_IS_RUNNING_IN_RECURSION="82971,83011"
PERL_BATCH="yes"
PERL_CANARY_STABILITY_NOPROMPT="1"
PERL_CPAN_REPORTER_CONFIG="/var/tmp/cpansmoker-1023/2017111400/cpanreporter_000_config.ini"
PERL_EXTUTILS_AUTOINSTALL="--defaultdeps"
@INC:
/usr/perl5.20.3p/lib/site_perl/5.20.3/amd64-freebsd
/usr/perl5.20.3p/lib/site_perl/5.20.3
/usr/perl5.20.3p/lib/5.20.3/amd64-freebsd
/usr/perl5.20.3p/lib/5.20.3
.