Report for VS-RuleEngine-0.09

Back
From: metabase:user:9820532a-708b-1014-9a05-b18a96298da1
Subject: PASS VS-RuleEngine-0.09 v5.12.2 GNU/Linux
Date: 2010-09-16T03:02:05Z

This distribution has been tested as part of the CPAN Testers
project, supporting the Perl programming language.  See
http://wiki.cpantesters.org/ for more information or email
questions to cpan-testers-discuss@perl.org


--
Dear Claes Jakobsson,

This is a computer-generated report for VS-RuleEngine-0.09
on perl 5.12.2, created by CPAN-Reporter-1.18.

Thank you for uploading your work to CPAN.  Congratulations!
All tests were successful.

Sections of this report:

    * Tester comments
    * Program output
    * Prerequisites
    * Environment and other context

------------------------------
TESTER COMMENTS
------------------------------

Additional comments from tester:

this report is from an automated smoke testing program
and was not reviewed by a human for accuracy

------------------------------
PROGRAM OUTPUT
------------------------------

Output from '/usr/bin/make test':

PERL_DL_NONLAZY=1 /home/test/perl/bin/perl5.12.2 "-MExtUtils::Command::MM" "-e" "test_harness(0, 'blib/lib', 'blib/arch')" t/*/*.t
t/action/01-setlocal.t ........... ok
t/action/02-setglobal.t .......... ok
t/assorted/01-typedecl.t ......... ok
t/declare/01-basic.t ............. ok
t/declare/02-inputs.t ............ ok
t/declare/03-outputs.t ........... ok
t/declare/04-actions.t ........... ok
t/declare/05-hooks.t ............. ok
t/declare/06-rules.t ............. ok
t/declare/07-defaults.t .......... ok
t/docs/pod-coverage.t ............ ok
t/docs/pod.t ..................... ok
t/engine/01-basic.t .............. ok
t/engine/02-input-add.t .......... ok
t/engine/03-hook-add.t ........... ok
t/engine/04-prehook.t ............ ok
t/engine/05-posthook.t ........... ok
t/engine/06-action-add.t ......... ok
t/engine/07-rule-add.t ........... ok
t/engine/08-rule-order.t ......... ok
t/engine/09-rule-actions.t ....... ok
t/engine/10-inputs.t ............. ok
t/engine/11-defaults.t ........... ok
t/hook/01-base.t ................. ok
t/input/01-base.t ................ ok
t/output/01-base.t ............... ok
t/rule/01-base.t ................. ok
t/rule/02-inputoverthreshold.t ... ok
t/rule/03-inputunderthreshold.t .. ok
t/rule/04-inputmatchingregexp.t .. ok
t/runloop/01-basic.t ............. ok
t/runloop/02-hooks.t ............. ok
t/runloop/03-rules.t ............. ok
t/runloop/04-actions.t ........... ok
t/runloop/05-output.t ............ ok
t/runloop/07-multiple.t .......... ok
t/runloop/08-globals.t ........... ok
t/runloop/09-skip.t .............. ok
All tests successful.
Files=38, Tests=371, 12 wallclock secs ( 0.14 usr  0.03 sys +  1.60 cusr  0.34 csys =  2.11 CPU)
Result: PASS

------------------------------
PREREQUISITES
------------------------------

Prerequisite modules loaded:

requires:

    Module               Need Have
    -------------------- ---- ----
    List::Util           0    1.22
    Object::Tiny         0    1.06
    Scalar::Util         0    1.22
    Test::AbstractMethod 0    0.01
    Test::Exception      0    0.29
    Test::More           0    0.94


------------------------------
ENVIRONMENT AND OTHER CONTEXT
------------------------------

Environment variables:

    AUTOMATED_TESTING = 1
    LANG = C
    LC_ALL = C
    PATH = /home/test/perl/bin:~/bin:/usr/bin:/bin
    PERL5LIB = /home/test/.cpan/build/Object-Tiny-1.06-noX015/blib/arch:/home/test/.cpan/build/Object-Tiny-1.06-noX015/blib/lib:/home/test/.cpan/build/Test-AbstractMethod-0.01-z5AUGX/blib/arch:/home/test/.cpan/build/Test-AbstractMethod-0.01-z5AUGX/blib/lib
    PERL5OPT = 
    PERL5_CPANPLUS_IS_RUNNING = 20683
    PERL5_CPAN_IS_RUNNING = 20683
    PERL5_CPAN_IS_RUNNING_IN_RECURSION = 9678,20683
    PERL_CR_SMOKER_CURRENT = VS-RuleEngine-Loader-XML-0.05
    PERL_EXTUTILS_AUTOINSTALL = --defaultdeps
    PERL_MM_USE_DEFAULT = 1
    SHELL = /bin/bash
    TERM = linux

Perl special variables (and OS-specific diagnostics, for MSWin32):

    $^X = /home/test/perl/bin/perl5.12.2
    $UID/$EUID = 1001 / 1001
    $GID = 1001 1001
    $EGID = 1001 1001

Perl module toolchain versions installed:

    Module              Have   
    ------------------- -------
    CPAN                1.94_56
    Cwd                 3.31   
    ExtUtils::CBuilder  0.27   
    ExtUtils::Command   1.16   
    ExtUtils::Install   1.55   
    ExtUtils::MakeMaker 6.56   
    ExtUtils::Manifest  1.57   
    ExtUtils::ParseXS   2.21   
    File::Spec          3.31_01
    Module::Build       0.3603 
    Module::Signature   n/a    
    Test::Harness       3.17   
    Test::More          0.94   
    YAML                0.72   
    YAML::Syck          1.14   
    version             0.82   


--

Summary of my perl5 (revision 5 version 12 subversion 2) configuration:
   
  Platform:
    osname=linux, osvers=2.6.26-2-amd64, archname=x86_64-linux-thread-multi-ld
    uname='linux zippy 2.6.26-2-amd64 #1 smp tue jan 12 22:12:20 utc 2010 x86_64 gnulinux '
    config_args='-des -Dusedevel -des -Duselongdouble -Duse64bitall -Dusethreads -Dprefix=~/perl'
    hint=recommended, useposix=true, d_sigaction=define
    useithreads=define, usemultiplicity=define
    useperlio=define, d_sfio=undef, uselargefiles=define, usesocks=undef
    use64bitint=define, use64bitall=define, uselongdouble=define
    usemymalloc=n, bincompat5005=undef
  Compiler:
    cc='cc', ccflags ='-D_REENTRANT -D_GNU_SOURCE -fno-strict-aliasing -pipe -fstack-protector -I/usr/local/include -D_LARGEFILE_SOURCE -D_FILE_OFFSET_BITS=64',
    optimize='-O2',
    cppflags='-D_REENTRANT -D_GNU_SOURCE -fno-strict-aliasing -pipe -fstack-protector -I/usr/local/include'
    ccversion='', gccversion='4.4.5 20100728 (prerelease)', gccosandvers=''
    intsize=4, longsize=8, ptrsize=8, doublesize=8, byteorder=12345678
    d_longlong=define, longlongsize=8, d_longdbl=define, longdblsize=16
    ivtype='long', ivsize=8, nvtype='long double', nvsize=16, Off_t='off_t', lseeksize=8
    alignbytes=16, prototype=define
  Linker and Libraries:
    ld='cc', ldflags =' -fstack-protector -L/usr/local/lib'
    libpth=/usr/local/lib /lib /usr/lib /lib64 /usr/lib64
    libs=-lnsl -ldb -ldl -lm -lcrypt -lutil -lpthread -lc
    perllibs=-lnsl -ldl -lm -lcrypt -lutil -lpthread -lc
    libc=/lib/libc-2.11.2.so, so=so, useshrplib=false, libperl=libperl.a
    gnulibc_version='2.11.2'
  Dynamic Linking:
    dlsrc=dl_dlopen.xs, dlext=so, d_dlsymun=undef, ccdlflags='-Wl,-E'
    cccdlflags='-fPIC', lddlflags='-shared -O2 -L/usr/local/lib -fstack-protector'


Characteristics of this binary (from libperl): 
  Compile-time options: MULTIPLICITY PERL_DONT_CREATE_GVSV
                        PERL_IMPLICIT_CONTEXT PERL_MALLOC_WRAP PERL_USE_DEVEL
                        USE_64_BIT_ALL USE_64_BIT_INT USE_ITHREADS
                        USE_LARGE_FILES USE_LONG_DOUBLE USE_PERLIO
                        USE_PERL_ATOF USE_REENTRANT_API
  Built under linux
  Compiled at Sep  7 2010 10:39:12
  %ENV:
    PERL5LIB="/home/test/.cpan/build/Object-Tiny-1.06-noX015/blib/arch:/home/test/.cpan/build/Object-Tiny-1.06-noX015/blib/lib:/home/test/.cpan/build/Test-AbstractMethod-0.01-z5AUGX/blib/arch:/home/test/.cpan/build/Test-AbstractMethod-0.01-z5AUGX/blib/lib"
    PERL5OPT=""
    PERL5_CPANPLUS_IS_RUNNING="20683"
    PERL5_CPAN_IS_RUNNING="20683"
    PERL5_CPAN_IS_RUNNING_IN_RECURSION="9678,20683"
    PERL_CR_SMOKER_CURRENT="VS-RuleEngine-Loader-XML-0.05"
    PERL_EXTUTILS_AUTOINSTALL="--defaultdeps"
    PERL_MM_USE_DEFAULT="1"
  @INC:
    /home/test/.cpan/build/Object-Tiny-1.06-noX015/blib/arch
    /home/test/.cpan/build/Object-Tiny-1.06-noX015/blib/lib
    /home/test/.cpan/build/Test-AbstractMethod-0.01-z5AUGX/blib/arch
    /home/test/.cpan/build/Test-AbstractMethod-0.01-z5AUGX/blib/lib
    /home/test/perl/lib/site_perl/5.12.2/x86_64-linux-thread-multi-ld
    /home/test/perl/lib/site_perl/5.12.2
    /home/test/perl/lib/5.12.2/x86_64-linux-thread-multi-ld
    /home/test/perl/lib/5.12.2
    .