App-Git-Workflow-Command-SinceRelease v0.4 Perl 5 v5.20.2 x86_64-linux-thread-multi
- Status
- Pass
- From
- Nigel Horne
- Dist
-
App-Git-Workflow-Command-SinceRelease v0.4
- Platform
- Perl 5 v5.20.2 x86_64-linux-thread-multi
- Date
- 2018-04-15 03:26:29
- ID
- c93e8ffa-405c-11e8-91ce-d3e3deac0b3f
This distribution has been tested as part of the CPAN Testers
project, supporting the Perl programming language. See
http://wiki.cpantesters.org/ for more information or email
questions to cpan-testers-discuss@perl.org
--
Dear Ivan Wills,
This is a computer-generated report for App-Git-Workflow-Command-SinceRelease-0.4
on perl 5.20.2, created by CPAN-Reporter-1.2018.
Thank you for uploading your work to CPAN. Congratulations!
All tests were successful.
Sections of this report:
* Tester comments
* Program output
* Prerequisites
* Environment and other context
------------------------------
TESTER COMMENTS
------------------------------
Additional comments from tester:
this report is from an automated smoke testing program
and was not reviewed by a human for accuracy
------------------------------
PROGRAM OUTPUT
------------------------------
Output from './Build test':
t/boilerplate.t ........ ok
# Testing App::Git::Workflow::Command::SinceRelease 0.4, Perl 5.020002, /home/njh/perl5/perlbrew/perls/perl-5.20.2/bin/perl5.20.2
t/00-load.t ............ ok
t/critic.t ............. skipped: Author test. Set TEST_AUTHOR environment variable to a true value to run.
t/kwalitee.t ........... skipped: Author test. Set TEST_AUTHOR environment variable to a true value to run.
t/cmd-since-release.t .. ok
t/manifest.t ........... skipped: Author test. Set TEST_AUTHOR environment variable to a true value to run.
t/pod-coverage.t ....... skipped: Author test. Set TEST_AUTHOR environment variable to a true value to run.
t/spelling.t ........... skipped: Author test. Set TEST_AUTHOR environment variable to a true value to run.
t/pod.t ................ ok
All tests successful.
Files=9, Tests=13, 0 wallclock secs ( 0.08 usr 0.02 sys + 0.65 cusr 0.15 csys = 0.90 CPU)
Result: PASS
------------------------------
PREREQUISITES
------------------------------
Prerequisite modules loaded:
requires:
Module Need Have
---------------------------- ------ --------
App::Git::Workflow v1.0.6 v1.0.6
App::Git::Workflow::Command v1.0.6 v1.0.6
perl 5.006 5.020002
build_requires:
Module Need Have
---------------------------- ------ --------
Test::Git::Workflow::Command 0.8 v1.0.6
Test::More 0.88 1.001014
Test::Warnings 0.026 0.026
configure_requires:
Module Need Have
---------------------------- ------ --------
Module::Build 0.42 0.4211
------------------------------
ENVIRONMENT AND OTHER CONTEXT
------------------------------
Environment variables:
AUTOMATED_TESTING = 1
HARNESS_OPTIONS = j2
LANG = en_GB.UTF-8
LANGUAGE = en_GB:en
PATH = /home/njh/perl5/perlbrew/bin:/home/njh/perl5/perlbrew/perls/perl-5.20.2/bin:src/njh/smoker/bin:/usr/bin:/bin
PERL5LIB = /home/njh/.cpan/build/App-Git-Workflow-v1.0.6-23/blib/arch:/home/njh/.cpan/build/App-Git-Workflow-v1.0.6-23/blib/lib:/home/njh/.cpan/build/XML-Tiny-2.07-23/blib/arch:/home/njh/.cpan/build/XML-Tiny-2.07-23/blib/lib:/home/njh/.cpan/build/Test-Warnings-0.026-34/blib/arch:/home/njh/.cpan/build/Test-Warnings-0.026-34/blib/lib:/home/njh/.cpan/build/Git-0.42-23/blib/arch:/home/njh/.cpan/build/Git-0.42-23/blib/lib:/home/njh/.cpan/build/File-chdir-0.1010-18/blib/arch:/home/njh/.cpan/build/File-chdir-0.1010-18/blib/lib:/home/njh/.cpan/build/Error-0.17025-20/blib/arch:/home/njh/.cpan/build/Error-0.17025-20/blib/lib
PERL5OPT =
PERL5_CPANPLUS_IS_RUNNING = 19056
PERL5_CPAN_IS_RUNNING = 19056
PERLBREW_BASHRC_VERSION = 0.75
PERLBREW_HOME = /home/njh/.perlbrew
PERLBREW_MANPATH = /home/njh/perl5/perlbrew/perls/perl-5.20.2/man
PERLBREW_PATH = /home/njh/perl5/perlbrew/bin:/home/njh/perl5/perlbrew/perls/perl-5.20.2/bin
PERLBREW_PERL = perl-5.20.2
PERLBREW_ROOT = /home/njh/perl5/perlbrew
PERLBREW_VERSION = 0.75
SHELL = /bin/sh
Perl special variables (and OS-specific diagnostics, for MSWin32):
$^X = /home/njh/perl5/perlbrew/perls/perl-5.20.2/bin/perl5.20.2
$UID/$EUID = 1000 / 1000
$GID = 1000 4 24 25 29 30 44 46 103 108 116 127 1000
$EGID = 1000 4 24 25 29 30 44 46 103 108 116 127 1000
Perl module toolchain versions installed:
Module Have
------------------- --------
CPAN 2.16
CPAN::Meta 2.150005
Cwd 3.48_01
ExtUtils::CBuilder 0.280220
ExtUtils::Command 7.22
ExtUtils::Install 1.67
ExtUtils::MakeMaker 7.22
ExtUtils::Manifest 1.70
ExtUtils::ParseXS 3.30
File::Spec 3.48_01
JSON 2.90
JSON::PP 2.27400
Module::Build 0.4211
Module::Signature n/a
Parse::CPAN::Meta 1.4422
Test::Harness 3.36
Test::More 1.001014
YAML 1.23
YAML::Syck 1.30
version 0.9909
--
Summary of my perl5 (revision 5 version 20 subversion 2) configuration:
Platform:
osname=linux, osvers=3.16.0-4-amd64, archname=x86_64-linux-thread-multi
uname='linux compaq 3.16.0-4-amd64 #1 smp debian 3.16.7-ckt4-3 (2015-02-03) x86_64 gnulinux '
config_args='-de -Dprefix=/home/njh/perl5/perlbrew/perls/perl-5.20.2 -Duseithreads -Dusemultiplicity -Dusedevel -Accflags= -Aeval:scriptdir=/home/njh/perl5/perlbrew/perls/perl-5.20.2/bin'
hint=recommended, useposix=true, d_sigaction=define
useithreads=define, usemultiplicity=define
use64bitint=define, use64bitall=define, uselongdouble=undef
usemymalloc=n, bincompat5005=undef
Compiler:
cc='cc', ccflags ='-D_REENTRANT -D_GNU_SOURCE -fwrapv -fno-strict-aliasing -pipe -fstack-protector -I/usr/local/include -D_LARGEFILE_SOURCE -D_FILE_OFFSET_BITS=64',
optimize='-O2',
cppflags='-D_REENTRANT -D_GNU_SOURCE -fwrapv -fno-strict-aliasing -pipe -fstack-protector -I/usr/local/include'
ccversion='', gccversion='4.9.2', gccosandvers=''
intsize=4, longsize=8, ptrsize=8, doublesize=8, byteorder=12345678
d_longlong=define, longlongsize=8, d_longdbl=define, longdblsize=16
ivtype='long', ivsize=8, nvtype='double', nvsize=8, Off_t='off_t', lseeksize=8
alignbytes=8, prototype=define
Linker and Libraries:
ld='cc', ldflags =' -fstack-protector -L/usr/local/lib'
libpth=/usr/local/lib /usr/lib/gcc/x86_64-linux-gnu/4.9/include-fixed /usr/include/x86_64-linux-gnu /usr/lib /lib/x86_64-linux-gnu /lib/../lib /usr/lib/x86_64-linux-gnu /usr/lib/../lib /lib
libs=-lnsl -lgdbm -ldb -ldl -lm -lcrypt -lutil -lpthread -lc -lgdbm_compat
perllibs=-lnsl -ldl -lm -lcrypt -lutil -lpthread -lc
libc=, so=so, useshrplib=false, libperl=libperl.a
gnulibc_version='2.19'
Dynamic Linking:
dlsrc=dl_dlopen.xs, dlext=so, d_dlsymun=undef, ccdlflags='-Wl,-E'
cccdlflags='-fPIC', lddlflags='-shared -O2 -L/usr/local/lib -fstack-protector'
Characteristics of this binary (from libperl):
Compile-time options: HAS_TIMES MULTIPLICITY PERLIO_LAYERS
PERL_DONT_CREATE_GVSV
PERL_HASH_FUNC_ONE_AT_A_TIME_HARD
PERL_IMPLICIT_CONTEXT PERL_MALLOC_WRAP
PERL_NEW_COPY_ON_WRITE PERL_PRESERVE_IVUV
PERL_USE_DEVEL USE_64_BIT_ALL USE_64_BIT_INT
USE_ITHREADS USE_LARGE_FILES USE_LOCALE
USE_LOCALE_COLLATE USE_LOCALE_CTYPE
USE_LOCALE_NUMERIC USE_PERLIO USE_PERL_ATOF
USE_REENTRANT_API
Built under linux
Compiled at Mar 1 2015 00:34:58
%ENV:
PERL5LIB="/home/njh/.cpan/build/App-Git-Workflow-v1.0.6-23/blib/arch:/home/njh/.cpan/build/App-Git-Workflow-v1.0.6-23/blib/lib:/home/njh/.cpan/build/XML-Tiny-2.07-23/blib/arch:/home/njh/.cpan/build/XML-Tiny-2.07-23/blib/lib:/home/njh/.cpan/build/Test-Warnings-0.026-34/blib/arch:/home/njh/.cpan/build/Test-Warnings-0.026-34/blib/lib:/home/njh/.cpan/build/Git-0.42-23/blib/arch:/home/njh/.cpan/build/Git-0.42-23/blib/lib:/home/njh/.cpan/build/File-chdir-0.1010-18/blib/arch:/home/njh/.cpan/build/File-chdir-0.1010-18/blib/lib:/home/njh/.cpan/build/Error-0.17025-20/blib/arch:/home/njh/.cpan/build/Error-0.17025-20/blib/lib"
PERL5OPT=""
PERL5_CPANPLUS_IS_RUNNING="19056"
PERL5_CPAN_IS_RUNNING="19056"
PERLBREW_BASHRC_VERSION="0.75"
PERLBREW_HOME="/home/njh/.perlbrew"
PERLBREW_MANPATH="/home/njh/perl5/perlbrew/perls/perl-5.20.2/man"
PERLBREW_PATH="/home/njh/perl5/perlbrew/bin:/home/njh/perl5/perlbrew/perls/perl-5.20.2/bin"
PERLBREW_PERL="perl-5.20.2"
PERLBREW_ROOT="/home/njh/perl5/perlbrew"
PERLBREW_VERSION="0.75"
@INC:
/home/njh/.cpan/build/App-Git-Workflow-v1.0.6-23/blib/arch
/home/njh/.cpan/build/App-Git-Workflow-v1.0.6-23/blib/lib
/home/njh/.cpan/build/XML-Tiny-2.07-23/blib/arch
/home/njh/.cpan/build/XML-Tiny-2.07-23/blib/lib
/home/njh/.cpan/build/Test-Warnings-0.026-34/blib/arch
/home/njh/.cpan/build/Test-Warnings-0.026-34/blib/lib
/home/njh/.cpan/build/Git-0.42-23/blib/arch
/home/njh/.cpan/build/Git-0.42-23/blib/lib
/home/njh/.cpan/build/File-chdir-0.1010-18/blib/arch
/home/njh/.cpan/build/File-chdir-0.1010-18/blib/lib
/home/njh/.cpan/build/Error-0.17025-20/blib/arch
/home/njh/.cpan/build/Error-0.17025-20/blib/lib
/home/njh/perl5/perlbrew/perls/perl-5.20.2/lib/site_perl/5.20.2/x86_64-linux-thread-multi
/home/njh/perl5/perlbrew/perls/perl-5.20.2/lib/site_perl/5.20.2
/home/njh/perl5/perlbrew/perls/perl-5.20.2/lib/5.20.2/x86_64-linux-thread-multi
/home/njh/perl5/perlbrew/perls/perl-5.20.2/lib/5.20.2
.