Report for Web-Scraper-0.37

Back
From: metabase:user:0b89f010-c06b-11e2-94cd-ca7365ccac31
Subject: PASS Web-Scraper-0.37 v5.18.1 Mac OS X
Date: 2013-10-06T04:07:16Z

This distribution has been tested as part of the CPAN Testers
project, supporting the Perl programming language.  See
http://wiki.cpantesters.org/ for more information or email
questions to cpan-testers-discuss@perl.org


--
Dear Tatsuhiko Miyagawa,

This is a computer-generated report for Web-Scraper-0.37
on perl 5.18.1, created by CPAN-Reporter-1.2010.

Thank you for uploading your work to CPAN.  Congratulations!
All tests were successful.

Sections of this report:

    * Tester comments
    * Program output
    * Prerequisites
    * Environment and other context

------------------------------
TESTER COMMENTS
------------------------------

Additional comments from tester:

none provided

------------------------------
PROGRAM OUTPUT
------------------------------

Output from '/usr/bin/make test':

PERL_DL_NONLAZY=1 /Users/ken/perl5/perlbrew/perls/perl-5.18.1t/bin/perl "-MExtUtils::Command::MM" "-e" "test_harness(0, 'inc', 'blib/lib', 'blib/arch')" t/*.t
t/00_compile.t .......... ok
t/01_process.t .......... ok
t/02_process_multi.t .... ok
t/03_scraper_nest.t ..... ok
t/04_callback.t ......... ok
t/05_process_first.t .... ok
t/06_define.t ........... ok
t/07-live.t ............. skipped: LIVE_TEST not enabled
t/08-leak.t ............. skipped: LEAK_TEST is not defined
t/09-process_hash.t ..... ok
t/11_absolute.t ......... ok
t/12_html.t ............. ok
t/13_textnode.t ......... ok
t/14_absolute_nested.t .. ok
t/15_absolute_hash.t .... ok
t/16_filter.t ........... ok
t/17_filter_loop.t ...... ok
t/18_http_response.t .... skipped: LIVE_TEST not enabled
t/19_decode_content.t ... skipped: LIVE_TEST not enabled
t/20_comment_nodes.t .... skipped: Please upgrade HTML::TreeBuilder::XPath and HTML::TreeBuilder::LibXML modules for comment nodes supporting
t/21_html5.t ............ ok
t/redefine.t ............ ok
t/xml-simple.t .......... skipped: Test requires module 'HTML::TreeBuilder::LibXML' but it's not found
All tests successful.
Files=23, Tests=38,  3 wallclock secs ( 0.08 usr  0.04 sys +  2.53 cusr  0.30 csys =  2.95 CPU)
Result: PASS

------------------------------
PREREQUISITES
------------------------------

Prerequisite modules loaded:

requires:

    Module                   Need     Have    
    ------------------------ -------- --------
    HTML::Entities           0        3.69    
    HTML::Selector::XPath    0.03     0.16    
    HTML::Tagset             0        3.20    
    HTML::TreeBuilder        3.23     5.03    
    HTML::TreeBuilder::XPath 0.08     0.14    
    LWP                      5.827    6.05    
    perl                     5.008001 5.018001
    Scalar::Util             0        1.27    
    UNIVERSAL::require       0        0.15    
    URI                      0        1.60    
    XML::XPathEngine         0.08     0.14    
    YAML                     0        0.84    

build_requires:

    Module                   Need     Have    
    ------------------------ -------- --------
    ExtUtils::MakeMaker      6.59     6.66    
    Test::Base               0        0.60    
    Test::More               0        0.98    
    Test::Requires           0        0.07    

configure_requires:

    Module                   Need     Have    
    ------------------------ -------- --------
    ExtUtils::MakeMaker      6.59     6.66    


------------------------------
ENVIRONMENT AND OTHER CONTEXT
------------------------------

Environment variables:

    LANG = en_AU.UTF-8
    PATH = /Users/ken/perl5/perlbrew/bin:/Users/ken/perl5/perlbrew/perls/perl-5.18.1t/bin:/Users/ken/local/opt/sqlite/bin:/opt/local/bin:/opt/local/sbin:/usr/bin:/bin:/usr/sbin:/sbin:/usr/local/bin:/usr/X11/bin:/Users/ken/local/bin:.
    PATH_WITHOUT_PERLBREW = /Users/ken/local/opt/sqlite/bin:/opt/local/bin:/opt/local/sbin:/usr/bin:/bin:/usr/sbin:/sbin:/usr/local/bin:/usr/X11/bin:/Users/ken/local/bin:.
    PERL5LIB = /Users/ken/local/lib/perl
    PERL5OPT = 
    PERL5_CPANPLUS_IS_RUNNING = 82656
    PERL5_CPAN_IS_RUNNING = 82656
    PERLBREW_BASHRC_VERSION = 0.30
    PERLBREW_HOME = /Users/ken/.perlbrew
    PERLBREW_PATH = /Users/ken/perl5/perlbrew/bin:/Users/ken/perl5/perlbrew/perls/perl-5.18.1t/bin
    PERLBREW_PERL = perl-5.18.1t
    PERLBREW_ROOT = /Users/ken/perl5/perlbrew
    PERLBREW_VERSION = 0.30
    SHELL = /bin/bash
    TERM = xterm-256color
    TMPDIR = /var/folders/5q/df1h1dps5_s5xs1q4tryvvc40000gn/T/

Perl special variables (and OS-specific diagnostics, for MSWin32):

    $^X = /Users/ken/perl5/perlbrew/perls/perl-5.18.1t/bin/perl
    $UID/$EUID = 501 / 501
    $GID = 20 20 12 33 61 79 80 81 98 100 204 401 402
    $EGID = 20 20 12 33 61 79 80 81 98 100 204 401 402

Perl module toolchain versions installed:

    Module              Have    
    ------------------- --------
    CPAN                2.00    
    CPAN::Meta          2.120921
    Cwd                 3.40    
    ExtUtils::CBuilder  0.280210
    ExtUtils::Command   1.17    
    ExtUtils::Install   1.59    
    ExtUtils::MakeMaker 6.66    
    ExtUtils::Manifest  1.63    
    ExtUtils::ParseXS   3.18    
    File::Spec          3.40    
    JSON                2.59    
    JSON::PP            2.27202 
    Module::Build       0.4003  
    Module::Signature   n/a     
    Parse::CPAN::Meta   1.4404  
    Test::Harness       3.26    
    Test::More          0.98    
    YAML                0.84    
    YAML::Syck          n/a     
    version             0.9903  


--

Summary of my perl5 (revision 5 version 18 subversion 1) configuration:
   
  Platform:
    osname=darwin, osvers=11.4.2, archname=darwin-thread-multi-2level
    uname='darwin ganymede 11.4.2 darwin kernel version 11.4.2: thu aug 23 16:25:48 pdt 2012; root:xnu-1699.32.7~1release_x86_64 x86_64 '
    config_args='-de -Dprefix=/Users/ken/perl5/perlbrew/perls/perl-5.18.1t -Dusethreads'
    hint=recommended, useposix=true, d_sigaction=define
    useithreads=define, usemultiplicity=define
    useperlio=define, d_sfio=undef, uselargefiles=define, usesocks=undef
    use64bitint=define, use64bitall=define, uselongdouble=undef
    usemymalloc=n, bincompat5005=undef
  Compiler:
    cc='cc', ccflags ='-fno-common -DPERL_DARWIN -fno-strict-aliasing -pipe -fstack-protector -I/usr/local/include -I/opt/local/include',
    optimize='-O3',
    cppflags='-fno-common -DPERL_DARWIN -fno-strict-aliasing -pipe -fstack-protector -I/usr/local/include -I/opt/local/include'
    ccversion='', gccversion='4.2.1 (Based on Apple Inc. build 5658) (LLVM build 2336.1.00)', gccosandvers=''
    intsize=4, longsize=8, ptrsize=8, doublesize=8, byteorder=12345678
    d_longlong=define, longlongsize=8, d_longdbl=define, longdblsize=16
    ivtype='long', ivsize=8, nvtype='double', nvsize=8, Off_t='off_t', lseeksize=8
    alignbytes=8, prototype=define
  Linker and Libraries:
    ld='env MACOSX_DEPLOYMENT_TARGET=10.3 cc', ldflags =' -fstack-protector -L/usr/local/lib -L/opt/local/lib'
    libpth=/usr/local/lib /opt/local/lib /usr/lib
    libs=-lgdbm -ldbm -ldl -lm -lutil -lc
    perllibs=-ldl -lm -lutil -lc
    libc=, so=dylib, useshrplib=false, libperl=libperl.a
    gnulibc_version=''
  Dynamic Linking:
    dlsrc=dl_dlopen.xs, dlext=bundle, d_dlsymun=undef, ccdlflags=' '
    cccdlflags=' ', lddlflags=' -bundle -undefined dynamic_lookup -L/usr/local/lib -L/opt/local/lib -fstack-protector'


Characteristics of this binary (from libperl): 
  Compile-time options: HAS_TIMES MULTIPLICITY PERLIO_LAYERS
                        PERL_DONT_CREATE_GVSV
                        PERL_HASH_FUNC_ONE_AT_A_TIME_HARD
                        PERL_IMPLICIT_CONTEXT PERL_MALLOC_WRAP
                        PERL_PRESERVE_IVUV PERL_SAWAMPERSAND USE_64_BIT_ALL
                        USE_64_BIT_INT USE_ITHREADS USE_LARGE_FILES
                        USE_LOCALE USE_LOCALE_COLLATE USE_LOCALE_CTYPE
                        USE_LOCALE_NUMERIC USE_PERLIO USE_PERL_ATOF
                        USE_REENTRANT_API
  Built under darwin
  Compiled at Aug 28 2013 15:25:59
  %ENV:
    PERL5LIB="/Users/ken/local/lib/perl"
    PERL5OPT=""
    PERL5_CPANPLUS_IS_RUNNING="82656"
    PERL5_CPAN_IS_RUNNING="82656"
    PERLBREW_BASHRC_VERSION="0.30"
    PERLBREW_HOME="/Users/ken/.perlbrew"
    PERLBREW_PATH="/Users/ken/perl5/perlbrew/bin:/Users/ken/perl5/perlbrew/perls/perl-5.18.1t/bin"
    PERLBREW_PERL="perl-5.18.1t"
    PERLBREW_ROOT="/Users/ken/perl5/perlbrew"
    PERLBREW_VERSION="0.30"
  @INC:
    /Users/ken/local/lib/perl
    /Users/ken/perl5/perlbrew/perls/perl-5.18.1t/lib/site_perl/5.18.1/darwin-thread-multi-2level
    /Users/ken/perl5/perlbrew/perls/perl-5.18.1t/lib/site_perl/5.18.1
    /Users/ken/perl5/perlbrew/perls/perl-5.18.1t/lib/5.18.1/darwin-thread-multi-2level
    /Users/ken/perl5/perlbrew/perls/perl-5.18.1t/lib/5.18.1
    .