Net-OpenID-Consumer v1.18 Perl 5 v5.37.3 x86_64-linux-quadmath
- Status
- Pass
- From
- Andreas J. König (ANDK)
- Dist
-
Net-OpenID-Consumer v1.18
- Platform
- Perl 5 v5.37.3 x86_64-linux-quadmath
- Date
- 2022-09-10 14:49:34
- ID
- c94db786-3117-11ed-ac02-6d7e0d586dba
This distribution has been tested as part of the CPAN Testers
project, supporting the Perl programming language. See
http://wiki.cpantesters.org/ for more information or email
questions to cpan-testers-discuss@perl.org
--
Dear Roger Crew,
This is a computer-generated report for Net-OpenID-Consumer-1.18
on perl 5.37.3, created by CPAN-Reporter-1.2018.
Thank you for uploading your work to CPAN. Congratulations!
All tests were successful.
Sections of this report:
* Tester comments
* Program output
* Prerequisites
* Environment and other context
------------------------------
TESTER COMMENTS
------------------------------
Additional comments from tester:
this report is from an automated smoke testing program
and was not reviewed by a human for accuracy
------------------------------
PROGRAM OUTPUT
------------------------------
Output from '/usr/bin/make test':
PERL_DL_NONLAZY=1 "/home/sand/src/perl/repoperls/installed-perls/host/k93msid/v5.37.2-224-g29b290ccaa/ec94/bin/perl" "-MExtUtils::Command::MM" "-MTest::Harness" "-e" "undef *Test::Harness::Switches; test_harness(0, 'blib/lib', 'blib/arch')" t/*.t
t/00-use.t .............. ok
t/01-misc.t ............. ok
t/02-canonical.t ........ ok
t/03-seminfo.t .......... ok
'setup_required' callback is deprecated, use 'setup_needed' at t/04-handler.t line 66.
t/04-handler.t .......... ok
t/99-rt80329.t .......... ok
t/release-pod-syntax.t .. skipped: these tests are for release candidate testing
All tests successful.
Files=7, Tests=201, 2 wallclock secs ( 0.05 usr 0.07 sys + 1.34 cusr 0.33 csys = 1.79 CPU)
Result: PASS
------------------------------
PREREQUISITES
------------------------------
Prerequisite modules loaded:
requires:
Module Need Have
------------------- ---- --------
Digest::SHA 0 6.03
HTTP::Request 0 6.37
JSON 0 4.09
LWP::UserAgent 0 6.67
MIME::Base64 0 3.16
Net::OpenID::Common 1.19 1.20
Storable 0 3.27
Time::Local 0 1.30
URI 0 5.12
build_requires:
Module Need Have
------------------- ---- --------
CGI 0 4.54
ExtUtils::MakeMaker 0 7.64
Test::More 0 1.302191
configure_requires:
Module Need Have
------------------- ---- --------
ExtUtils::MakeMaker 0 7.64
------------------------------
ENVIRONMENT AND OTHER CONTEXT
------------------------------
Environment variables:
AUTOMATED_TESTING = 1
LANG = en_US.UTF-8
LANGUAGE = en_US:en
PATH = /home/sand/bin:/usr/local/bin:/usr/bin:/bin:/usr/games:/usr/local/perl/bin:/usr/X11/bin:/sbin:/usr/sbin
PERL5LIB =
PERL5OPT =
PERL5_CPANPLUS_IS_RUNNING = 2781
PERL5_CPAN_IS_RUNNING = 2781
PERL_CANARY_STABILITY_NOPROMPT = 1
PERL_MM_USE_DEFAULT = 1
PERL_USE_UNSAFE_INC = 1
SHELL = /usr/bin/zsh
TERM = screen
Perl special variables (and OS-specific diagnostics, for MSWin32):
$^X = /home/sand/src/perl/repoperls/installed-perls/host/k93msid/v5.37.2-224-g29b290ccaa/ec94/bin/perl
$UID/$EUID = 1005 / 1005
$GID = 1005 1005
$EGID = 1005 1005
Perl module toolchain versions installed:
Module Have
------------------- --------
CPAN 2.34
CPAN::Meta 2.150010
Cwd 3.86
ExtUtils::CBuilder 0.280237
ExtUtils::Command 7.64
ExtUtils::Install 2.20
ExtUtils::MakeMaker 7.64
ExtUtils::Manifest 1.73
ExtUtils::ParseXS 3.45
File::Spec 3.86
JSON 4.09
JSON::PP 4.11
Module::Build 0.4231
Module::Signature 0.88
Parse::CPAN::Meta 2.150010
Test::Harness 3.44
Test::More 1.302191
YAML 1.30
YAML::Syck 1.34
version 0.9929
--
Summary of my perl5 (revision 5 version 37 subversion 3) configuration:
Commit id: 29b290ccaa79f40de7d941c9a79810119f5c6363
Platform:
osname=linux
osvers=5.18.0-4-amd64
archname=x86_64-linux-quadmath
uname='linux k93msid 5.18.0-4-amd64 #1 smp preempt_dynamic debian 5.18.16-1 (2022-08-10) x86_64 gnulinux '
config_args='-Dprefix=/home/sand/src/perl/repoperls/installed-perls/host/k93msid/v5.37.2-224-g29b290ccaa/ec94 -Dmyhostname=k93msid -Dinstallusrbinperl=n -Uversiononly -Dusedevel -des -Ui_db -Dlibswanted=cl pthread socket inet nsl gdbm dbm malloc dl ld sun m crypt sec util c cposix posix ucb BSD gdbm_compat -Uuseithreads -Uuselongdouble -DEBUGGING=both -Dusequadmath'
hint=recommended
useposix=true
d_sigaction=define
useithreads=undef
usemultiplicity=undef
use64bitint=define
use64bitall=define
uselongdouble=undef
usemymalloc=n
default_inc_excludes_dot=define
Compiler:
cc='cc'
ccflags ='-fwrapv -DDEBUGGING -fno-strict-aliasing -pipe -fstack-protector-strong -I/usr/local/include -D_LARGEFILE_SOURCE -D_FILE_OFFSET_BITS=64 -D_FORTIFY_SOURCE=2'
optimize='-O2 -g'
cppflags='-fwrapv -DDEBUGGING -fno-strict-aliasing -pipe -fstack-protector-strong -I/usr/local/include'
ccversion=''
gccversion='12.1.0'
gccosandvers=''
intsize=4
longsize=8
ptrsize=8
doublesize=8
byteorder=12345678
doublekind=3
d_longlong=define
longlongsize=8
d_longdbl=define
longdblsize=16
longdblkind=3
ivtype='long'
ivsize=8
nvtype='__float128'
nvsize=16
Off_t='off_t'
lseeksize=8
alignbytes=16
prototype=define
Linker and Libraries:
ld='cc'
ldflags =' -fstack-protector-strong -L/usr/local/lib'
libpth=/usr/local/lib /usr/lib/x86_64-linux-gnu /usr/lib /usr/lib64
libs=-lpthread -lnsl -ldl -lm -lcrypt -lutil -lc -lquadmath
perllibs=-lpthread -lnsl -ldl -lm -lcrypt -lutil -lc -lquadmath
libc=/lib/x86_64-linux-gnu/libc.so.6
so=so
useshrplib=false
libperl=libperl.a
gnulibc_version='2.34'
Dynamic Linking:
dlsrc=dl_dlopen.xs
dlext=so
d_dlsymun=undef
ccdlflags='-Wl,-E'
cccdlflags='-fPIC'
lddlflags='-shared -O2 -g -L/usr/local/lib -fstack-protector-strong'
Characteristics of this binary (from libperl):
Compile-time options:
DEBUGGING
HAS_TIMES
PERLIO_LAYERS
PERL_COPY_ON_WRITE
PERL_DONT_CREATE_GVSV
PERL_HASH_FUNC_SIPHASH13
PERL_HASH_USE_SBOX32
PERL_MALLOC_WRAP
PERL_OP_PARENT
PERL_PRESERVE_IVUV
PERL_USE_DEVEL
PERL_USE_SAFE_PUTENV
USE_64_BIT_ALL
USE_64_BIT_INT
USE_LARGE_FILES
USE_LOCALE
USE_LOCALE_COLLATE
USE_LOCALE_CTYPE
USE_LOCALE_NUMERIC
USE_LOCALE_TIME
USE_PERLIO
USE_PERL_ATOF
USE_QUADMATH
Built under linux
Compiled at Aug 21 2022 04:44:05
%ENV:
PERL5LIB=""
PERL5OPT=""
PERL5_CPANPLUS_IS_RUNNING="2781"
PERL5_CPAN_IS_RUNNING="2781"
PERL_CANARY_STABILITY_NOPROMPT="1"
PERL_MM_USE_DEFAULT="1"
PERL_USE_UNSAFE_INC="1"
@INC:
/home/sand/src/perl/repoperls/installed-perls/host/k93msid/v5.37.2-224-g29b290ccaa/ec94/lib/site_perl/5.37.3/x86_64-linux-quadmath
/home/sand/src/perl/repoperls/installed-perls/host/k93msid/v5.37.2-224-g29b290ccaa/ec94/lib/site_perl/5.37.3
/home/sand/src/perl/repoperls/installed-perls/host/k93msid/v5.37.2-224-g29b290ccaa/ec94/lib/5.37.3/x86_64-linux-quadmath
/home/sand/src/perl/repoperls/installed-perls/host/k93msid/v5.37.2-224-g29b290ccaa/ec94/lib/5.37.3
.