Report for Template-Plugin-HTMLToJS-0.1

Back
From: metabase:user:775a6ef0-a30d-11e0-b928-abcd0a1a245f
Subject: PASS Template-Plugin-HTMLToJS-0.1 v5.12.4 GNU/Linux
Date: 2011-07-01T06:24:33Z

This distribution has been tested as part of the CPAN Testers
project, supporting the Perl programming language.  See
http://wiki.cpantesters.org/ for more information or email
questions to cpan-testers-discuss@perl.org


--
Dear Celogeek,

This is a computer-generated report for Template-Plugin-HTMLToJS-0.1
on perl 5.12.4, created by CPAN-Reporter-1.1902.

Thank you for uploading your work to CPAN.  Congratulations!
All tests were successful.

Sections of this report:

    * Tester comments
    * Program output
    * Prerequisites
    * Environment and other context

------------------------------
TESTER COMMENTS
------------------------------

Additional comments from tester:

this report is from an automated smoke testing program
and was not reviewed by a human for accuracy

------------------------------
PROGRAM OUTPUT
------------------------------

Output from './Build test':

t/00-compile.t .................. skipped: no tests to run
# Testing with Perl 5.012004, /smoker/5.12.4/perl/bin/perl
#     Carp version is 1.17
#     English version is 1.04
#     File::Find version is 1.15
#     File::Temp version is 0.22
#     Module::Build version is 0.3603
#     Scalar::Util version is 1.22
#     Template::Plugin::Filter version is 1.38
#     Test::More version is 0.94
#     parent version is 0.223
t/000-report-versions.t ......... ok
t/author-critic.t ............... skipped: these tests are for testing by the author
t/release-check-changes.t ....... skipped: these tests are for release candidate testing
t/release-consistent-version.t .. skipped: these tests are for release candidate testing
t/release-minimum-version.t ..... skipped: these tests are for release candidate testing
t/release-pod-coverage.t ........ skipped: these tests are for release candidate testing
t/release-unused-vars.t ......... skipped: these tests are for release candidate testing
All tests successful.
Files=8, Tests=9,  0 wallclock secs ( 0.03 usr  0.01 sys +  0.28 cusr  0.01 csys =  0.33 CPU)
Result: PASS

------------------------------
PREREQUISITES
------------------------------

Prerequisite modules loaded:

requires:

    Module                   Need   Have    
    ------------------------ ------ --------
    parent                   0      0.223   
    perl                     5.006  5.012004
    Template::Plugin::Filter 0      1.38    

build_requires:

    Module                   Need   Have    
    ------------------------ ------ --------
    Carp                     0      1.17    
    English                  0      1.04    
    File::Find               0      1.15    
    File::Temp               0      0.22    
    Module::Build            0.3601 0.3603  
    perl                     5.004  5.012004
    Scalar::Util             0      1.22    
    Test::More               0.94   0.94    

configure_requires:

    Module                   Need   Have    
    ------------------------ ------ --------
    Module::Build            0.3601 0.3603  


------------------------------
ENVIRONMENT AND OTHER CONTEXT
------------------------------

Environment variables:

    AUTOMATED_TESTING = 1
    LANG = en_US.UTF-8
    LC_ALL = C
    LC_CTYPE = en_US.UTF-8
    PATH = /usr/local/bin:/usr/bin:/bin:/usr/local/games:/usr/games
    PERL5LIB = /smoker/5.12.4/cpan/build/Template-Toolkit-2.22-HmP_Ns/blib/arch:/smoker/5.12.4/cpan/build/Template-Toolkit-2.22-HmP_Ns/blib/lib:/smoker/5.12.4/cpan/build/AppConfig-1.66-RJ19YU/blib/arch:/smoker/5.12.4/cpan/build/AppConfig-1.66-RJ19YU/blib/lib:/root/src/sex
    PERL5OPT = 
    PERL5_CPANPLUS_CONFIG = /root/.cpanplus/config
    PERL5_CPANPLUS_IS_RUNNING = 3155
    PERL5_CPAN_IS_RUNNING = 3155
    PERL5_CPAN_IS_RUNNING_IN_RECURSION = 20697,3155
    PERLDB_OPTS = ornaments=0
    PERL_ANYEVENT_DBI_TESTS = 1
    PERL_ANYEVENT_EDNS0 = 1
    PERL_ANYEVENT_NET_TESTS = 1
    PERL_ANYEVENT_PROTOCOLS = ipv4,ipv6
    PERL_ANYEVENT_STRICT = 1
    PERL_CR_SMOKER_CURRENT = Template-Plugin-HTMLToJS-0.1
    PERL_EXTUTILS_AUTOINSTALL = --defaultdeps
    PERL_MM_USE_DEFAULT = 1
    PERL_UNICODE = E
    SHELL = /bin/sh
    TERM = screen

Perl special variables (and OS-specific diagnostics, for MSWin32):

    $^X = /smoker/5.12.4/perl/bin/perl
    $UID/$EUID = 60000 / 60000
    $GID = 60000 60000
    $EGID = 60000 60000

Perl module toolchain versions installed:

    Module              Have   
    ------------------- -------
    CPAN                1.94_56
    Cwd                 3.31   
    ExtUtils::CBuilder  0.27   
    ExtUtils::Command   1.16   
    ExtUtils::Install   1.55   
    ExtUtils::MakeMaker 6.56   
    ExtUtils::Manifest  1.57   
    ExtUtils::ParseXS   2.21   
    File::Spec          3.31_01
    Module::Build       0.3603 
    Module::Signature   n/a    
    Test::Harness       3.17   
    Test::More          0.94   
    YAML                0.73   
    YAML::Syck          n/a    
    version             0.82   


--

Summary of my perl5 (revision 5 version 12 subversion 4) configuration:
   
  Platform:
    osname=linux, osvers=2.6.26-2-amd64, archname=x86_64-linux
    uname='linux rijk 2.6.26-2-amd64 #1 smp thu nov 5 02:23:12 utc 2009 x86_64 gnulinux '
    config_args='-Duselargefiles -Uuse64bitint -Dusemymalloc=n -Uusedl -Uusethreads -Uuseithreads -Uusemultiplicity -Uusesfio -Uuseshrplib -Uinstallusrbinperl -A ccflags= -g -DPERL_DISABLE_PMC -DPERL_ARENA_SIZE=16376 -DNO_PERL_MALLOC_ENV -D_GNU_SOURCE -DNDEBUG -Dcc=cc -Doptimize=-Os -ffunction-sections -fdata-sections -finline-limit=8 -ffast-math -mpush-args -mno-inline-stringops-dynamically -mno-align-stringops -mno-ieee-fp -Dldflags= -lc -lm -ldl -lpthread -Dlibs=-lm -lcrypt -Dprefix=/smoker/5.12.4/perl -Dbin=/smoker/5.12.4/perl/bin -Dprivlib=/smoker/5.12.4/perl/lib -Darchlib=/smoker/5.12.4/perl/lib -Uusevendorprefix -Dsitelib=/smoker/5.12.4/perl/lib -Dsitearch=/smoker/5.12.4/perl/lib -Uman1dir -Uman3dir -Usiteman1dir -Usiteman3dir -Dpager=/usr/bin/less -Demail=Marc Lehmann <staticperl-smoker-5.12.4@plan9.de> -Dcf_email=Marc Lehmann <staticperl-smoker-5.12.4@plan9.de> -Dcf_by=Marc Lehmann <staticperl-smoker-5.12.4@plan9.de> -Dusedl -Duseperlio -dE'
    hint=recommended, useposix=true, d_sigaction=define
    useithreads=undef, usemultiplicity=undef
    useperlio=define, d_sfio=undef, uselargefiles=define, usesocks=undef
    use64bitint=undef, use64bitall=undef, uselongdouble=undef
    usemymalloc=n, bincompat5005=undef
  Compiler:
    cc='cc', ccflags ='-g -DPERL_DISABLE_PMC -DPERL_ARENA_SIZE=16376 -DNO_PERL_MALLOC_ENV -D_GNU_SOURCE -DNDEBUG -fno-strict-aliasing -pipe -I/usr/local/include -D_LARGEFILE_SOURCE -D_FILE_OFFSET_BITS=64',
    optimize='-Os -ffunction-sections -fdata-sections -finline-limit=8 -ffast-math -mpush-args -mno-inline-stringops-dynamically -mno-align-stringops -mno-ieee-fp',
    cppflags='-g -DPERL_DISABLE_PMC -DPERL_ARENA_SIZE=16376 -DNO_PERL_MALLOC_ENV -D_GNU_SOURCE -DNDEBUG -fno-strict-aliasing -pipe -I/usr/local/include'
    ccversion='', gccversion='4.4.5', gccosandvers=''
    intsize=4, longsize=4, ptrsize=4, doublesize=8, byteorder=1234
    d_longlong=define, longlongsize=8, d_longdbl=define, longdblsize=12
    ivtype='long', ivsize=4, nvtype='double', nvsize=8, Off_t='off_t', lseeksize=8
    alignbytes=4, prototype=define
  Linker and Libraries:
    ld='cc', ldflags =' -lc -lm -ldl -lpthread -L/usr/local/lib'
    libpth=/usr/local/lib /lib/../lib /usr/lib/../lib /lib /usr/lib /usr/lib64
    libs=-lm -lcrypt
    perllibs=-lm -lcrypt
    libc=/lib/libc-2.11.2.so, so=so, useshrplib=false, libperl=libperl.a
    gnulibc_version='2.11.2'
  Dynamic Linking:
    dlsrc=dl_dlopen.xs, dlext=so, d_dlsymun=undef, ccdlflags='-Wl,-E'
    cccdlflags='-fPIC', lddlflags='-shared -Os -ffunction-sections -fdata-sections -finline-limit=8 -ffast-math -mpush-args -mno-inline-stringops-dynamically -mno-align-stringops -mno-ieee-fp -L/usr/local/lib '


Characteristics of this binary (from libperl): 
  Compile-time options: PERL_DISABLE_PMC PERL_DONT_CREATE_GVSV
                        PERL_MALLOC_WRAP USE_LARGE_FILES USE_PERLIO
                        USE_PERL_ATOF
  Built under linux
  Compiled at Jun 30 2011 21:28:30
  %ENV:
    PERL5LIB="/smoker/5.12.4/cpan/build/Template-Toolkit-2.22-HmP_Ns/blib/arch:/smoker/5.12.4/cpan/build/Template-Toolkit-2.22-HmP_Ns/blib/lib:/smoker/5.12.4/cpan/build/AppConfig-1.66-RJ19YU/blib/arch:/smoker/5.12.4/cpan/build/AppConfig-1.66-RJ19YU/blib/lib:/root/src/sex"
    PERL5OPT=""
    PERL5_CPANPLUS_CONFIG="/root/.cpanplus/config"
    PERL5_CPANPLUS_IS_RUNNING="3155"
    PERL5_CPAN_IS_RUNNING="3155"
    PERL5_CPAN_IS_RUNNING_IN_RECURSION="20697,3155"
    PERLDB_OPTS="ornaments=0"
    PERL_ANYEVENT_DBI_TESTS="1"
    PERL_ANYEVENT_EDNS0="1"
    PERL_ANYEVENT_NET_TESTS="1"
    PERL_ANYEVENT_PROTOCOLS="ipv4,ipv6"
    PERL_ANYEVENT_STRICT="1"
    PERL_CR_SMOKER_CURRENT="Template-Plugin-HTMLToJS-0.1"
    PERL_EXTUTILS_AUTOINSTALL="--defaultdeps"
    PERL_MM_USE_DEFAULT="1"
    PERL_UNICODE="E"
  @INC:
    /smoker/5.12.4/cpan/build/Template-Toolkit-2.22-HmP_Ns/blib/arch
    /smoker/5.12.4/cpan/build/Template-Toolkit-2.22-HmP_Ns/blib/lib
    /smoker/5.12.4/cpan/build/AppConfig-1.66-RJ19YU/blib/arch
    /smoker/5.12.4/cpan/build/AppConfig-1.66-RJ19YU/blib/lib
    /root/src/sex
    /smoker/5.12.4/perl/lib
    .