Report for DBIx-Schema-Changelog-0.8.0

Back
From: metabase:user:314402c4-2aae-11df-837a-5e0a49663a4f
Subject: PASS DBIx-Schema-Changelog-0.8.0 v5.16.3 FreeBSD
Date: 2015-05-24T21:56:52Z

This distribution has been tested as part of the CPAN Testers
project, supporting the Perl programming language.  See
http://wiki.cpantesters.org/ for more information or email
questions to cpan-testers-discuss@perl.org


--
Dear Mario Zieschang,

This is a computer-generated report for DBIx-Schema-Changelog-0.8.0
on perl 5.16.3, created by CPAN-Reporter-1.2014.

Thank you for uploading your work to CPAN.  Congratulations!
All tests were successful.

Sections of this report:

    * Tester comments
    * Program output
    * Prerequisites
    * Environment and other context

------------------------------
TESTER COMMENTS
------------------------------

Additional comments from tester:

none provided

------------------------------
PROGRAM OUTPUT
------------------------------

Output from '/usr/bin/make test':

PERL_DL_NONLAZY=1 "/usr/perl5.16.3t/bin/perl5.16.3" "-MExtUtils::Command::MM" "-MTest::Harness" "-e" "undef *Test::Harness::Switches; test_harness(0, 'blib/lib', 'blib/arch')" t/*.t
t/00-load.t ........ ok
t/010-changelog.t .. ok
t/020-driver.t ..... ok
DBIx::Schema::Changelog::File::Yaml. Read changelog file '/usr/home/eserte/.cpan/build/DBIx-Schema-Changelog-0.8.0-Y4ctuF/t/data/changelog/changelog.yml'. 
DBIx::Schema::Changelog::File::Yaml. Read changelog file '/usr/home/eserte/.cpan/build/DBIx-Schema-Changelog-0.8.0-Y4ctuF/t/data/changelog/changelog-01.yml'. 
DBIx::Schema::Changelog::Action::Index (36) Create index is not supported!  
DBIx::Schema::Changelog::Action::Sql (34). WARNING: Execute sql statements can lead very likely to incompatibilities.
DBIx::Schema::Changelog::Action::Column (72) Drop column is not supported!
DBIx::Schema::Changelog::Action::Table (190). Add constraint is not supported!
DBIx::Schema::Changelog::Action::Table (190). Add constraint is not supported!
t/021-sqlite.t ..... ok
DBIx::Schema::Changelog::File::Yaml. Read changelog file '/usr/home/eserte/.cpan/build/DBIx-Schema-Changelog-0.8.0-Y4ctuF/t/data/changelog/changelog.yml'. 
DBIx::Schema::Changelog::File::Yaml. Read changelog file '/usr/home/eserte/.cpan/build/DBIx-Schema-Changelog-0.8.0-Y4ctuF/t/data/changelog/changelog-01.yml'. 
DBIx::Schema::Changelog::Action::Sql (34). WARNING: Execute sql statements can lead very likely to incompatibilities.
t/022-pg.t ......... ok
t/030-changeset.t .. ok
t/040-action.t ..... ok
DBIx::Schema::Changelog::Action::Column (57) Alter column is not supported!
DBIx::Schema::Changelog::Action::Column (72) Drop column is not supported!
t/0401-column.t .... ok
t/0402-action.t .... ok
t/0403-index.t ..... ok
t/0404-table.t ..... ok
t/0405-view.t ...... ok
t/0406-sql.t ....... ok
t/0407-sequence.t .. ok
t/0408-default.t ... ok
t/0409-function.t .. ok
t/0410-trigger.t ... ok
t/0411-entry.t ..... ok
t/050-command.t .... ok
t/051-base.t ....... ok
t/052-driver.t ..... ok
t/053-file.t ....... ok
DBIx::Schema::Changelog::File::Yaml. Read changelog file '/usr/home/eserte/.cpan/build/DBIx-Schema-Changelog-0.8.0-Y4ctuF/t/../.tmp/changelog/changelog.yml'. 
DBIx::Schema::Changelog::File::Yaml. Read changelog file '/usr/home/eserte/.cpan/build/DBIx-Schema-Changelog-0.8.0-Y4ctuF/t/../.tmp/changelog/changelog-01.yml'. 
t/054-changeset.t .. ok
t/060-file.t ....... ok
DBIx::Schema::Changelog::File::Yaml. Read changelog file '/usr/home/eserte/.cpan/build/DBIx-Schema-Changelog-0.8.0-Y4ctuF/t/data/changelog/changelog.yml'. 
DBIx::Schema::Changelog::File::Yaml. Read changelog file '/usr/home/eserte/.cpan/build/DBIx-Schema-Changelog-0.8.0-Y4ctuF/t/data/changelog/changelog-01.yml'. 
t/061-yaml.t ....... ok
DBIx::Schema::Changelog::File::JSON. Read changelog file '/usr/home/eserte/.cpan/build/DBIx-Schema-Changelog-0.8.0-Y4ctuF/t/data/changelog/changelog.json'. 
DBIx::Schema::Changelog::File::JSON. Read changelog file '/usr/home/eserte/.cpan/build/DBIx-Schema-Changelog-0.8.0-Y4ctuF/t/data/changelog/changelog-01.json'. 
t/062-json.t ....... ok
Could not remove /usr/home/eserte/.cpan/build/DBIx-Schema-Changelog-0.8.0-Y4ctuF/t/../.tmp: Datei oder Verzeichnis nicht gefunden at t/999-delete.t line 17.
t/999-delete.t ..... ok
t/boilerplate.t .... ok
t/manifest.t ....... skipped: Author tests not required for installation
t/pod-coverage.t ... skipped: Author tests not required for installation
t/pod-spelling.t ... skipped: Author tests not required for installation
t/pod.t ............ skipped: Author tests not required for installation
All tests successful.

Test Summary Report
-------------------
t/boilerplate.t  (Wstat: 0 Tests: 5 Failed: 0)
  TODO passed:   1-3
Files=32, Tests=222, 544 wallclock secs ( 0.45 usr  0.17 sys + 88.81 cusr 14.78 csys = 104.21 CPU)
Result: PASS

------------------------------
PREREQUISITES
------------------------------

Prerequisite modules loaded:

requires:

    Module                       Need     Have    
    ---------------------------- -------- --------
    DBD::SQLite                  1.4      1.46    
    DBI                          1.632    1.633   
    File::Spec                   0        3.47    
    Getopt::Long                 2.42     2.45    
    Hash::MD5                    0.05     0.05    
    JSON::Parse                  0.31     0.31    
    Method::Signatures::Simple   1.07     1.07    
    Moose                        2.1403   2.1404  
    MooseX::HasDefaults::RO      0        0       
    MooseX::Types::LoadableClass 0.013    0.013   
    MooseX::Types::Moose         0.45     0.45    
    MooseX::Types::Path::Class   0.06     0.06    
    MooseX::Types::PerlVersion   0.002    0.002   
    Path::Class                  0.3      0.35    
    perl                         5.010000 5.016003
    Pod::Coverage::TrustPod      0        0.100003
    Pod::Usage                   0        1.66    
    SQL::Abstract                1.81     1.81    
    Storable                     2.49     2.51    
    Test::CheckManifest          0        1.29    
    Test::Cmd                    0        1.07    
    Test::Exception              0        0.38    
    Test::Pod::Coverage          0        1.10    
    Test::PostgreSQL             1.01     1.06    
    Test::Requires               0        0.08    
    Test::Spelling               0        0.20    
    Text::Trim                   1.02     1.02    
    Time::Piece                  1.27     1.30    
    YAML                         1.13     1.15    
    YAML::XS                     0.55     0.59    

build_requires:

    Module                       Need     Have    
    ---------------------------- -------- --------
    DBD::SQLite                  1.4      1.46    
    DBI                          1.632    1.633   
    File::Spec                   0        3.47    
    Getopt::Long                 2.42     2.45    
    Hash::MD5                    0.05     0.05    
    JSON::Parse                  0.31     0.31    
    Method::Signatures::Simple   1.07     1.07    
    Moose                        2.1403   2.1404  
    MooseX::HasDefaults::RO      0        0       
    MooseX::Types::LoadableClass 0.013    0.013   
    MooseX::Types::Moose         0.45     0.45    
    MooseX::Types::Path::Class   0.06     0.06    
    MooseX::Types::PerlVersion   0.002    0.002   
    Path::Class                  0.3      0.35    
    Pod::Coverage::TrustPod      0        0.100003
    Pod::Usage                   0        1.66    
    SQL::Abstract                1.81     1.81    
    Storable                     2.49     2.51    
    Test::CheckManifest          0        1.29    
    Test::Cmd                    0        1.07    
    Test::Exception              0        0.38    
    Test::Pod::Coverage          0        1.10    
    Test::PostgreSQL             1.01     1.06    
    Test::Requires               0        0.08    
    Test::Spelling               0        0.20    
    Text::Trim                   1.02     1.02    
    Time::Piece                  1.27     1.30    
    YAML                         1.13     1.15    
    YAML::XS                     0.55     0.59    

configure_requires:

    Module                       Need     Have    
    ---------------------------- -------- --------
    ExtUtils::MakeMaker          0        7.04    


------------------------------
ENVIRONMENT AND OTHER CONTEXT
------------------------------

Environment variables:

    DBIC_NO_WARN_BAD_PERL = 1
    LC_ALL = de_DE.ISO8859-1
    PATH = /usr/local/bin:/usr/bin:/bin:/usr/local/sbin:/usr/sbin:/sbin:/home/cpansand/bin/freebsd9.1:/home/cpansand/bin/sh:/home/cpansand/bin:/usr/games:/home/cpansand/devel:/usr/home/eserte/src/srezic-misc/scripts
    PERL5LIB = 
    PERL5OPT = 
    PERL5_CPANPLUS_IS_RUNNING = 2723
    PERL5_CPAN_IS_RUNNING = 2723
    PERL5_CPAN_IS_RUNNING_IN_RECURSION = 2700,2723
    PERLDOC = -MPod::Perldoc::ToTextOverstrike
    PERL_BATCH = yes
    PERL_CPAN_REPORTER_CONFIG = /var/tmp/cpansmoker-1023/cpanreporter_000_config.ini
    PERL_EXTUTILS_AUTOINSTALL = --defaultdeps
    PERL_HTML_DISPLAY_CLASS = HTML::Display::Mozilla
    SHELL = /usr/local/bin/zsh
    TERM = screen
    TMPDIR = /var/tmp/cpansmoker-1023

Perl special variables (and OS-specific diagnostics, for MSWin32):

    $^X = /usr/perl5.16.3t/bin/perl5.16.3
    $UID/$EUID = 1023 / 1023
    $GID = 1023 1023
    $EGID = 1023 1023

Perl module toolchain versions installed:

    Module              Have    
    ------------------- --------
    CPAN                1.9800  
    CPAN::Meta          2.150001
    Cwd                 3.47    
    ExtUtils::CBuilder  0.280220
    ExtUtils::Command   1.20    
    ExtUtils::Install   1.68    
    ExtUtils::MakeMaker 7.04    
    ExtUtils::Manifest  1.69    
    ExtUtils::ParseXS   3.24    
    File::Spec          3.47    
    JSON                2.90    
    JSON::PP            2.27300 
    Module::Build       0.4212  
    Module::Signature   0.79    
    Parse::CPAN::Meta   1.4414  
    Test::Harness       3.35    
    Test::More          1.001014
    YAML                1.15    
    YAML::Syck          1.29    
    version             0.9912  


--

Summary of my perl5 (revision 5 version 16 subversion 3) configuration:
   
  Platform:
    osname=freebsd, osvers=9.2-release-p4, archname=amd64-freebsd-thread-multi
    uname='freebsd cvrsnica-freebsd-92 9.2-release-p4 freebsd 9.2-release-p4 #0: tue apr 8 18:08:22 utc 2014 root@amd64-builder.daemonology.net:usrobjusrsrcsysgeneric amd64 '
    config_args='-ds -e -Dprefix=/usr/perl5.16.3t -Dusethreads'
    hint=recommended, useposix=true, d_sigaction=define
    useithreads=define, usemultiplicity=define
    useperlio=define, d_sfio=undef, uselargefiles=define, usesocks=undef
    use64bitint=define, use64bitall=define, uselongdouble=undef
    usemymalloc=n, bincompat5005=undef
  Compiler:
    cc='cc', ccflags ='-DHAS_FPSETMASK -DHAS_FLOATINGPOINT_H -fno-strict-aliasing -pipe -fstack-protector -I/usr/local/include',
    optimize='-O',
    cppflags='-DHAS_FPSETMASK -DHAS_FLOATINGPOINT_H -fno-strict-aliasing -pipe -fstack-protector -I/usr/local/include'
    ccversion='', gccversion='4.2.1 20070831 patched [FreeBSD]', gccosandvers=''
    intsize=4, longsize=8, ptrsize=8, doublesize=8, byteorder=12345678
    d_longlong=define, longlongsize=8, d_longdbl=define, longdblsize=16
    ivtype='long', ivsize=8, nvtype='double', nvsize=8, Off_t='off_t', lseeksize=8
    alignbytes=8, prototype=define
  Linker and Libraries:
    ld='cc', ldflags ='-pthread -Wl,-E  -fstack-protector -L/usr/local/lib'
    libpth=/usr/lib /usr/local/lib
    libs=-lgdbm -lm -lcrypt
    perllibs=-lm -lcrypt
    libc=, so=so, useshrplib=false, libperl=libperl.a
    gnulibc_version=''
  Dynamic Linking:
    dlsrc=dl_dlopen.xs, dlext=so, d_dlsymun=undef, ccdlflags=' '
    cccdlflags='-DPIC -fPIC', lddlflags='-shared  -L/usr/local/lib -fstack-protector'


Characteristics of this binary (from libperl): 
  Compile-time options: HAS_TIMES MULTIPLICITY PERLIO_LAYERS
                        PERL_DONT_CREATE_GVSV PERL_IMPLICIT_CONTEXT
                        PERL_MALLOC_WRAP PERL_PRESERVE_IVUV USE_64_BIT_ALL
                        USE_64_BIT_INT USE_ITHREADS USE_LARGE_FILES
                        USE_LOCALE USE_LOCALE_COLLATE USE_LOCALE_CTYPE
                        USE_LOCALE_NUMERIC USE_PERLIO USE_PERL_ATOF
                        USE_REENTRANT_API
  Built under freebsd
  Compiled at May 16 2014 07:49:48
  %ENV:
    PERL5LIB=""
    PERL5OPT=""
    PERL5_CPANPLUS_IS_RUNNING="2723"
    PERL5_CPAN_IS_RUNNING="2723"
    PERL5_CPAN_IS_RUNNING_IN_RECURSION="2700,2723"
    PERLDOC="-MPod::Perldoc::ToTextOverstrike"
    PERL_BATCH="yes"
    PERL_CPAN_REPORTER_CONFIG="/var/tmp/cpansmoker-1023/cpanreporter_000_config.ini"
    PERL_EXTUTILS_AUTOINSTALL="--defaultdeps"
    PERL_HTML_DISPLAY_CLASS="HTML::Display::Mozilla"
  @INC:
    /usr/perl5.16.3t/lib/site_perl/5.16.3/amd64-freebsd-thread-multi
    /usr/perl5.16.3t/lib/site_perl/5.16.3
    /usr/perl5.16.3t/lib/5.16.3/amd64-freebsd-thread-multi
    /usr/perl5.16.3t/lib/5.16.3
    .