Config-Structured v2.003 Perl 5 v5.37.11 x86_64-linux-thread-multi-ld
- Status
- Pass
- From
- Andreas J. König (ANDK)
- Dist
-
Config-Structured v2.003
- Platform
- Perl 5 v5.37.11 x86_64-linux-thread-multi-ld
- Date
- 2023-05-17 04:39:19
- ID
- c95faf36-f46c-11ed-9cc8-bf2b20055bb0
This distribution has been tested as part of the CPAN Testers
project, supporting the Perl programming language. See
http://wiki.cpantesters.org/ for more information or email
questions to cpan-testers-discuss@perl.org
--
Dear Mark Tyrrell,
This is a computer-generated report for Config-Structured-2.003
on perl 5.37.11, created by CPAN-Reporter-1.2019.
Thank you for uploading your work to CPAN. Congratulations!
All tests were successful.
Sections of this report:
* Tester comments
* Program output
* Prerequisites
* Environment and other context
------------------------------
TESTER COMMENTS
------------------------------
Additional comments from tester:
this report is from an automated smoke testing program
and was not reviewed by a human for accuracy
------------------------------
PROGRAM OUTPUT
------------------------------
Output from '/usr/bin/make test':
PERL_DL_NONLAZY=1 "/tmp/basesmoker-reloperl-lwvI/bin/perl" "-MExtUtils::Command::MM" "-MTest::Harness" "-e" "undef *Test::Harness::Switches; test_harness(0, 'blib/lib', 'blib/arch')" t/*.t
#
# Versions for all modules listed in MYMETA.json (including optional ones):
#
# === Configure Requires ===
#
# Module Want Have
# ------------------- ---- ----
# ExtUtils::MakeMaker any 7.70
#
# === Build Requires ===
#
# Module Want Have
# ------------------- ---- ----
# ExtUtils::MakeMaker any 7.70
#
# === Test Requires ===
#
# Module Want Have
# ------------------- ---- --------
# ExtUtils::MakeMaker any 7.70
# File::Slurp any 9999.32
# File::Spec any 3.88
# Test::Exception any 0.43
# Test::More any 1.302195
# Test::Warn any 0.37
#
# === Test Recommends ===
#
# Module Want Have
# ---------- -------- --------
# CPAN::Meta 2.120900 2.150010
#
# === Runtime Requires ===
#
# Module Want Have
# ---------------------------- ---- --------
# Carp any 1.54
# Data::DPath any 0.58
# Data::Printer any 1.001000
# File::Basename any 2.86
# IO::All any 0.87
# JSON any 4.10
# List::Util any 1.63
# Mojo::DynamicMethods any undef
# Moose any 2.2203
# Moose::Util::TypeConstraints any 2.2203
# Readonly any 2.05
# Syntax::Keyword::Junction any 0.003008
# Syntax::Keyword::Try any 0.28
# Text::Glob any 0.11
# YAML::XS any 0.88
# experimental any 0.031
# strict any 1.12
# warnings any 1.64
#
t/00-report-prereqs.t ... ok
Smartmatch is deprecated at (eval 184) line 8.
Smartmatch is deprecated at (eval 184) line 15.
Smartmatch is deprecated at (eval 185) line 8.
Smartmatch is deprecated at (eval 185) line 15.
Smartmatch is deprecated at (eval 186) line 8.
Smartmatch is deprecated at (eval 186) line 15.
Smartmatch is deprecated at (eval 187) line 11.
Smartmatch is deprecated at (eval 187) line 21.
t/01_deserialize.t ...... ok
Smartmatch is deprecated at (eval 184) line 8.
Smartmatch is deprecated at (eval 184) line 15.
Smartmatch is deprecated at (eval 185) line 8.
Smartmatch is deprecated at (eval 185) line 15.
Smartmatch is deprecated at (eval 186) line 8.
Smartmatch is deprecated at (eval 186) line 15.
Smartmatch is deprecated at (eval 187) line 11.
Smartmatch is deprecated at (eval 187) line 21.
t/02_reserved.t ......... ok
Smartmatch is deprecated at (eval 185) line 8.
Smartmatch is deprecated at (eval 185) line 15.
Smartmatch is deprecated at (eval 186) line 8.
Smartmatch is deprecated at (eval 186) line 15.
Smartmatch is deprecated at (eval 187) line 8.
Smartmatch is deprecated at (eval 187) line 15.
Smartmatch is deprecated at (eval 188) line 11.
Smartmatch is deprecated at (eval 188) line 21.
t/03_module_args.t ...... ok
Smartmatch is deprecated at (eval 184) line 8.
Smartmatch is deprecated at (eval 184) line 15.
Smartmatch is deprecated at (eval 185) line 8.
Smartmatch is deprecated at (eval 185) line 15.
Smartmatch is deprecated at (eval 186) line 8.
Smartmatch is deprecated at (eval 186) line 15.
Smartmatch is deprecated at (eval 187) line 11.
Smartmatch is deprecated at (eval 187) line 21.
t/04_children.t ......... ok
Smartmatch is deprecated at (eval 184) line 8.
Smartmatch is deprecated at (eval 184) line 15.
Smartmatch is deprecated at (eval 185) line 8.
Smartmatch is deprecated at (eval 185) line 15.
Smartmatch is deprecated at (eval 186) line 8.
Smartmatch is deprecated at (eval 186) line 15.
Smartmatch is deprecated at (eval 187) line 11.
Smartmatch is deprecated at (eval 187) line 21.
t/10_from_default.t ..... ok
Smartmatch is deprecated at (eval 184) line 8.
Smartmatch is deprecated at (eval 184) line 15.
Smartmatch is deprecated at (eval 185) line 8.
Smartmatch is deprecated at (eval 185) line 15.
Smartmatch is deprecated at (eval 186) line 8.
Smartmatch is deprecated at (eval 186) line 15.
Smartmatch is deprecated at (eval 187) line 11.
Smartmatch is deprecated at (eval 187) line 21.
t/11_from_env.t ......... ok
Smartmatch is deprecated at (eval 184) line 8.
Smartmatch is deprecated at (eval 184) line 15.
Smartmatch is deprecated at (eval 185) line 8.
Smartmatch is deprecated at (eval 185) line 15.
Smartmatch is deprecated at (eval 186) line 8.
Smartmatch is deprecated at (eval 186) line 15.
Smartmatch is deprecated at (eval 187) line 11.
Smartmatch is deprecated at (eval 187) line 21.
t/12_from_file.t ........ ok
Smartmatch is deprecated at (eval 184) line 8.
Smartmatch is deprecated at (eval 184) line 15.
Smartmatch is deprecated at (eval 185) line 8.
Smartmatch is deprecated at (eval 185) line 15.
Smartmatch is deprecated at (eval 186) line 8.
Smartmatch is deprecated at (eval 186) line 15.
Smartmatch is deprecated at (eval 187) line 11.
Smartmatch is deprecated at (eval 187) line 21.
t/20_typechecking.t ..... ok
Smartmatch is deprecated at (eval 184) line 8.
Smartmatch is deprecated at (eval 184) line 15.
Smartmatch is deprecated at (eval 185) line 8.
Smartmatch is deprecated at (eval 185) line 15.
Smartmatch is deprecated at (eval 186) line 8.
Smartmatch is deprecated at (eval 186) line 15.
Smartmatch is deprecated at (eval 187) line 11.
Smartmatch is deprecated at (eval 187) line 21.
t/30_on_access_hooks.t .. ok
Smartmatch is deprecated at (eval 184) line 8.
Smartmatch is deprecated at (eval 184) line 15.
Smartmatch is deprecated at (eval 185) line 8.
Smartmatch is deprecated at (eval 185) line 15.
Smartmatch is deprecated at (eval 186) line 8.
Smartmatch is deprecated at (eval 186) line 15.
Smartmatch is deprecated at (eval 187) line 11.
Smartmatch is deprecated at (eval 187) line 21.
t/31_on_load_hooks.t .... ok
Smartmatch is deprecated at (eval 184) line 8.
Smartmatch is deprecated at (eval 184) line 15.
Smartmatch is deprecated at (eval 185) line 8.
Smartmatch is deprecated at (eval 185) line 15.
Smartmatch is deprecated at (eval 186) line 8.
Smartmatch is deprecated at (eval 186) line 15.
Smartmatch is deprecated at (eval 187) line 11.
Smartmatch is deprecated at (eval 187) line 21.
t/32_wildcard_hooks.t ... ok
All tests successful.
Files=12, Tests=34, 5 wallclock secs ( 0.04 usr 0.01 sys + 4.40 cusr 0.68 csys = 5.13 CPU)
Result: PASS
------------------------------
PREREQUISITES
------------------------------
Prerequisite modules loaded:
requires:
Module Need Have
---------------------------- ----- --------
Carp 0 1.54
Data::DPath 0 0.58
Data::Printer 0 1.001000
experimental 0 0.031
File::Basename 0 2.86
IO::All 0 0.87
JSON 0 4.10
List::Util 0 1.63
Mojo::DynamicMethods 0 0
Moose 0 2.2203
Moose::Util::TypeConstraints 0 2.2203
perl 5.022 5.037011
Readonly 0 2.05
strict 0 1.12
Syntax::Keyword::Junction 0 0.003008
Syntax::Keyword::Try 0 0.28
Text::Glob 0 0.11
warnings 0 1.64
YAML::XS 0 0.88
build_requires:
Module Need Have
---------------------------- ----- --------
ExtUtils::MakeMaker 0 7.70
File::Slurp 0 9999.32
File::Spec 0 3.88
Test::Exception 0 0.43
Test::More 0 1.302195
Test::Warn 0 0.37
configure_requires:
Module Need Have
---------------------------- ----- --------
ExtUtils::MakeMaker 0 7.70
------------------------------
ENVIRONMENT AND OTHER CONTEXT
------------------------------
Environment variables:
AUTOMATED_TESTING = 1
LANG = en_US.UTF-8
LC_ADDRESS = de_DE.UTF-8
LC_IDENTIFICATION = de_DE.UTF-8
LC_MEASUREMENT = de_DE.UTF-8
LC_MONETARY = de_DE.UTF-8
LC_NAME = de_DE.UTF-8
LC_NUMERIC = de_DE.UTF-8
LC_PAPER = de_DE.UTF-8
LC_TELEPHONE = de_DE.UTF-8
LC_TIME = de_DE.UTF-8
PATH = /home/sand/bin:/usr/local/bin:/usr/local/sbin:/usr/sbin:/usr/bin:/sbin:/bin:/usr/games:/usr/local/games:/snap/bin:/usr/local/perl/bin:/usr/X11/bin
PERL = /tmp/basesmoker-reloperl-lwvI/bin/perl
PERL5LIB = /tmp/loop_over_bdir-22320-uFEJxJ/Dpkg-1.21.19-0/blib/arch:/tmp/loop_over_bdir-22320-uFEJxJ/Dpkg-1.21.19-0/blib/lib:/tmp/loop_over_bdir-22320-uFEJxJ/MP3-PodcastFetch-1.05-0/blib/arch:/tmp/loop_over_bdir-22320-uFEJxJ/MP3-PodcastFetch-1.05-0/blib/lib:/tmp/loop_over_bdir-22320-uFEJxJ/Debian-Packages-0.03-0/blib/arch:/tmp/loop_over_bdir-22320-uFEJxJ/Debian-Packages-0.03-0/blib/lib:/tmp/loop_over_bdir-22320-uFEJxJ/Devel-Required-0.16-0/blib/arch:/tmp/loop_over_bdir-22320-uFEJxJ/Devel-Required-0.16-0/blib/lib:/tmp/loop_over_bdir-22320-uFEJxJ/RDF-NLP-SPARQLQuery-0.1-0/blib/arch:/tmp/loop_over_bdir-22320-uFEJxJ/RDF-NLP-SPARQLQuery-0.1-0/blib/lib
PERL5OPT =
PERL5_CPANPLUS_IS_RUNNING = 22328
PERL5_CPAN_IS_RUNNING = 22328
PERL_CANARY_STABILITY_NOPROMPT = 1
PERL_MM_USE_DEFAULT = 1
PERL_USE_UNSAFE_INC = 1
SHELL = /usr/bin/zsh
TERM = screen
Perl special variables (and OS-specific diagnostics, for MSWin32):
$^X = /tmp/basesmoker-reloperl-lwvI/bin/perl
$UID/$EUID = 1005 / 1005
$GID = 1005 1005
$EGID = 1005 1005
Perl module toolchain versions installed:
Module Have
------------------- --------
CPAN 2.35
CPAN::Meta 2.150010
Cwd 3.89
ExtUtils::CBuilder 0.280238
ExtUtils::Command 7.70
ExtUtils::Install 2.22
ExtUtils::MakeMaker 7.70
ExtUtils::Manifest 1.73
ExtUtils::ParseXS 3.50
File::Spec 3.88
JSON 4.10
JSON::PP 4.16
Module::Build 0.4234
Module::Signature 0.88
Parse::CPAN::Meta 2.150010
Test2 1.302195
Test::Harness 3.44
Test::More 1.302195
YAML 1.30
YAML::Syck 1.34
version 0.9929
--
Summary of my perl5 (revision 5 version 37 subversion 11) configuration:
Commit id: f94aafcf7b0649f7058ce2679b1be428d0b1bca8
Platform:
osname=linux
osvers=5.19.0-41-generic
archname=x86_64-linux-thread-multi-ld
uname='linux k93jammy 5.19.0-41-generic #42~22.04.1-ubuntu smp preempt_dynamic tue apr 18 17:40:00 utc 2 x86_64 x86_64 x86_64 gnulinux '
config_args='-Dprefix=/home/sand/src/perl/repoperls/installed-perls/host/k93jammy/v5.37.11/322f -Dmyhostname=k93jammy -Dinstallusrbinperl=n -Uversiononly -Dusedevel -des -Ui_db -Dlibswanted=cl pthread socket inet nsl gdbm dbm malloc dl ld sun m crypt sec util c cposix posix ucb BSD gdbm_compat -Duseithreads -Duselongdouble -DEBUGGING=-g'
hint=recommended
useposix=true
d_sigaction=define
useithreads=define
usemultiplicity=define
use64bitint=define
use64bitall=define
uselongdouble=define
usemymalloc=n
default_inc_excludes_dot=define
Compiler:
cc='cc'
ccflags ='-D_REENTRANT -D_GNU_SOURCE -fwrapv -fno-strict-aliasing -pipe -fstack-protector-strong -I/usr/local/include -D_LARGEFILE_SOURCE -D_FILE_OFFSET_BITS=64'
optimize='-O2 -g'
cppflags='-D_REENTRANT -D_GNU_SOURCE -fwrapv -fno-strict-aliasing -pipe -fstack-protector-strong -I/usr/local/include'
ccversion=''
gccversion='11.3.0'
gccosandvers=''
intsize=4
longsize=8
ptrsize=8
doublesize=8
byteorder=12345678
doublekind=3
d_longlong=define
longlongsize=8
d_longdbl=define
longdblsize=16
longdblkind=3
ivtype='long'
ivsize=8
nvtype='long double'
nvsize=16
Off_t='off_t'
lseeksize=8
alignbytes=16
prototype=define
Linker and Libraries:
ld='cc'
ldflags =' -fstack-protector-strong -L/usr/local/lib'
libpth=/usr/local/lib /usr/lib/x86_64-linux-gnu /usr/lib /usr/lib64
libs=-lpthread -lnsl -ldl -lm -lcrypt -lutil -lc
perllibs=-lpthread -lnsl -ldl -lm -lcrypt -lutil -lc
libc=/lib/x86_64-linux-gnu/libc.so.6
so=so
useshrplib=false
libperl=libperl.a
gnulibc_version='2.35'
Dynamic Linking:
dlsrc=dl_dlopen.xs
dlext=so
d_dlsymun=undef
ccdlflags='-Wl,-E'
cccdlflags='-fPIC'
lddlflags='-shared -O2 -g -L/usr/local/lib -fstack-protector-strong'
Characteristics of this binary (from libperl):
Compile-time options:
HAS_LONG_DOUBLE
HAS_STRTOLD
HAS_TIMES
MULTIPLICITY
PERLIO_LAYERS
PERL_COPY_ON_WRITE
PERL_DONT_CREATE_GVSV
PERL_HASH_FUNC_SIPHASH13
PERL_HASH_USE_SBOX32
PERL_MALLOC_WRAP
PERL_OP_PARENT
PERL_PRESERVE_IVUV
PERL_USE_DEVEL
PERL_USE_SAFE_PUTENV
USE_64_BIT_ALL
USE_64_BIT_INT
USE_ITHREADS
USE_LARGE_FILES
USE_LOCALE
USE_LOCALE_COLLATE
USE_LOCALE_CTYPE
USE_LOCALE_NUMERIC
USE_LOCALE_TIME
USE_LONG_DOUBLE
USE_PERLIO
USE_PERL_ATOF
USE_REENTRANT_API
USE_THREAD_SAFE_LOCALE
Built under linux
Compiled at May 14 2023 16:31:39
%ENV:
PERL="/tmp/basesmoker-reloperl-lwvI/bin/perl"
PERL5LIB="/tmp/loop_over_bdir-22320-uFEJxJ/Dpkg-1.21.19-0/blib/arch:/tmp/loop_over_bdir-22320-uFEJxJ/Dpkg-1.21.19-0/blib/lib:/tmp/loop_over_bdir-22320-uFEJxJ/MP3-PodcastFetch-1.05-0/blib/arch:/tmp/loop_over_bdir-22320-uFEJxJ/MP3-PodcastFetch-1.05-0/blib/lib:/tmp/loop_over_bdir-22320-uFEJxJ/Debian-Packages-0.03-0/blib/arch:/tmp/loop_over_bdir-22320-uFEJxJ/Debian-Packages-0.03-0/blib/lib:/tmp/loop_over_bdir-22320-uFEJxJ/Devel-Required-0.16-0/blib/arch:/tmp/loop_over_bdir-22320-uFEJxJ/Devel-Required-0.16-0/blib/lib:/tmp/loop_over_bdir-22320-uFEJxJ/RDF-NLP-SPARQLQuery-0.1-0/blib/arch:/tmp/loop_over_bdir-22320-uFEJxJ/RDF-NLP-SPARQLQuery-0.1-0/blib/lib"
PERL5OPT=""
PERL5_CPANPLUS_IS_RUNNING="22328"
PERL5_CPAN_IS_RUNNING="22328"
PERL_CANARY_STABILITY_NOPROMPT="1"
PERL_MM_USE_DEFAULT="1"
PERL_USE_UNSAFE_INC="1"
@INC:
/tmp/loop_over_bdir-22320-uFEJxJ/Dpkg-1.21.19-0/blib/arch
/tmp/loop_over_bdir-22320-uFEJxJ/Dpkg-1.21.19-0/blib/lib
/tmp/loop_over_bdir-22320-uFEJxJ/MP3-PodcastFetch-1.05-0/blib/arch
/tmp/loop_over_bdir-22320-uFEJxJ/MP3-PodcastFetch-1.05-0/blib/lib
/tmp/loop_over_bdir-22320-uFEJxJ/Debian-Packages-0.03-0/blib/arch
/tmp/loop_over_bdir-22320-uFEJxJ/Debian-Packages-0.03-0/blib/lib
/tmp/loop_over_bdir-22320-uFEJxJ/Devel-Required-0.16-0/blib/arch
/tmp/loop_over_bdir-22320-uFEJxJ/Devel-Required-0.16-0/blib/lib
/tmp/loop_over_bdir-22320-uFEJxJ/RDF-NLP-SPARQLQuery-0.1-0/blib/arch
/tmp/loop_over_bdir-22320-uFEJxJ/RDF-NLP-SPARQLQuery-0.1-0/blib/lib
/home/sand/src/perl/repoperls/installed-perls/host/k93jammy/v5.37.11/322f/lib/site_perl/5.37.11/x86_64-linux-thread-multi-ld
/home/sand/src/perl/repoperls/installed-perls/host/k93jammy/v5.37.11/322f/lib/site_perl/5.37.11
/home/sand/src/perl/repoperls/installed-perls/host/k93jammy/v5.37.11/322f/lib/5.37.11/x86_64-linux-thread-multi-ld
/home/sand/src/perl/repoperls/installed-perls/host/k93jammy/v5.37.11/322f/lib/5.37.11
.