Report for DBIx-Connector-0.52

Back
From: metabase:user:8286d1fc-3d52-11e2-9ec4-cb9cdd236785
Subject: PASS DBIx-Connector-0.52 v5.14.3 GNU/Linux
Date: 2013-03-06T18:00:53Z

This distribution has been tested as part of the CPAN Testers
project, supporting the Perl programming language.  See
http://wiki.cpantesters.org/ for more information or email
questions to cpan-testers-discuss@perl.org


--
Dear David E. Wheeler,

This is a computer-generated report for DBIx-Connector-0.52
on perl 5.14.3, created by CPAN-Reporter-1.2009.

Thank you for uploading your work to CPAN.  Congratulations!
All tests were successful.

Sections of this report:

    * Tester comments
    * Program output
    * Prerequisites
    * Environment and other context

------------------------------
TESTER COMMENTS
------------------------------

Additional comments from tester:

none provided

------------------------------
PROGRAM OUTPUT
------------------------------

Output from './Build test':

t/base.t .......... ok
t/driver.t ........ ok
t/load.t .......... ok
t/pod-coverage.t .. ok
t/pod.t ........... ok
t/run.t ........... ok
t/run_fixup.t ..... ok
t/run_ping.t ...... ok
t/svp.t ........... ok
t/svp_fixup.t ..... ok
t/svp_live.t ...... skipped: Set DBICTEST_DSN _USER and _PASS to run savepoint tests
t/svp_ping.t ...... ok
t/txn.t ........... ok
t/txn_fixup.t ..... ok
t/txn_ping.t ...... ok
All tests successful.
Files=15, Tests=770, 20 wallclock secs ( 0.71 usr  0.09 sys +  5.09 cusr  0.64 csys =  6.53 CPU)
Result: PASS

------------------------------
PREREQUISITES
------------------------------

Prerequisite modules loaded:

requires:

    Module           Need     Have    
    ---------------- -------- --------
    DBI              1.605    1.623   
    perl             5.006002 5.014003

build_requires:

    Module           Need     Have    
    ---------------- -------- --------
    Module::Build    0.30     0.4003  
    Test::MockModule 0.05     0.05    
    Test::More       0.88     0.98    

configure_requires:

    Module           Need     Have    
    ---------------- -------- --------
    Module::Build    0.30     0.4003  


------------------------------
ENVIRONMENT AND OTHER CONTEXT
------------------------------

Environment variables:

    LANG = en_US.UTF-8
    PATH = /usr/lib/qt-3.3/bin:/usr/kerberos/sbin:/usr/kerberos/bin:/usr/lib/ccache:/usr/local/sbin:/usr/local/bin:/sbin:/bin:/usr/sbin:/usr/bin:/usr/X11R6/bin:/usr/lib/alliance/bin:/root/bin:/usr/lib/alliance/bin
    PERL5LIB = 
    PERL5OPT = 
    PERL5_CPANPLUS_IS_RUNNING = 5785
    PERL5_CPAN_IS_RUNNING = 5785
    SHELL = /bin/bash
    TERM = xterm

Perl special variables (and OS-specific diagnostics, for MSWin32):

    $^X = /opt/perl22-5.14.3/bin/perl
    $UID/$EUID = 0 / 0
    $GID = 0 0 1 2 3 4 6 10
    $EGID = 0 0 1 2 3 4 6 10

Perl module toolchain versions installed:

    Module              Have     
    ------------------- ---------
    CPAN                1.9600_01
    CPAN::Meta          2.120921 
    Cwd                 3.40     
    ExtUtils::CBuilder  0.280205 
    ExtUtils::Command   1.17     
    ExtUtils::Install   1.56     
    ExtUtils::MakeMaker 6.64     
    ExtUtils::Manifest  1.60     
    ExtUtils::ParseXS   3.18     
    File::Spec          3.40     
    JSON                2.53     
    JSON::PP            2.27200  
    Module::Build       0.4003   
    Module::Signature   n/a      
    Parse::CPAN::Meta   1.4404   
    Test::Harness       3.26     
    Test::More          0.98     
    YAML                0.84     
    YAML::Syck          n/a      
    version             0.9901   


--

Summary of my perl5 (revision 5 version 14 subversion 3) configuration:
   
  Platform:
    osname=linux, osvers=2.6.22.14-72.fc6, archname=i686-linux-thread-multi-64int-ld
    uname='linux localhost.localdomain 2.6.22.14-72.fc6 #1 smp wed nov 21 13:44:07 est 2007 i686 i686 i386 gnulinux '
    config_args='-Dcc=gcc -Dprefix=/opt/perl22-5.14.3 -DDEBUGGING'
    hint=recommended, useposix=true, d_sigaction=define
    useithreads=define, usemultiplicity=define
    useperlio=define, d_sfio=undef, uselargefiles=define, usesocks=undef
    use64bitint=define, use64bitall=undef, uselongdouble=define
    usemymalloc=y, bincompat5005=undef
  Compiler:
    cc='gcc', ccflags ='-D_REENTRANT -D_GNU_SOURCE -DDEBUGGING -fno-strict-aliasing -pipe -fstack-protector -I/usr/local/include -D_LARGEFILE_SOURCE -D_FILE_OFFSET_BITS=64',
    optimize='-O2 -g',
    cppflags='-D_REENTRANT -D_GNU_SOURCE -DDEBUGGING -fno-strict-aliasing -pipe -fstack-protector -I/usr/local/include'
    ccversion='', gccversion='4.1.2 20070626 (Red Hat 4.1.2-13)', gccosandvers=''
    intsize=4, longsize=4, ptrsize=4, doublesize=8, byteorder=12345678
    d_longlong=define, longlongsize=8, d_longdbl=define, longdblsize=12
    ivtype='long long', ivsize=8, nvtype='long double', nvsize=12, Off_t='off_t', lseeksize=8
    alignbytes=4, prototype=define
  Linker and Libraries:
    ld='gcc', ldflags =' -fstack-protector -L/usr/local/lib'
    libpth=/usr/local/lib /lib /usr/lib
    libs=-lnsl -ldb -ldl -lm -lcrypt -lutil -lpthread -lc
    perllibs=-lnsl -ldl -lm -lcrypt -lutil -lpthread -lc
    libc=/lib/libc-2.5.so, so=so, useshrplib=true, libperl=libperl.so
    gnulibc_version='2.5'
  Dynamic Linking:
    dlsrc=dl_dlopen.xs, dlext=so, d_dlsymun=undef, ccdlflags='-Wl,-E -Wl,-rpath,/opt/perl22-5.14.3/lib/5.14.3/i686-linux-thread-multi-64int-ld/CORE'
    cccdlflags='-fPIC', lddlflags='-shared -O2 -g -L/usr/local/lib -fstack-protector'


Characteristics of this binary (from libperl): 
  Compile-time options: DEBUGGING MULTIPLICITY MYMALLOC PERL_DONT_CREATE_GVSV
                        PERL_IMPLICIT_CONTEXT PERL_MAD PERL_MALLOC_WRAP
                        PERL_PRESERVE_IVUV PERL_TRACK_MEMPOOL USE_64_BIT_INT
                        USE_FAST_STDIO USE_ITHREADS USE_LARGE_FILES
                        USE_LONG_DOUBLE USE_PERLIO USE_PERL_ATOF
                        USE_REENTRANT_API
  Built under linux
  Compiled at Mar  5 2013 07:08:46
  %ENV:
    PERL5LIB=""
    PERL5OPT=""
    PERL5_CPANPLUS_IS_RUNNING="5785"
    PERL5_CPAN_IS_RUNNING="5785"
  @INC:
    /opt/perl22-5.14.3/lib/site_perl/5.14.3/i686-linux-thread-multi-64int-ld
    /opt/perl22-5.14.3/lib/site_perl/5.14.3
    /opt/perl22-5.14.3/lib/5.14.3/i686-linux-thread-multi-64int-ld
    /opt/perl22-5.14.3/lib/5.14.3
    .