Report for SOAP-WSDL-2.00.99_3

Back
From: metabase:user:9820532a-708b-1014-9a05-b18a96298da1
Subject: PASS SOAP-WSDL-2.00.99_3 v5.15.4 GNU/Linux
Date: 2011-11-07T18:46:21Z

This distribution has been tested as part of the CPAN Testers
project, supporting the Perl programming language.  See
http://wiki.cpantesters.org/ for more information or email
questions to cpan-testers-discuss@perl.org


--
Dear Martin Kutter,

This is a computer-generated report for SOAP-WSDL-2.00.99_3
on perl 5.15.4, created by CPAN-Reporter-1.2002.

Thank you for uploading your work to CPAN.  Congratulations!
All tests were successful.

Sections of this report:

    * Tester comments
    * Program output
    * Prerequisites
    * Environment and other context

------------------------------
TESTER COMMENTS
------------------------------

Additional comments from tester:

this report is from an automated smoke testing program
and was not reviewed by a human for accuracy

------------------------------
PROGRAM OUTPUT
------------------------------

Output from './Build test':

t/002_parse_wsdl.t ....................................... ok
t/003_wsdl_based_serializer.t ............................ ok
t/011_simpleType.t ....................................... ok
t/012_element.t .......................................... ok
t/013_complexType.t ...................................... ok
t/016_client_object.t .................................... ok
t/094_cpan_meta.t ........................................ skipped: Author test.  Set $ENV{RELEASE_TESTING} to a true value to run.
t/095_copying.t .......................................... skipped: Author test.  Set $ENV{RELEASE_TESTING} to a true value to run.
t/096_characters.t ....................................... skipped: Author test.  Set $ENV{RELEASE_TESTING} to a true value to run.
t/097_kwalitee.t ......................................... skipped: Author test.  Set $ENV{RELEASE_TESTING} to a true value to run.
t/098_pod.t .............................................. ok
t/099_pod_coverage.t ..................................... skipped: Author test.  Set $ENV{RELEASE_TESTING} to a true value to run.
t/SOAP/WSDL/Base.t ....................................... ok
t/SOAP/WSDL/Client.t ..................................... ok
t/SOAP/WSDL/Client/Base.t ................................ ok
t/SOAP/WSDL/Definitions.t ................................ ok
t/SOAP/WSDL/Deserializer/Hash.t .......................... ok
t/SOAP/WSDL/Deserializer/SOM.t ........................... ok
t/SOAP/WSDL/Deserializer/XSD.t ........................... ok
t/SOAP/WSDL/Expat/Base.t ................................. ok
t/SOAP/WSDL/Expat/MessageParser.t ........................ ok
file:///home/bri/.cpan/build/SOAP-WSDL-2.00.99_3-JYIQES/t/acceptance/wsdl/WSDLParser-imported.wsdl already imported; ignoring it.
t/SOAP/WSDL/Expat/WSDLParser.t ........................... ok
t/SOAP/WSDL/Factory/Deserializer.t ....................... ok
t/SOAP/WSDL/Factory/Serializer.t ......................... ok
t/SOAP/WSDL/Factory/Transport.t .......................... ok
t/SOAP/WSDL/Generator/Template.t ......................... ok
t/SOAP/WSDL/Generator/Template/XSD/Import.t .............. ok
t/SOAP/WSDL/Generator/Template/XSD/MultipleNamespaces.t .. ok
t/SOAP/WSDL/Generator/Template/XSD/Unqualified.t ......... ok
t/SOAP/WSDL/Generator/Visitor.t .......................... ok
t/SOAP/WSDL/Generator/Visitor/Typemap.t .................. ok
Multiple parts detected in message testMultiPartWarning.
WS-I BP demands 0 to 1 parts in message body
Multiple parts detected in message testMultiPartWarning.
WS-I BP demands 0 to 1 parts in message body
t/SOAP/WSDL/Generator/XSD.t .............................. ok
Multiple parts detected in message testMultiPartWarning.
WS-I BP demands 0 to 1 parts in message body
Multiple parts detected in message testMultiPartWarning.
WS-I BP demands 0 to 1 parts in message body
t/SOAP/WSDL/Generator/XSD_custom_resolver.t .............. ok
Multiple parts detected in message testMultiPartWarning.
WS-I BP demands 0 to 1 parts in message body
Multiple parts detected in message testMultiPartWarning.
WS-I BP demands 0 to 1 parts in message body
t/SOAP/WSDL/Generator/XSD_dot_names.t .................... ok
t/SOAP/WSDL/Generator/XSD_nested_complextype.t ........... ok
Creating complexType class SCALAR(0x883b370) 
Creating element class SCALAR(0x883b370) 
Creating element class SCALAR(0x883b370) 
Creating element class SCALAR(0x883b370) 
Creating element class SCALAR(0x883b370) 
t/SOAP/WSDL/Generator/XSD_recursive.t .................... ok
t/SOAP/WSDL/Generator/XSD_unsupported.t .................. ok
t/SOAP/WSDL/Part.t ....................................... ok
t/SOAP/WSDL/PortType.t ................................... ok
t/SOAP/WSDL/SOAP/Typelib/Fault11.t ....................... ok
t/SOAP/WSDL/Serializer/XSD.t ............................. ok
t/SOAP/WSDL/Server.t ..................................... ok
t/SOAP/WSDL/Server/CGI.t ................................. ok
t/SOAP/WSDL/Server/Mod_Perl2.t ........................... ok
HTTP/1.0 500 Internal Server Error
Content-Type: text/xml; charset="utf-8"
<SOAP-ENV:Envelope xmlns:xs="http://www.w3.org/2001/XMLSchema" xmlns:xsi="http://www.w3.org/2001/XMLSchema-instance" xmlns:SOAP-ENV="http://schemas.xmlsoap.org/soap/envelope/" ><SOAP-ENV:Body><Fault xmlns="http://schemas.xmlsoap.org/soap/envelope/"><faultcode>SOAP-ENV:Server</faultcode><faultstring>No handler registered</faultstring><faultactor>urn:localhost</faultactor></Fault></SOAP-ENV:Body></SOAP-ENV:Envelope>

Subroutine SOAP::WSDL::Server::Simple::_output redefined at t/SOAP/WSDL/Server/Simple.t line 52.
Subroutine SOAP::WSDL::Server::Simple::_output redefined at t/SOAP/WSDL/Server/Simple.t line 80.
Subroutine SOAP::WSDL::Server::handle redefined at t/SOAP/WSDL/Server/Simple.t line 85.
Subroutine SOAP::WSDL::Server::Simple::_output redefined at t/SOAP/WSDL/Server/Simple.t line 108.
Subroutine SOAP::WSDL::Server::handle redefined at t/SOAP/WSDL/Server/Simple.t line 113.
t/SOAP/WSDL/Server/Simple.t .............................. ok
t/SOAP/WSDL/Transport/01_Test.t .......................... ok
t/SOAP/WSDL/Transport/HTTP.t ............................. ok
t/SOAP/WSDL/Typelib/Fault11.t ............................ ok
t/SOAP/WSDL/Types.t ...................................... ok
t/SOAP/WSDL/XSD/Attribute.t .............................. ok
t/SOAP/WSDL/XSD/AttributeGroup.t ......................... ok
t/SOAP/WSDL/XSD/Builtin.t ................................ ok
t/SOAP/WSDL/XSD/ComplexType.t ............................ ok
t/SOAP/WSDL/XSD/Element.t ................................ ok
t/SOAP/WSDL/XSD/Enumeration.t ............................ ok
t/SOAP/WSDL/XSD/Schema.t ................................. ok
t/SOAP/WSDL/XSD/SimpleType.t ............................. ok
t/SOAP/WSDL/XSD/Typelib/Attribute.t ...................... ok
t/SOAP/WSDL/XSD/Typelib/Builtin/ENTITY.t ................. ok
t/SOAP/WSDL/XSD/Typelib/Builtin/ID.t ..................... ok
t/SOAP/WSDL/XSD/Typelib/Builtin/IDREF.t .................. ok
t/SOAP/WSDL/XSD/Typelib/Builtin/IDREFS.t ................. ok
t/SOAP/WSDL/XSD/Typelib/Builtin/NCName.t ................. ok
t/SOAP/WSDL/XSD/Typelib/Builtin/NMTOKEN.t ................ ok
t/SOAP/WSDL/XSD/Typelib/Builtin/NMTOKENS.t ............... ok
t/SOAP/WSDL/XSD/Typelib/Builtin/NOTATION.t ............... ok
t/SOAP/WSDL/XSD/Typelib/Builtin/Name.t ................... ok
t/SOAP/WSDL/XSD/Typelib/Builtin/QName.t .................. ok
t/SOAP/WSDL/XSD/Typelib/Builtin/anySimpleType.t .......... ok
t/SOAP/WSDL/XSD/Typelib/Builtin/anyType.t ................ ok
t/SOAP/WSDL/XSD/Typelib/Builtin/anyURI.t ................. ok
t/SOAP/WSDL/XSD/Typelib/Builtin/base64Binary.t ........... ok
t/SOAP/WSDL/XSD/Typelib/Builtin/boolean.t ................ ok
t/SOAP/WSDL/XSD/Typelib/Builtin/byte.t ................... ok
t/SOAP/WSDL/XSD/Typelib/Builtin/date.t ................... ok
t/SOAP/WSDL/XSD/Typelib/Builtin/dateTime.t ............... ok
t/SOAP/WSDL/XSD/Typelib/Builtin/decimal.t ................ ok
t/SOAP/WSDL/XSD/Typelib/Builtin/double.t ................. ok
t/SOAP/WSDL/XSD/Typelib/Builtin/duration.t ............... ok
t/SOAP/WSDL/XSD/Typelib/Builtin/float.t .................. ok
t/SOAP/WSDL/XSD/Typelib/Builtin/gDay.t ................... ok
t/SOAP/WSDL/XSD/Typelib/Builtin/gMonth.t ................. ok
t/SOAP/WSDL/XSD/Typelib/Builtin/gMonthDay.t .............. ok
t/SOAP/WSDL/XSD/Typelib/Builtin/gYear.t .................. ok
t/SOAP/WSDL/XSD/Typelib/Builtin/gYearMonth.t ............. ok
t/SOAP/WSDL/XSD/Typelib/Builtin/hexBinary.t .............. ok
t/SOAP/WSDL/XSD/Typelib/Builtin/int.t .................... ok
t/SOAP/WSDL/XSD/Typelib/Builtin/integer.t ................ ok
t/SOAP/WSDL/XSD/Typelib/Builtin/language.t ............... ok
t/SOAP/WSDL/XSD/Typelib/Builtin/list.t ................... ok
t/SOAP/WSDL/XSD/Typelib/Builtin/long.t ................... ok
t/SOAP/WSDL/XSD/Typelib/Builtin/negativeInteger.t ........ ok
t/SOAP/WSDL/XSD/Typelib/Builtin/nonNegativeInteger.t ..... ok
t/SOAP/WSDL/XSD/Typelib/Builtin/nonPositiveInteger.t ..... ok
t/SOAP/WSDL/XSD/Typelib/Builtin/normalizedString.t ....... ok
t/SOAP/WSDL/XSD/Typelib/Builtin/positiveInteger.t ........ ok
t/SOAP/WSDL/XSD/Typelib/Builtin/short.t .................. ok
t/SOAP/WSDL/XSD/Typelib/Builtin/string.t ................. ok
t/SOAP/WSDL/XSD/Typelib/Builtin/time.t ................... ok
t/SOAP/WSDL/XSD/Typelib/Builtin/token.t .................. ok
t/SOAP/WSDL/XSD/Typelib/Builtin/unsignedByte.t ........... ok
t/SOAP/WSDL/XSD/Typelib/Builtin/unsignedInt.t ............ ok
t/SOAP/WSDL/XSD/Typelib/Builtin/unsignedLong.t ........... ok
t/SOAP/WSDL/XSD/Typelib/Builtin/unsignedShort.t .......... ok
t/SOAP/WSDL/XSD/Typelib/ComplexType.t .................... ok
t/SOAP/WSDL/XSD/Typelib/Element.t ........................ ok
All tests successful.
Files=106, Tests=1123, 34 wallclock secs ( 0.46 usr  0.10 sys + 30.10 cusr  1.14 csys = 31.80 CPU)
Result: PASS

------------------------------
PREREQUISITES
------------------------------

Prerequisite modules loaded:

requires:

    Module             Need  Have    
    ------------------ ----- --------
    Class::Std::Fast   0.0.5 0.0.8   
    Data::Dumper       0     2.131   
    Date::Format       0     2.24    
    Date::Parse        0     2.30    
    File::Basename     0     2.83    
    File::Path         0     2.08_01 
    Getopt::Long       0     2.3802  
    List::Util         0     1.23_03 
    LWP::UserAgent     0     6.03    
    perl               5.8.0 5.015004
    Template           2.18  2.22    
    Term::ReadKey      0     2.30    
    URI                0     1.59    
    XML::Parser::Expat 0     2.41    

build_requires:

    Module             Need  Have    
    ------------------ ----- --------
    Class::Std::Fast   0.0.5 0.0.8   
    Cwd                0     3.33    
    Date::Format       0     2.24    
    Date::Parse        0     2.30    
    File::Basename     0     2.83    
    File::Path         0     2.08_01 
    File::Spec         0     3.33    
    Getopt::Long       0     2.3802  
    List::Util         0     1.23_03 
    LWP::UserAgent     0     6.03    
    Module::Build      0     0.3800  
    Storable           0     2.30    
    Template           2.18  2.22    
    Test::More         0     0.98    
    XML::Parser::Expat 0     2.41    

configure_requires:

    Module             Need  Have    
    ------------------ ----- --------
    Module::Build      0.36  0.3800  


------------------------------
ENVIRONMENT AND OTHER CONTEXT
------------------------------

Environment variables:

    AUTOMATED_TESTING = 1
    LANG = C
    LANGUAGE = en_GB:en
    LC_ALL = C
    PATH = /home/bri/bin:/home/bri/perl5/perlbrew/bin:/home/bri/perl5/perlbrew/perls/perl-5.15.4-th/bin:~/bin:/usr/local/sbin:/usr/local/bin:/usr/sbin:/usr/bin:/sbin:/bin:/usr/games
    PATH_WITHOUT_PERLBREW = ~/bin:/usr/local/sbin:/usr/local/bin:/usr/sbin:/usr/bin:/sbin:/bin:/usr/games
    PERL5LIB = 
    PERL5OPT = 
    PERL5_CPANPLUS_IS_RUNNING = 15883
    PERL5_CPAN_IS_RUNNING = 15883
    PERL5_CPAN_IS_RUNNING_IN_RECURSION = 2054,15883
    PERLBREW_BASHRC_VERSION = 0.31
    PERLBREW_HOME = /home/bri/.perlbrew
    PERLBREW_PATH = /home/bri/perl5/perlbrew/bin:/home/bri/perl5/perlbrew/perls/perl-5.15.4-th/bin
    PERLBREW_PERL = perl-5.15.4-th
    PERLBREW_ROOT = /home/bri/perl5/perlbrew
    PERLBREW_VERSION = 0.31
    PERL_CPANM_OPT = --prompt --mirror http://172.16.1.3/cpan/
    PERL_CR_SMOKER_CURRENT = SOAP-WSDL-2.00.99_3
    PERL_EXTUTILS_AUTOINSTALL = --defaultdeps
    PERL_MM_USE_DEFAULT = 1
    SHELL = /bin/bash
    TERM = linux

Perl special variables (and OS-specific diagnostics, for MSWin32):

    $^X = /home/bri/perl5/perlbrew/perls/perl-5.15.4-th/bin/perl5.15.4
    $UID/$EUID = 1000 / 1000
    $GID = 1000 4 20 24 46 112 120 122 1000
    $EGID = 1000 4 20 24 46 112 120 122 1000

Perl module toolchain versions installed:

    Module              Have    
    ------------------- --------
    CPAN                1.9800  
    CPAN::Meta          2.112621
    Cwd                 3.33    
    ExtUtils::CBuilder  0.280202
    ExtUtils::Command   1.17    
    ExtUtils::Install   1.57    
    ExtUtils::MakeMaker 6.62    
    ExtUtils::Manifest  1.60    
    ExtUtils::ParseXS   3.05    
    File::Spec          3.33    
    JSON                2.53    
    JSON::PP            2.27008 
    Module::Build       0.3800  
    Module::Signature   n/a     
    Parse::CPAN::Meta   1.4401  
    Test::Harness       3.23    
    Test::More          0.98    
    YAML                0.73    
    YAML::Syck          1.18    
    version             0.94    


--

Summary of my perl5 (revision 5 version 15 subversion 4) configuration:
   
  Platform:
    osname=linux, osvers=2.6.38-11-generic, archname=i686-linux-thread-multi
    uname='linux lappy 2.6.38-11-generic #48-ubuntu smp fri jul 29 19:05:14 utc 2011 i686 i686 i386 gnulinux '
    config_args='-de -Dprefix=/home/bri/perl5/perlbrew/perls/perl-5.15.4-th -Dusethreads -Dusedevel'
    hint=recommended, useposix=true, d_sigaction=define
    useithreads=define, usemultiplicity=define
    useperlio=define, d_sfio=undef, uselargefiles=define, usesocks=undef
    use64bitint=undef, use64bitall=undef, uselongdouble=undef
    usemymalloc=n, bincompat5005=undef
  Compiler:
    cc='cc', ccflags ='-D_REENTRANT -D_GNU_SOURCE -fno-strict-aliasing -pipe -fstack-protector -I/usr/local/include -D_LARGEFILE_SOURCE -D_FILE_OFFSET_BITS=64',
    optimize='-O2',
    cppflags='-D_REENTRANT -D_GNU_SOURCE -fno-strict-aliasing -pipe -fstack-protector -I/usr/local/include'
    ccversion='', gccversion='4.5.2', gccosandvers=''
    intsize=4, longsize=4, ptrsize=4, doublesize=8, byteorder=1234
    d_longlong=define, longlongsize=8, d_longdbl=define, longdblsize=12
    ivtype='long', ivsize=4, nvtype='double', nvsize=8, Off_t='off_t', lseeksize=8
    alignbytes=4, prototype=define
  Linker and Libraries:
    ld='cc', ldflags =' -fstack-protector -L/usr/local/lib'
    libpth=/usr/local/lib /lib /usr/lib /usr/lib/i386-linux-gnu /usr/lib64
    libs=-lnsl -ldl -lm -lcrypt -lutil -lpthread -lc
    perllibs=-lnsl -ldl -lm -lcrypt -lutil -lpthread -lc
    libc=, so=so, useshrplib=false, libperl=libperl.a
    gnulibc_version='2.13'
  Dynamic Linking:
    dlsrc=dl_dlopen.xs, dlext=so, d_dlsymun=undef, ccdlflags='-Wl,-E'
    cccdlflags='-fPIC', lddlflags='-shared -O2 -L/usr/local/lib -fstack-protector'


Characteristics of this binary (from libperl): 
  Compile-time options: HAS_TIMES MULTIPLICITY PERLIO_LAYERS
                        PERL_DONT_CREATE_GVSV PERL_IMPLICIT_CONTEXT
                        PERL_MALLOC_WRAP PERL_PRESERVE_IVUV PERL_USE_DEVEL
                        USE_ITHREADS USE_LARGE_FILES USE_LOCALE
                        USE_LOCALE_COLLATE USE_LOCALE_CTYPE
                        USE_LOCALE_NUMERIC USE_PERLIO USE_PERL_ATOF
                        USE_REENTRANT_API
  Built under linux
  Compiled at Nov  3 2011 17:34:50
  %ENV:
    PERL5LIB=""
    PERL5OPT=""
    PERL5_CPANPLUS_IS_RUNNING="15883"
    PERL5_CPAN_IS_RUNNING="15883"
    PERL5_CPAN_IS_RUNNING_IN_RECURSION="2054,15883"
    PERLBREW_BASHRC_VERSION="0.31"
    PERLBREW_HOME="/home/bri/.perlbrew"
    PERLBREW_PATH="/home/bri/perl5/perlbrew/bin:/home/bri/perl5/perlbrew/perls/perl-5.15.4-th/bin"
    PERLBREW_PERL="perl-5.15.4-th"
    PERLBREW_ROOT="/home/bri/perl5/perlbrew"
    PERLBREW_VERSION="0.31"
    PERL_CPANM_OPT="--prompt --mirror http://172.16.1.3/cpan/"
    PERL_CR_SMOKER_CURRENT="SOAP-WSDL-2.00.99_3"
    PERL_EXTUTILS_AUTOINSTALL="--defaultdeps"
    PERL_MM_USE_DEFAULT="1"
  @INC:
    /home/bri/perl5/perlbrew/perls/perl-5.15.4-th/lib/site_perl/5.15.4/i686-linux-thread-multi
    /home/bri/perl5/perlbrew/perls/perl-5.15.4-th/lib/site_perl/5.15.4
    /home/bri/perl5/perlbrew/perls/perl-5.15.4-th/lib/5.15.4/i686-linux-thread-multi
    /home/bri/perl5/perlbrew/perls/perl-5.15.4-th/lib/5.15.4
    .