Report for Web-Components-Role-Email-0.3.1

Back
From: metabase:user:322078bc-2aae-11df-837a-5e0a49663a4f
Subject: PASS Web-Components-Role-Email-0.3.1 v5.10.0 NetBSD
Date: 2017-03-12T21:28:08Z

This distribution has been tested as part of the CPAN Testers
project, supporting the Perl programming language.  See
http://wiki.cpantesters.org/ for more information or email
questions to cpan-testers-discuss@perl.org


--

Dear PJFL,

This is a computer-generated error report created automatically by
CPANPLUS, version 0.9162. Testers personal comments may appear
at the end of this report.


Thank you for uploading your work to CPAN.  Congratulations!
All tests were successful.

TEST RESULTS:

Below is the error stack from stage 'make test':


OS: netbsd, Host: naboo.bingosnet.co.uk

=== Environment variables ===

    $AUTHOR_TESTING                   undef
    $AUTOMATED_TESTING                1
    $EXTENDED_TESTING                 undef
    $NONINTERACTIVE_TESTING           1
    $PERL_CPAN_REPORTER_CONFIG        undef
    $PERL_CR_SMOKER_CURRENT           undef
    $PERL5_CPAN_IS_RUNNING            undef
    $PERL5_CPANPLUS_IS_VERSION        0.9162
    $TEST_CRITIC                      undef
    $TEST_SPELLING                    undef

Versions for all modules listed in MYMETA.json (including optional ones):

=== Configure Requires ===

    Module          Want   Have
    ------------- ------ ------
    Module::Build 0.4004 0.4220
    version         0.88 0.9917

=== Build Requires ===

    Module          Want   Have
    ------------- ------ ------
    Module::Build 0.4004 0.4220
    version         0.88 0.9917

=== Test Requires ===

    Module             Want     Have
    ---------------- ------ --------
    File::Spec          any     3.62
    Module::Build    0.4004   0.4220
    Module::Metadata    any 1.000022
    Sys::Hostname       any     1.11
    Test::Requires     0.06     0.10
    version            0.88   0.9917

=== Test Recommends ===

    Module         Want     Have
    ---------- -------- --------
    CPAN::Meta 2.120900 2.150010

=== Runtime Requires ===

    Module                        Want    Have
    ------------------------- -------- -------
    Email::MIME                  1.934 missing
    Email::Sender             1.300018 missing
    File::DataClass            v0.71.0 missing
    MIME::Types                   2.11 missing
    Moo                       2.000001 missing
    Try::Tiny                     0.22 missing
    Unexpected                 v0.46.0 missing
    Web::Components::Role::TT   v0.7.0 missing
    namespace::autoclean          0.26 missing


*** WARNING WARNING WARNING WARNING WARNING WARNING ***

The following REQUIRED prerequisites were not satisfied:

Email::MIME is not installed (version '1.934' required)
Email::Sender is not installed (version '1.300018' required)
File::DataClass is not installed (version 'v0.71.0' required)
MIME::Types is not installed (version '2.11' required)
Moo is not installed (version '2.000001' required)
Try::Tiny is not installed (version '0.22' required)
Unexpected is not installed (version 'v0.46.0' required)
Web::Components::Role::TT is not installed (version 'v0.7.0' required)
namespace::autoclean is not installed (version '0.26' required)

t/00report-metadata.t .. ok
t/02pod.t .............. skipped: POD test only for developers
t/03podcoverage.t ...... skipped: POD coverage test only for developers
t/05kwalitee.t ......... skipped: Kwalitee test only for developers
t/06yaml.t ............. skipped: YAML test only for developers
t/07podspelling.t ...... skipped: POD spelling test only for developers
t/10test_script.t ...... skipped: Perl v5.10.1 required--this is only v5.10.0, stopped at (eval 34) line 2.
All tests successful.
Files=7, Tests=1,  1 wallclock secs ( 0.03 usr  0.00 sys +  0.49 cusr  0.09 csys =  0.61 CPU)
Result: PASS


PREREQUISITES:

Here is a list of prerequisites you specified and versions we
managed to load:

	  Module Name                        Have     Want
	  Module::Build                    0.4220   0.4004
	  Test::Requires                     0.10     0.06
	  version                          0.9917     0.88

Perl module toolchain versions installed:
	Module Name                        Have
	CPANPLUS                         0.9162
	CPANPLUS::Dist::Build              0.80
	Cwd                                3.62
	ExtUtils::CBuilder             0.280224
	ExtUtils::Command                  7.24
	ExtUtils::Install                  2.04
	ExtUtils::MakeMaker                7.24
	ExtUtils::Manifest                 1.70
	ExtUtils::ParseXS                  3.30
	File::Spec                         3.62
	Module::Build                    0.4220
	Pod::Parser                        1.35
	Pod::Simple                        3.28
	Test2                          1.302075
	Test::Harness                      3.36
	Test::More                     1.302075
	version                          0.9917

******************************** NOTE ********************************
The comments above are created mechanically, possibly without manual
checking by the sender.  As there are many people performing automatic
tests on each upload to CPAN, it is likely that you will receive
identical messages about the same problem.

If you believe that the message is mistaken, please reply to the first
one with correction and/or additional informations, and do not take
it personally.  We appreciate your patience. :)
**********************************************************************

Additional comments:


This report was machine-generated by CPANPLUS::Dist::YACSmoke 0.98.
Powered by minismokebox version 0.58

------------------------------
ENVIRONMENT AND OTHER CONTEXT
------------------------------

Environment variables:

    AUTOMATED_TESTING = 1
    NONINTERACTIVE_TESTING = 1
    PATH = /home/cpan/bin:/bin:/sbin:/usr/bin:/usr/sbin:/usr/X11R7/bin:/usr/X11R6/bin:/usr/pkg/bin:/usr/pkg/sbin:/usr/games:/usr/local/bin:/usr/local/sbin
    PERL5LIB = :/home/cpan/pit/thr/conf/perl-5.10.0/.cpanplus/5.10.0/build/dANGQSMMty/Test-Requires-0.10/blib/lib:/home/cpan/pit/thr/conf/perl-5.10.0/.cpanplus/5.10.0/build/dANGQSMMty/Test-Requires-0.10/blib/arch:/home/cpan/pit/thr/conf/perl-5.10.0/.cpanplus/5.10.0/build/6mgsbh5lfN/Web-Components-Role-Email-0.3.1/blib/lib:/home/cpan/pit/thr/conf/perl-5.10.0/.cpanplus/5.10.0/build/6mgsbh5lfN/Web-Components-Role-Email-0.3.1/blib/arch
    PERL5_CPANPLUS_IS_RUNNING = 23792
    PERL5_CPANPLUS_IS_VERSION = 0.9162
    PERL5_MINISMOKEBOX = 0.58
    PERL5_YACSMOKE_BASE = /home/cpan/pit/thr/conf/perl-5.10.0
    PERL_EXTUTILS_AUTOINSTALL = --defaultdeps
    PERL_MM_USE_DEFAULT = 1
    SHELL = /usr/pkg/bin/bash
    TERM = screen

Perl special variables (and OS-specific diagnostics, for MSWin32):

    Perl: $^X = /home/cpan/pit/thr/perl-5.10.0/bin/perl
    UID:  $<  = 1002
    EUID: $>  = 1002
    GID:  $(  = 100 100
    EGID: $)  = 100 100


-------------------------------


--

Summary of my perl5 (revision 5 version 10 subversion 0) configuration:
  Platform:
    osname=netbsd, osvers=6.1.4, archname=amd64-netbsd-thread-multi
    uname='netbsd naboo.bingosnet.co.uk 6.1.4 netbsd 6.1.4 (generic) amd64 '
    config_args='-des -Dprefix=/home/cpan/pit/thr/perl-5.10.0 -Dusethreads'
    hint=recommended, useposix=true, d_sigaction=define
    useithreads=define, usemultiplicity=define
    useperlio=define, d_sfio=undef, uselargefiles=define, usesocks=undef
    use64bitint=define, use64bitall=define, uselongdouble=undef
    usemymalloc=n, bincompat5005=undef
  Compiler:
    cc='cc', ccflags ='-fno-strict-aliasing -pipe -I/usr/pkg/include',
    optimize='-O',
    cppflags='-fno-strict-aliasing -pipe -I/usr/pkg/include'
    ccversion='', gccversion='4.5.3', gccosandvers=''
    intsize=4, longsize=8, ptrsize=8, doublesize=8, byteorder=12345678
    d_longlong=define, longlongsize=8, d_longdbl=define, longdblsize=16
    ivtype='long', ivsize=8, nvtype='double', nvsize=8, Off_t='off_t', lseeksize=8
    alignbytes=8, prototype=define
  Linker and Libraries:
    ld='cc', ldflags =' -Wl,-rpath,/usr/pkg/lib -Wl,-rpath,/usr/local/lib -L/usr/pkg/lib'
    libpth=/usr/pkg/lib /lib /usr/lib
    libs=-lgdbm -lm -lcrypt -lutil -lc -lposix -lpthread
    perllibs=-lm -lcrypt -lutil -lc -lposix -lpthread
    libc=/lib/libc.so, so=so, useshrplib=false, libperl=libperl.a
    gnulibc_version=''
  Dynamic Linking:
    dlsrc=dl_dlopen.xs, dlext=so, d_dlsymun=undef, ccdlflags='-Wl,-E '
    cccdlflags='-DPIC -fPIC ', lddlflags='--whole-archive -shared  -L/usr/pkg/lib'


Characteristics of this binary (from libperl): 
  Compile-time options: MULTIPLICITY PERL_DONT_CREATE_GVSV
                        PERL_IMPLICIT_CONTEXT PERL_MALLOC_WRAP USE_64_BIT_ALL
                        USE_64_BIT_INT USE_ITHREADS USE_LARGE_FILES
                        USE_PERLIO USE_REENTRANT_API
  Built under netbsd
  Compiled at May  9 2014 17:49:33
  %ENV:
    PERL5LIB=":/home/cpan/pit/thr/conf/perl-5.10.0/.cpanplus/5.10.0/build/dANGQSMMty/Test-Requires-0.10/blib/lib:/home/cpan/pit/thr/conf/perl-5.10.0/.cpanplus/5.10.0/build/dANGQSMMty/Test-Requires-0.10/blib/arch:/home/cpan/pit/thr/conf/perl-5.10.0/.cpanplus/5.10.0/build/6mgsbh5lfN/Web-Components-Role-Email-0.3.1/blib/lib:/home/cpan/pit/thr/conf/perl-5.10.0/.cpanplus/5.10.0/build/6mgsbh5lfN/Web-Components-Role-Email-0.3.1/blib/arch"
    PERL5_CPANPLUS_IS_RUNNING="23792"
    PERL5_CPANPLUS_IS_VERSION="0.9162"
    PERL5_MINISMOKEBOX="0.58"
    PERL5_YACSMOKE_BASE="/home/cpan/pit/thr/conf/perl-5.10.0"
    PERL_EXTUTILS_AUTOINSTALL="--defaultdeps"
    PERL_MM_USE_DEFAULT="1"
  @INC:
    /home/cpan/pit/thr/conf/perl-5.10.0/.cpanplus/5.10.0/build/dANGQSMMty/Test-Requires-0.10/blib/lib
    /home/cpan/pit/thr/conf/perl-5.10.0/.cpanplus/5.10.0/build/dANGQSMMty/Test-Requires-0.10/blib/arch
    /home/cpan/pit/thr/conf/perl-5.10.0/.cpanplus/5.10.0/build/6mgsbh5lfN/Web-Components-Role-Email-0.3.1/blib/lib
    /home/cpan/pit/thr/conf/perl-5.10.0/.cpanplus/5.10.0/build/6mgsbh5lfN/Web-Components-Role-Email-0.3.1/blib/arch
    /home/cpan/pit/thr/perl-5.10.0/lib/5.10.0/amd64-netbsd-thread-multi
    /home/cpan/pit/thr/perl-5.10.0/lib/5.10.0
    /home/cpan/pit/thr/perl-5.10.0/lib/site_perl/5.10.0/amd64-netbsd-thread-multi
    /home/cpan/pit/thr/perl-5.10.0/lib/site_perl/5.10.0
    .