Chart vv2.403.9 Perl 5 v5.32.1 MSWin32-x86-multi-thread-64int

Status
Pass
From
gregor herrmann
Dist
Chart vv2.403.9
Platform
Perl 5 v5.32.1 MSWin32-x86-multi-thread-64int
Date
2022-11-28 22:49:43
ID
c97d7483-6d1b-1014-9a1c-d500898ca402
This distribution has been tested as part of the CPAN Testers
project, supporting the Perl programming language.  See
http://wiki.cpantesters.org/ for more information or email
questions to cpan-testers-discuss@perl.org


--
Dear Herbert Breunung,

This is a computer-generated report for Chart-v2.403.9
on perl 5.32.1, created by CPAN-Reporter-1.2018.

Thank you for uploading your work to CPAN.  Congratulations!
All tests were successful.

Sections of this report:

    * Tester comments
    * Program output
    * Prerequisites
    * Environment and other context

------------------------------
TESTER COMMENTS
------------------------------

Additional comments from tester:

this report is from an automated smoke testing program
and was not reviewed by a human for accuracy

------------------------------
PROGRAM OUTPUT
------------------------------

Output from 'C:\strawberry\c\bin\gmake.EXE test':

"C:\Strawberry\perl\bin\perl.exe" "-MExtUtils::Command::MM" "-MTest::Harness" "-e" "undef *Test::Harness::Switches; test_harness(0, 'blib\lib', 'blib\arch')" t/*.t
t/bars.t ........... ok
t/bars_10.t ........ ok
t/bars_11.t ........ ok
t/bars_12.t ........ ok
t/bars_2.t ......... ok
t/bars_3.t ......... ok
t/bars_4.t ......... ok
t/bars_5.t ......... ok
t/bars_6.t ......... ok
t/bars_7.t ......... ok
t/bars_8.t ......... ok
t/bars_9.t ......... ok
t/composite.t ...... ok
t/composite_1.t .... ok
t/composite_2.t .... ok
t/composite_3.t .... ok
t/composite_4.t .... ok
t/composite_5.t .... ok
t/composite_6.t .... ok
t/composite_7.t .... ok
t/composite_8.t .... ok
t/composite_f.t .... ok
t/direction_1.t .... ok
t/direction_2.t .... ok
t/direction_3.t .... ok
t/direction_4.t .... ok
t/error_1.t ........ ok
t/error_2.t ........ ok
t/f_ticks.t ........ ok
t/f_ticks_1.t ...... ok
t/hbars_1.t ........ ok
t/hbars_2.t ........ ok
t/hbars_3.t ........ ok
t/hbars_4.t ........ ok
t/Humidity.t ....... ok
t/lines.t .......... ok
t/lines_1.t ........ ok
t/lines_2.t ........ ok
t/lines_3.t ........ ok
t/lines_4.t ........ ok
t/lines_5.t ........ ok
t/lines_6.t ........ ok
t/lines_7.t ........ ok
t/lines_8.t ........ ok
t/lines_9.t ........ ok
t/linespoints.t .... ok
t/linespoints_1.t .. ok
t/linespoints_2.t .. ok
t/linespoints_3.t .. ok
t/linespoints_4.t .. ok
t/linespoints_5.t .. ok
t/linespoints_6.t .. ok
t/linespoints_7.t .. ok
t/mapbars.t ........ ok
t/mapcomp.t ........ ok
t/Math_1_over_x.t .. ok
t/mountain.t ....... ok
t/mountain_2.t ..... ok
t/mountain_3.t ..... ok
t/mountain_4.t ..... ok
t/pareto_1.t ....... ok
t/pareto_2.t ....... ok
t/pareto_3.t ....... ok
t/pie_1.t .......... ok
t/pie_10.t ......... ok
t/pie_11.t ......... ok
t/pie_2.t .......... ok
t/pie_3.t .......... ok
t/pie_4.t .......... ok
t/pie_5.t .......... ok
t/pie_6.t .......... ok
t/pie_7.t .......... ok
t/pie_8.t .......... ok
t/pie_9.t .......... ok
t/points.t ......... ok
t/points_100.t ..... ok
t/points_2.t ....... ok
t/points_3.t ....... ok
t/points_4.t ....... ok
t/points_5.t ....... ok
t/scalarImage.t .... ok
t/split_1.t ........ ok
t/split_2.t ........ ok
t/stackedbars.t .... ok
t/stackedbars_2.t .. ok
t/stackedbars_3.t .. ok
t/stackedbars_4.t .. ok
All tests successful.
Files=87, Tests=89, 196 wallclock secs ( 0.52 usr +  0.22 sys =  0.74 CPU)
Result: PASS

------------------------------
PREREQUISITES
------------------------------

Prerequisite modules loaded:

requires:

    Module                   Need     Have    
    ------------------------ -------- --------
    Carp                     1.35     1.50    
    GD                       2        2.76    
    Graphics::Toolkit::Color 1        1.04    
    perl                     5.012000 5.032001

build_requires:

    Module                   Need     Have    
    ------------------------ -------- --------
    ExtUtils::MakeMaker      0        7.65_02 
    File::Temp               0.19     0.2311  
    Test::More               1.3      1.302191
    Test::Warn               0.30     0.37    

configure_requires:

    Module                   Need     Have    
    ------------------------ -------- --------
    ExtUtils::MakeMaker      0        7.65_02 


------------------------------
ENVIRONMENT AND OTHER CONTEXT
------------------------------

Environment variables:

    AUTOMATED_TESTING = 1
    COMSPEC = C:\WINDOWS.0\system32\cmd.exe
    NONINTERACTIVE_TESTING = 1
    NUMBER_OF_PROCESSORS = 1
    PATH = C:\WINDOWS.0\system32;C:\strawberry\c\bin;C:\strawberry\perl\site\bin;C:\strawberry\perl\bin
    PERL5LIB = 
    PERL5OPT = 
    PERL5_CPANPLUS_IS_RUNNING = 2532
    PERL5_CPAN_IS_RUNNING = 2532
    PERL5_CPAN_IS_RUNNING_IN_RECURSION = 3796,2532
    PERL_CR_SMOKER_CURRENT = Chart-v2.403.9
    PERL_EXTUTILS_AUTOINSTALL = --defaultdeps
    PERL_MM_USE_DEFAULT = 1
    PERL_USE_UNSAFE_INC = 1
    PROCESSOR_IDENTIFIER = x86 Family 6 Model 14 Stepping 8, GenuineIntel
    TEMP = C:\DOKUME~1\smoker\LOKALE~1\Temp
    TERM = dumb

Perl special variables (and OS-specific diagnostics, for MSWin32):

    $^X = C:\Strawberry\perl\bin\perl.exe
    $UID/$EUID = 0 / 0
    $GID = 0
    $EGID = 0
    Win32::GetOSName = WinXP/.Net
    Win32::GetOSVersion = Service Pack 3, 5, 1, 2600, 2, 3, 0, 256, 1
    Win32::FsType = NTFS
    Win32::IsAdminUser = 1

Perl module toolchain versions installed:

    Module              Have    
    ------------------- --------
    CPAN                2.34    
    CPAN::Meta          2.150010
    Cwd                 3.78    
    ExtUtils::CBuilder  0.280235
    ExtUtils::Command   7.65_02 
    ExtUtils::Install   2.20    
    ExtUtils::MakeMaker 7.65_02 
    ExtUtils::Manifest  1.73    
    ExtUtils::ParseXS   3.44    
    File::Spec          3.78    
    JSON                4.10    
    JSON::PP            4.12    
    Module::Build       0.4231  
    Module::Signature   0.88    
    Parse::CPAN::Meta   2.150010
    Test::Harness       3.44    
    Test::More          1.302191
    YAML                1.30    
    YAML::Syck          1.34    
    version             0.9928  


--

Summary of my perl5 (revision 5 version 32 subversion 1) configuration:
   
  Platform:
    osname=MSWin32
    osvers=10.0.19042.746
    archname=MSWin32-x86-multi-thread-64int
    uname='Win32 strawberry-perl 5.32.1.1 #1 Sun Jan 24 12:17:47 2021 i386'
    config_args='undef'
    hint=recommended
    useposix=true
    d_sigaction=undef
    useithreads=define
    usemultiplicity=define
    use64bitint=define
    use64bitall=undef
    uselongdouble=undef
    usemymalloc=n
    default_inc_excludes_dot=define
    bincompat5005=undef
  Compiler:
    cc='gcc'
    ccflags =' -DWIN32 -D__USE_MINGW_ANSI_STDIO -DPERL_TEXTMODE_SCRIPTS -DPERL_IMPLICIT_CONTEXT -DPERL_IMPLICIT_SYS -DUSE_PERLIO -fwrapv -fno-strict-aliasing -mms-bitfields'
    optimize='-s -O2'
    cppflags='-DWIN32'
    ccversion=''
    gccversion='8.3.0'
    gccosandvers=''
    intsize=4
    longsize=4
    ptrsize=4
    doublesize=8
    byteorder=12345678
    doublekind=3
    d_longlong=define
    longlongsize=8
    d_longdbl=define
    longdblsize=12
    longdblkind=3
    ivtype='long long'
    ivsize=8
    nvtype='double'
    nvsize=8
    Off_t='long long'
    lseeksize=8
    alignbytes=8
    prototype=define
  Linker and Libraries:
    ld='g++'
    ldflags ='-s -L"C:\STRAWB~1\perl\lib\CORE" -L"C:\STRAWB~1\c\lib"'
    libpth=C:\STRAWB~1\c\lib C:\STRAWB~1\c\i686-w64-mingw32\lib C:\STRAWB~1\c\lib\gcc\i686-w64-mingw32\8.3.0
    libs= -lmoldname -lkernel32 -luser32 -lgdi32 -lwinspool -lcomdlg32 -ladvapi32 -lshell32 -lole32 -loleaut32 -lnetapi32 -luuid -lws2_32 -lmpr -lwinmm -lversion -lodbc32 -lodbccp32 -lcomctl32
    perllibs= -lmoldname -lkernel32 -luser32 -lgdi32 -lwinspool -lcomdlg32 -ladvapi32 -lshell32 -lole32 -loleaut32 -lnetapi32 -luuid -lws2_32 -lmpr -lwinmm -lversion -lodbc32 -lodbccp32 -lcomctl32
    libc=
    so=dll
    useshrplib=true
    libperl=libperl532.a
    gnulibc_version=''
  Dynamic Linking:
    dlsrc=dl_win32.xs
    dlext=xs.dll
    d_dlsymun=undef
    ccdlflags=' '
    cccdlflags=' '
    lddlflags='-mdll -s -L"C:\STRAWB~1\perl\lib\CORE" -L"C:\STRAWB~1\c\lib"'


Characteristics of this binary (from libperl): 
  Compile-time options:
    HAS_TIMES
    HAVE_INTERP_INTERN
    MULTIPLICITY
    PERLIO_LAYERS
    PERL_COPY_ON_WRITE
    PERL_DONT_CREATE_GVSV
    PERL_IMPLICIT_CONTEXT
    PERL_IMPLICIT_SYS
    PERL_MALLOC_WRAP
    PERL_OP_PARENT
    PERL_PRESERVE_IVUV
    USE_64_BIT_INT
    USE_ITHREADS
    USE_LARGE_FILES
    USE_LOCALE
    USE_LOCALE_COLLATE
    USE_LOCALE_CTYPE
    USE_LOCALE_NUMERIC
    USE_LOCALE_TIME
    USE_PERLIO
    USE_PERL_ATOF
  Built under MSWin32
  Compiled at Jan 24 2021 12:22:49
  %ENV:
    PERL5_CPANPLUS_IS_RUNNING="2532"
    PERL5_CPAN_IS_RUNNING="2532"
    PERL5_CPAN_IS_RUNNING_IN_RECURSION="3796,2532"
    PERL_CR_SMOKER_CURRENT="Chart-v2.403.9"
    PERL_EXTUTILS_AUTOINSTALL="--defaultdeps"
    PERL_MM_USE_DEFAULT="1"
    PERL_USE_UNSAFE_INC="1"
  @INC:
    C:/Strawberry/perl/site/lib/MSWin32-x86-multi-thread-64int
    C:/Strawberry/perl/site/lib
    C:/Strawberry/perl/vendor/lib
    C:/Strawberry/perl/lib
    .