Report for Gtk2-Ex-WidgetBits-48

Back
From: metabase:user:320bfe00-2aae-11df-837a-5e0a49663a4f
Subject: PASS Gtk2-Ex-WidgetBits-48 v5.25.4 GNU/Linux
Date: 2017-04-05T15:23:14Z

This distribution has been tested as part of the CPAN Testers
project, supporting the Perl programming language.  See
http://wiki.cpantesters.org/ for more information or email
questions to cpan-testers-discuss@perl.org


--
Dear Kevin Ryde,

This is a computer-generated report for Gtk2-Ex-WidgetBits-48
on perl 5.25.4, created by CPAN-Reporter-1.2018.

Thank you for uploading your work to CPAN.  Congratulations!
All tests were successful.

Sections of this report:

    * Tester comments
    * Program output
    * Prerequisites
    * Environment and other context

------------------------------
TESTER COMMENTS
------------------------------

Additional comments from tester:

this report is from an automated smoke testing program
and was not reviewed by a human for accuracy

------------------------------
PROGRAM OUTPUT
------------------------------

Output from '/usr/bin/make test':

PERL_DL_NONLAZY=1 "/home/sand/src/perl/repoperls/installed-perls/host/k93msid/v5.25.4/0a29/bin/perl" "-MExtUtils::Command::MM" "-MTest::Harness" "-e" "undef *Test::Harness::Switches; test_harness(0, 'blib/lib', 'blib/arch')" t/*.t
# Perl-Gtk2    version 1.24991
# Perl-Glib    version 1.324
# Compiled against Glib version 2.50.3.
# Running on       Glib version 2.50.3.
# Compiled against Gtk version 2.24.31.
# Running on       Gtk version 2.24.31.
t/ActionTooltips-import.t .............. ok
# Perl-Gtk2    version 1.24991
# Perl-Glib    version 1.324
# Compiled against Glib version 2.50.3.
# Running on       Glib version 2.50.3.
# Compiled against Gtk version 2.24.31.
# Running on       Gtk version 2.24.31.
t/ActionTooltips.t ..................... ok
# Perl-Gtk2    version 1.24991
# Perl-Glib    version 1.324
# Compiled against Glib version 2.50.3.
# Running on       Glib version 2.50.3.
# Compiled against Gtk version 2.24.31.
# Running on       Gtk version 2.24.31.
# notify page_size
# changed
# value_changed
# notify value
# notify upper
# notify lower
# changed
# value_changed
# notify lower
# notify value
# changed
# value_changed
# notify lower
# notify step_increment
# notify page_size
# notify page_increment
# notify value
# notify upper
# changed
t/AdjustmentBits.t ..................... ok
t/ContainerBits-import.t ............... ok
t/ContainerBits-subclass.t ............. ok
# Perl-Gtk2    version 1.24991
# Perl-Glib    version 1.324
# Compiled against Glib version 2.50.3.
# Running on       Glib version 2.50.3.
# Compiled against Gtk version 2.24.31.
# Running on       Gtk version 2.24.31.
t/ContainerBits.t ...................... ok
# Perl-Gtk2    version 1.24991
# Perl-Glib    version 1.324
# Compiled against Glib version 2.50.3.
# Running on       Glib version 2.50.3.
# Compiled against Gtk version 2.24.31.
# Running on       Gtk version 2.24.31.
# [ sensitive parent-sensitive can-focus double-buffered ]
# [ sensitive parent-sensitive double-buffered ]
t/EntryBits.t .......................... ok
# Perl-Gtk2    version 1.24991
# Perl-Glib    version 1.324
# Compiled against Glib version 2.50.3.
# Running on       Glib version 2.50.3.
# Compiled against Gtk version 2.24.31.
# Running on       Gtk version 2.24.31.
t/FreezeChildNotify.t .................. ok
t/GdkBits-import.t ..................... ok
# Perl-Gtk2    version 1.24991
# Perl-Glib    version 1.324
# Compiled against Glib version 2.50.3.
# Running on       Glib version 2.50.3.
# Compiled against Gtk version 2.24.31.
# Running on       Gtk version 2.24.31.
t/GdkBits.t ............................ ok
# Perl-Gtk2    version 1.24991
# Perl-Glib    version 1.324
# Compiled against Glib version 2.50.3.
# Running on       Glib version 2.50.3.
# Compiled against Gtk version 2.24.31.
# Running on       Gtk version 2.24.31.
t/KeySnooper.t ......................... ok
t/LayoutBits.t ......................... ok
t/MenuBits-import.t .................... ok
t/MenuBits-load.t ...................... ok
t/MenuBits.t ........................... ok
# Gtk2::Ex::MenuItem::Subclass Glib::Object::Subclass Gtk2::CheckMenuItem Glib::Object::_Unregistered::AtkImplementorIface Gtk2::Buildable Gtk2::Activatable
# subclass CODE(0x5651e2b744b0)
# gobject  CODE(0x5651e27b5ea0)
# testwidg CODE(0x5651e2b744b0)
t/MenuItem-Subclass.t .................. ok
t/PixbufBits-load.t .................... ok
# Perl-Gtk2    version 1.24991
# Perl-Glib    version 1.324
# Compiled against Glib version 2.50.3.
# Running on       Glib version 2.50.3.
# Compiled against Gtk version 2.24.31.
# Running on       Gtk version 2.24.31.
t/PixbufBits.t ......................... ok
# re-create id 2 str Gtk2::Ex::Statusbar::DynamicContext.2
t/Statusbar-DynamicContext.t ........... ok
# Perl-Gtk2    version 1.24991
# Perl-Glib    version 1.324
# Compiled against Glib version 2.50.3.
# Running on       Glib version 2.50.3.
# Compiled against Gtk version 2.24.31.
# Running on       Gtk version 2.24.31.
# main_iterations(): ran 6 events/iterations
t/Statusbar-Message.t .................. ok
t/Statusbar-MessageUntilKey.t .......... ok
# Perl-Gtk2    version 1.24991
# Perl-Glib    version 1.324
# Compiled against Glib version 2.50.3.
# Running on       Glib version 2.50.3.
# Compiled against Gtk version 2.24.31.
# Running on       Gtk version 2.24.31.
t/SyncCall.t ........................... ok
# Perl-Gtk2    version 1.24991
# Perl-Glib    version 1.324
# Compiled against Glib version 2.50.3.
# Running on       Glib version 2.50.3.
# Compiled against Gtk version 2.24.31.
# Running on       Gtk version 2.24.31.
t/TableBits.t .......................... ok
t/Test-Weaken-Gtk2-ignore-display.t .... ok
t/Test-Weaken-Gtk2-ignore-root.t ....... ok
t/Test-Weaken-Gtk2-ignore-screen.t ..... ok
t/Test-Weaken-Gtk2-load.t .............. ok
# Perl-Gtk2    version 1.24991
# Perl-Glib    version 1.324
# Compiled against Glib version 2.50.3.
# Running on       Glib version 2.50.3.
# Compiled against Gtk version 2.24.31.
# Running on       Gtk version 2.24.31.
t/Test-Weaken-Gtk2.t ................... ok
Test::Without::Gtk2Things -- without Gtk2::Widget tooltips, per Gtk before 2.12
Test::Without::Gtk2Things -- without Gtk2::CellLayout get_cells() method, per Gtk before 2.12
Test::Without::Gtk2Things -- without Gtk2::MenuItem label and use-underline properties, per Gtk before 2.16
Test::Without::Gtk2Things -- without ListStore,TreeStore insert_with_values(), per Gtk before 2.6
Test::Without::Gtk2Things -- without CursorType blank-cursor, per Gtk before 2.16
Test::Without::Gtk2Things -- without Gdk2::Gdk::Display and Gtk2::Gdk::Screen, per Gtk 2.0.x
Test::Without::Gtk2Things -- without Gtk2::Builder and Buildable interface, per Gtk before 2.12
Test::Without::Gtk2Things -- without Gtk2::Gdk::Display warp_pointer() method, per Gtk before 2.8
Test::Without::Gtk2Things -- without Gtk2::CheckMenuItem/ToggleAction draw-as-radio property, per Gtk before 2.4
Test::Without::Gtk2Things -- count without 9 things
t/Test-Without-Gtk2Things.t ............ ok
t/TextBufferBits.t ..................... ok
t/ToolbarBits-load.t ................... ok
# Perl-Gtk2    version 1.24991
# Perl-Glib    version 1.324
# Compiled against Glib version 2.50.3.
# Running on       Glib version 2.50.3.
# Compiled against Gtk version 2.24.31.
# Running on       Gtk version 2.24.31.
t/ToolItem-CheckButton-builder.t ....... ok
t/ToolItem-CheckButton-load.t .......... ok
t/ToolItem-CheckButton-weaken.t ........ skipped: due to Test::Weaken 3 not available -- Can't locate Test/Weaken.pm in @INC (you may need to install the Test::Weaken module) (@INC contains: t /tmp/loop_over_bdir-15258-8517lS/Gtk2-Ex-WidgetBits-48-0/blib/lib /tmp/loop_over_bdir-15258-8517lS/Gtk2-Ex-WidgetBits-48-0/blib/arch /home/sand/src/perl/repoperls/installed-perls/host/k93msid/v5.25.4/0a29/lib/site_perl/5.25.4/x86_64-linux-ld /home/sand/src/perl/repoperls/installed-perls/host/k93msid/v5.25.4/0a29/lib/site_perl/5.25.4 /home/sand/src/perl/repoperls/installed-perls/host/k93msid/v5.25.4/0a29/lib/5.25.4/x86_64-linux-ld /home/sand/src/perl/repoperls/installed-perls/host/k93msid/v5.25.4/0a29/lib/5.25.4 .) at (eval 9) line 1.
# Perl-Gtk2    version 1.24991
# Perl-Glib    version 1.324
# Compiled against Glib version 2.50.3.
# Running on       Glib version 2.50.3.
# Compiled against Gtk version 2.24.31.
# Running on       Gtk version 2.24.31.
t/ToolItem-CheckButton.t ............... ok
t/ToolItem-OverflowToDialog-builder.t .. ok
t/ToolItem-OverflowToDialog-weaken.t ... skipped: due to Test::Weaken 3 not available -- Can't locate Test/Weaken.pm in @INC (you may need to install the Test::Weaken module) (@INC contains: t /tmp/loop_over_bdir-15258-8517lS/Gtk2-Ex-WidgetBits-48-0/blib/lib /tmp/loop_over_bdir-15258-8517lS/Gtk2-Ex-WidgetBits-48-0/blib/arch /home/sand/src/perl/repoperls/installed-perls/host/k93msid/v5.25.4/0a29/lib/site_perl/5.25.4/x86_64-linux-ld /home/sand/src/perl/repoperls/installed-perls/host/k93msid/v5.25.4/0a29/lib/site_perl/5.25.4 /home/sand/src/perl/repoperls/installed-perls/host/k93msid/v5.25.4/0a29/lib/5.25.4/x86_64-linux-ld /home/sand/src/perl/repoperls/installed-perls/host/k93msid/v5.25.4/0a29/lib/5.25.4 .) at (eval 9) line 1.
# main_iterations(): ran 2 events/iterations
# main_iterations(): ran 1 events/iterations
# main_iterations(): ran 1 events/iterations
# main_iterations(): ran 11 events/iterations
t/ToolItem-OverflowToDialog.t .......... ok
t/TreeModel-ImplBits-import.t .......... ok
t/TreeModel-ImplBits.t ................. ok
t/TreeModelBits-import.t ............... ok
# Perl-Gtk2    version 1.24991
# Perl-Glib    version 1.324
# Compiled against Glib version 2.50.3.
# Running on       Glib version 2.50.3.
# Compiled against Gtk version 2.24.31.
# Running on       Gtk version 2.24.31.
t/TreeModelBits.t ...................... ok
# MyOneRemovesAll remove() all
t/TreeModelFilter-Change.t ............. ok
t/TreeViewBits.t ....................... ok
t/Units-import.t ....................... ok
# Perl-Gtk2    version 1.24991
# Perl-Glib    version 1.324
# Compiled against Glib version 2.50.3.
# Running on       Glib version 2.50.3.
# Compiled against Gtk version 2.24.31.
# Running on       Gtk version 2.24.31.
# em=12, ex=8, char=7.0673828125, digit=9
t/Units.t .............................. ok
# Perl-Gtk2    version 1.24991
# Perl-Glib    version 1.324
# Compiled against Glib version 2.50.3.
# Running on       Glib version 2.50.3.
# Compiled against Gtk version 2.24.31.
# Running on       Gtk version 2.24.31.
# wait_for_event(): 'map-event' ran 2 events/iterations
# toplevel at 0, 0
# wait_for_event(): 'size-allocate' ran 3 events/iterations
# layout win relative position 0,0
# toplevel at 0, 0
# layout   at 0, 0
# main_iterations(): ran 2 events/iterations
# toplevel at 0, 0
# label   at 20, 30
# wait_for_event(): 'map-event' ran 4 events/iterations
t/WidgetBits.t ......................... ok
# Perl-Gtk2    version 1.24991
# Perl-Glib    version 1.324
# Compiled against Glib version 2.50.3.
# Running on       Glib version 2.50.3.
# Compiled against Gtk version 2.24.31.
# Running on       Gtk version 2.24.31.
t/WidgetEvents.t ....................... ok
All tests successful.
Files=48, Tests=783, 17 wallclock secs ( 0.15 usr  0.23 sys +  4.17 cusr  1.26 csys =  5.81 CPU)
Result: PASS

------------------------------
PREREQUISITES
------------------------------

Prerequisite modules loaded:

requires:

    Module                 Need  Have    
    ---------------------- ----- --------
    Glib                   0     1.324   
    Glib::Ex::FreezeNotify 1     16      
    Glib::Ex::SignalIds    1     16      
    Glib::Object::Subclass 0     1.324   
    Gtk2                   1.200 1.24991 
    Gtk2::Pango            0     0.01    
    perl                   5.008 5.025004
    Scope::Guard           0     0.21    

build_requires:

    Module                 Need  Have    
    ---------------------- ----- --------
    ExtUtils::MakeMaker    0     7.24    

configure_requires:

    Module                 Need  Have    
    ---------------------- ----- --------
    ExtUtils::MakeMaker    0     7.24    


------------------------------
ENVIRONMENT AND OTHER CONTEXT
------------------------------

Environment variables:

    AUTOMATED_TESTING = 1
    LANG = en_US.UTF-8
    PATH = /home/sand/bin:/usr/local/bin:/usr/bin:/bin:/usr/games:/usr/local/perl/bin:/usr/X11/bin:/sbin:/usr/sbin
    PERL5LIB = 
    PERL5OPT = 
    PERL5_CPANPLUS_IS_RUNNING = 15273
    PERL5_CPAN_IS_RUNNING = 15273
    PERL_CANARY_STABILITY_NOPROMPT = 1
    PERL_MM_USE_DEFAULT = 1
    PERL_USE_UNSAFE_INC = 1
    SHELL = /usr/bin/zsh
    TERM = screen

Perl special variables (and OS-specific diagnostics, for MSWin32):

    $^X = /home/sand/src/perl/repoperls/installed-perls/host/k93msid/v5.25.4/0a29/bin/perl
    $UID/$EUID = 1005 / 1005
    $GID = 1005 1005
    $EGID = 1005 1005

Perl module toolchain versions installed:

    Module              Have      
    ------------------- ----------
    CPAN                2.17      
    CPAN::Meta          2.150010  
    Cwd                 3.65      
    ExtUtils::CBuilder  0.280225  
    ExtUtils::Command   7.24      
    ExtUtils::Install   2.04      
    ExtUtils::MakeMaker 7.24      
    ExtUtils::Manifest  1.70      
    ExtUtils::ParseXS   3.33      
    File::Spec          3.65      
    JSON                2.90      
    JSON::PP            2.27400_01
    Module::Build       0.4220    
    Module::Signature   0.81      
    Parse::CPAN::Meta   2.150010  
    Test::Harness       3.38      
    Test::More          1.302078  
    YAML                1.23      
    YAML::Syck          1.29      
    version             0.9917    


--

Summary of my perl5 (revision 5 version 25 subversion 4) configuration:
  Derived from: b73b57c35742ecac4ef0159538c054fa96ba6772
  Platform:
    osname=linux
    osvers=4.9.0-2-amd64
    archname=x86_64-linux-ld
    uname='linux k93msid 4.9.0-2-amd64 #1 smp debian 4.9.13-1 (2017-02-27) x86_64 gnulinux '
    config_args='-Dprefix=/home/sand/src/perl/repoperls/installed-perls/host/k93msid/v5.25.4/0a29 -Dmyhostname=k93msid -Dinstallusrbinperl=n -Uversiononly -Dusedevel -des -Ui_db -Dlibswanted=cl pthread socket inet nsl gdbm dbm malloc dl ld sun m crypt sec util c cposix posix ucb BSD gdbm_compat -Uuseithreads -Duselongdouble -DDEBUGGING=both'
    hint=recommended
    useposix=true
    d_sigaction=define
    useithreads=undef
    usemultiplicity=undef
    use64bitint=define
    use64bitall=define
    uselongdouble=define
    usemymalloc=n
    bincompat5005=undef
  Compiler:
    cc='cc'
    ccflags ='-fwrapv -DDEBUGGING -fno-strict-aliasing -pipe -fstack-protector-strong -I/usr/local/include -D_LARGEFILE_SOURCE -D_FILE_OFFSET_BITS=64'
    optimize='-O2 -g'
    cppflags='-fwrapv -DDEBUGGING -fno-strict-aliasing -pipe -fstack-protector-strong -I/usr/local/include'
    ccversion=''
    gccversion='6.3.0 20170316'
    gccosandvers=''
    intsize=4
    longsize=8
    ptrsize=8
    doublesize=8
    byteorder=12345678
    doublekind=3
    d_longlong=define
    longlongsize=8
    d_longdbl=define
    longdblsize=16
    longdblkind=3
    ivtype='long'
    ivsize=8
    nvtype='long double'
    nvsize=16
    Off_t='off_t'
    lseeksize=8
    alignbytes=16
    prototype=define
  Linker and Libraries:
    ld='cc'
    ldflags =' -fstack-protector-strong -L/usr/local/lib'
    libpth=/usr/local/lib /usr/lib/gcc/x86_64-linux-gnu/6/include-fixed /usr/include/x86_64-linux-gnu /usr/lib /lib/x86_64-linux-gnu /lib/../lib /usr/lib/x86_64-linux-gnu /usr/lib/../lib /lib
    libs=-lpthread -lnsl -ldl -lm -lcrypt -lutil -lc
    perllibs=-lpthread -lnsl -ldl -lm -lcrypt -lutil -lc
    libc=libc-2.24.so
    so=so
    useshrplib=false
    libperl=libperl.a
    gnulibc_version='2.24'
  Dynamic Linking:
    dlsrc=dl_dlopen.xs
    dlext=so
    d_dlsymun=undef
    ccdlflags='-Wl,-E'
    cccdlflags='-fPIC'
    lddlflags='-shared -O2 -g -L/usr/local/lib -fstack-protector-strong'


Characteristics of this binary (from libperl): 
  Compile-time options:
    DEBUGGING
    HAS_TIMES
    PERLIO_LAYERS
    PERL_COPY_ON_WRITE
    PERL_DONT_CREATE_GVSV
    PERL_HASH_FUNC_ONE_AT_A_TIME_HARD
    PERL_MALLOC_WRAP
    PERL_OP_PARENT
    PERL_PRESERVE_IVUV
    PERL_USE_DEVEL
    USE_64_BIT_ALL
    USE_64_BIT_INT
    USE_LARGE_FILES
    USE_LOCALE
    USE_LOCALE_COLLATE
    USE_LOCALE_CTYPE
    USE_LOCALE_NUMERIC
    USE_LOCALE_TIME
    USE_LONG_DOUBLE
    USE_PERLIO
    USE_PERL_ATOF
  Locally applied patches:
    uncommitted-changes
  Built under linux
  Compiled at Mar 19 2017 05:26:25
  %ENV:
    PERL5LIB=""
    PERL5OPT=""
    PERL5_CPANPLUS_IS_RUNNING="15273"
    PERL5_CPAN_IS_RUNNING="15273"
    PERL_CANARY_STABILITY_NOPROMPT="1"
    PERL_MM_USE_DEFAULT="1"
    PERL_USE_UNSAFE_INC="1"
  @INC:
    /home/sand/src/perl/repoperls/installed-perls/host/k93msid/v5.25.4/0a29/lib/site_perl/5.25.4/x86_64-linux-ld
    /home/sand/src/perl/repoperls/installed-perls/host/k93msid/v5.25.4/0a29/lib/site_perl/5.25.4
    /home/sand/src/perl/repoperls/installed-perls/host/k93msid/v5.25.4/0a29/lib/5.25.4/x86_64-linux-ld
    /home/sand/src/perl/repoperls/installed-perls/host/k93msid/v5.25.4/0a29/lib/5.25.4
    .