Lingua-DE-ASCII v0.14 Perl 5 v5.41.5 x86_64-linux-ld
- Status
- Pass
- From
- Andreas J. König (ANDK)
- Dist
-
Lingua-DE-ASCII v0.14
- Platform
- Perl 5 v5.41.5 x86_64-linux-ld
- Date
- 2024-11-16 00:57:43
- ID
- c982ba22-a3b5-11ef-b3bb-57e91006cc4f
This distribution has been tested as part of the CPAN Testers
project, supporting the Perl programming language. See
http://wiki.cpantesters.org/ for more information or email
questions to cpan-testers-discuss@perl.org
--
Dear Janek Schleicher,
This is a computer-generated report for Lingua-DE-ASCII-0.14
on perl 5.41.5, created by CPAN-Reporter-1.2020.
Thank you for uploading your work to CPAN. Congratulations!
All tests were successful.
Sections of this report:
* Tester comments
* Program output
* Prerequisites
* Environment and other context
------------------------------
TESTER COMMENTS
------------------------------
Additional comments from tester:
this report is from an automated smoke testing program
and was not reviewed by a human for accuracy
------------------------------
PROGRAM OUTPUT
------------------------------
Output from '/usr/bin/make test':
PERL_DL_NONLAZY=1 "/tmp/basesmoker-reloperl-4ia_/bin/perl" "-MExtUtils::Command::MM" "-MTest::Harness" "-e" "undef *Test::Harness::Switches; test_harness(0, 'blib/lib', 'blib/arch')" t/*.t
t/1.t ............................ ok
t/only_ascii.t ................... ok
t/special_characters.t ........... ok
t/to_ascii.t ..................... ok
[Sat Nov 16 00:56:47 2024] Words tested from the big dictionary: 0%
[Sat Nov 16 00:56:47 2024] Words tested from the big dictionary: 0%
[Sat Nov 16 00:56:47 2024] Words tested from the big dictionary: 0%
[Sat Nov 16 00:56:47 2024] Words tested from the big dictionary: 0%
[Sat Nov 16 00:56:48 2024] Words tested from the big dictionary: 0%
[Sat Nov 16 00:56:48 2024] Words tested from the big dictionary: 0%
[Sat Nov 16 00:56:48 2024] Words tested from the big dictionary: 0%
[Sat Nov 16 00:56:48 2024] Words tested from the big dictionary: 0%
[Sat Nov 16 00:56:48 2024] Words tested from the big dictionary: 0%
[Sat Nov 16 00:56:48 2024] Words tested from the big dictionary: 0%
[Sat Nov 16 00:56:48 2024] Words tested from the big dictionary: 0%
[Sat Nov 16 00:56:48 2024] Words tested from the big dictionary: 0%
[Sat Nov 16 00:56:48 2024] Words tested from the big dictionary: 1%
[Sat Nov 16 00:56:48 2024] Words tested from the big dictionary: 1%
[Sat Nov 16 00:56:48 2024] Words tested from the big dictionary: 1%
[Sat Nov 16 00:56:48 2024] Words tested from the big dictionary: 1%
[Sat Nov 16 00:56:48 2024] Words tested from the big dictionary: 1%
[Sat Nov 16 00:56:48 2024] Words tested from the big dictionary: 1%
[Sat Nov 16 00:56:48 2024] Words tested from the big dictionary: 1%
[Sat Nov 16 00:56:48 2024] Words tested from the big dictionary: 1%
[Sat Nov 16 00:56:48 2024] Words tested from the big dictionary: 1%
[Sat Nov 16 00:56:48 2024] Words tested from the big dictionary: 1%
[Sat Nov 16 00:56:48 2024] Words tested from the big dictionary: 1%
[Sat Nov 16 00:56:48 2024] Words tested from the big dictionary: 2%
[Sat Nov 16 00:56:48 2024] Words tested from the big dictionary: 2%
[Sat Nov 16 00:56:48 2024] Words tested from the big dictionary: 2%
[Sat Nov 16 00:56:48 2024] Words tested from the big dictionary: 2%
[Sat Nov 16 00:56:48 2024] Words tested from the big dictionary: 2%
[Sat Nov 16 00:56:48 2024] Words tested from the big dictionary: 2%
[Sat Nov 16 00:56:48 2024] Words tested from the big dictionary: 2%
[Sat Nov 16 00:56:48 2024] Words tested from the big dictionary: 2%
[Sat Nov 16 00:56:48 2024] Words tested from the big dictionary: 2%
[Sat Nov 16 00:56:48 2024] Words tested from the big dictionary: 2%
[Sat Nov 16 00:56:48 2024] Words tested from the big dictionary: 2%
[Sat Nov 16 00:56:48 2024] Words tested from the big dictionary: 3%
[Sat Nov 16 00:56:48 2024] Words tested from the big dictionary: 3%
[Sat Nov 16 00:56:48 2024] Words tested from the big dictionary: 3%
[Sat Nov 16 00:56:48 2024] Words tested from the big dictionary: 3%
[Sat Nov 16 00:56:48 2024] Words tested from the big dictionary: 3%
[Sat Nov 16 00:56:48 2024] Words tested from the big dictionary: 3%
[Sat Nov 16 00:56:48 2024] Words tested from the big dictionary: 3%
[Sat Nov 16 00:56:48 2024] Words tested from the big dictionary: 3%
[Sat Nov 16 00:56:48 2024] Words tested from the big dictionary: 3%
[Sat Nov 16 00:56:48 2024] Words tested from the big dictionary: 3%
[Sat Nov 16 00:56:48 2024] Words tested from the big dictionary: 3%
[Sat Nov 16 00:56:48 2024] Words tested from the big dictionary: 4%
[Sat Nov 16 00:56:48 2024] Words tested from the big dictionary: 4%
[Sat Nov 16 00:56:48 2024] Words tested from the big dictionary: 4%
[Sat Nov 16 00:56:49 2024] Words tested from the big dictionary: 4%
[Sat Nov 16 00:56:49 2024] Words tested from the big dictionary: 4%
[Sat Nov 16 00:56:49 2024] Words tested from the big dictionary: 4%
[Sat Nov 16 00:56:49 2024] Words tested from the big dictionary: 4%
[Sat Nov 16 00:56:49 2024] Words tested from the big dictionary: 4%
[Sat Nov 16 00:56:49 2024] Words tested from the big dictionary: 4%
[Sat Nov 16 00:56:49 2024] Words tested from the big dictionary: 4%
[Sat Nov 16 00:56:49 2024] Words tested from the big dictionary: 4%
[Sat Nov 16 00:56:49 2024] Words tested from the big dictionary: 5%
[Sat Nov 16 00:56:49 2024] Words tested from the big dictionary: 5%
[Sat Nov 16 00:56:49 2024] Words tested from the big dictionary: 5%
[Sat Nov 16 00:56:49 2024] Words tested from the big dictionary: 5%
[Sat Nov 16 00:56:49 2024] Words tested from the big dictionary: 5%
[Sat Nov 16 00:56:49 2024] Words tested from the big dictionary: 5%
[Sat Nov 16 00:56:49 2024] Words tested from the big dictionary: 5%
[Sat Nov 16 00:56:49 2024] Words tested from the big dictionary: 5%
[Sat Nov 16 00:56:49 2024] Words tested from the big dictionary: 5%
[Sat Nov 16 00:56:49 2024] Words tested from the big dictionary: 5%
[Sat Nov 16 00:56:49 2024] Words tested from the big dictionary: 5%
[Sat Nov 16 00:56:49 2024] Words tested from the big dictionary: 6%
[Sat Nov 16 00:56:49 2024] Words tested from the big dictionary: 6%
[Sat Nov 16 00:56:49 2024] Words tested from the big dictionary: 6%
[Sat Nov 16 00:56:49 2024] Words tested from the big dictionary: 6%
[Sat Nov 16 00:56:49 2024] Words tested from the big dictionary: 6%
[Sat Nov 16 00:56:49 2024] Words tested from the big dictionary: 6%
[Sat Nov 16 00:56:49 2024] Words tested from the big dictionary: 6%
[Sat Nov 16 00:56:49 2024] Words tested from the big dictionary: 6%
[Sat Nov 16 00:56:49 2024] Words tested from the big dictionary: 6%
[Sat Nov 16 00:56:49 2024] Words tested from the big dictionary: 6%
[Sat Nov 16 00:56:49 2024] Words tested from the big dictionary: 6%
[Sat Nov 16 00:56:49 2024] Words tested from the big dictionary: 7%
[Sat Nov 16 00:56:49 2024] Words tested from the big dictionary: 7%
[Sat Nov 16 00:56:49 2024] Words tested from the big dictionary: 7%
[Sat Nov 16 00:56:49 2024] Words tested from the big dictionary: 7%
[Sat Nov 16 00:56:49 2024] Words tested from the big dictionary: 7%
[Sat Nov 16 00:56:49 2024] Words tested from the big dictionary: 7%
[Sat Nov 16 00:56:49 2024] Words tested from the big dictionary: 7%
[Sat Nov 16 00:56:49 2024] Words tested from the big dictionary: 7%
[Sat Nov 16 00:56:49 2024] Words tested from the big dictionary: 7%
[Sat Nov 16 00:56:49 2024] Words tested from the big dictionary: 7%
[Sat Nov 16 00:56:49 2024] Words tested from the big dictionary: 7%
[Sat Nov 16 00:56:49 2024] Words tested from the big dictionary: 8%
[Sat Nov 16 00:56:49 2024] Words tested from the big dictionary: 8%
[Sat Nov 16 00:56:50 2024] Words tested from the big dictionary: 8%
[Sat Nov 16 00:56:50 2024] Words tested from the big dictionary: 8%
[Sat Nov 16 00:56:50 2024] Words tested from the big dictionary: 8%
[Sat Nov 16 00:56:50 2024] Words tested from the big dictionary: 8%
[Sat Nov 16 00:56:50 2024] Words tested from the big dictionary: 8%
[Sat Nov 16 00:56:50 2024] Words tested from the big dictionary: 8%
[Sat Nov 16 00:56:50 2024] Words tested from the big dictionary: 8%
[Sat Nov 16 00:56:50 2024] Words tested from the big dictionary: 8%
[Sat Nov 16 00:56:50 2024] Words tested from the big dictionary: 8%
[Sat Nov 16 00:56:50 2024] Words tested from the big dictionary: 9%
[Sat Nov 16 00:56:50 2024] Words tested from the big dictionary: 9%
[Sat Nov 16 00:56:50 2024] Words tested from the big dictionary: 9%
[Sat Nov 16 00:56:50 2024] Words tested from the big dictionary: 9%
[Sat Nov 16 00:56:50 2024] Words tested from the big dictionary: 9%
[Sat Nov 16 00:56:50 2024] Words tested from the big dictionary: 9%
[Sat Nov 16 00:56:50 2024] Words tested from the big dictionary: 9%
[Sat Nov 16 00:56:50 2024] Words tested from the big dictionary: 9%
[Sat Nov 16 00:56:50 2024] Words tested from the big dictionary: 9%
[Sat Nov 16 00:56:50 2024] Words tested from the big dictionary: 9%
[Sat Nov 16 00:56:50 2024] Words tested from the big dictionary: 10%
[Sat Nov 16 00:56:50 2024] Words tested from the big dictionary: 10%
[Sat Nov 16 00:56:50 2024] Words tested from the big dictionary: 10%
[Sat Nov 16 00:56:50 2024] Words tested from the big dictionary: 10%
[Sat Nov 16 00:56:50 2024] Words tested from the big dictionary: 10%
[Sat Nov 16 00:56:50 2024] Words tested from the big dictionary: 10%
[Sat Nov 16 00:56:50 2024] Words tested from the big dictionary: 10%
[Sat Nov 16 00:56:50 2024] Words tested from the big dictionary: 10%
[Sat Nov 16 00:56:50 2024] Words tested from the big dictionary: 10%
[Sat Nov 16 00:56:50 2024] Words tested from the big dictionary: 10%
[Sat Nov 16 00:56:50 2024] Words tested from the big dictionary: 10%
[Sat Nov 16 00:56:50 2024] Words tested from the big dictionary: 11%
[Sat Nov 16 00:56:50 2024] Words tested from the big dictionary: 11%
[Sat Nov 16 00:56:50 2024] Words tested from the big dictionary: 11%
[Sat Nov 16 00:56:50 2024] Words tested from the big dictionary: 11%
[Sat Nov 16 00:56:50 2024] Words tested from the big dictionary: 11%
[Sat Nov 16 00:56:50 2024] Words tested from the big dictionary: 11%
[Sat Nov 16 00:56:50 2024] Words tested from the big dictionary: 11%
[Sat Nov 16 00:56:50 2024] Words tested from the big dictionary: 11%
[Sat Nov 16 00:56:50 2024] Words tested from the big dictionary: 11%
[Sat Nov 16 00:56:51 2024] Words tested from the big dictionary: 11%
[Sat Nov 16 00:56:51 2024] Words tested from the big dictionary: 11%
[Sat Nov 16 00:56:51 2024] Words tested from the big dictionary: 12%
[Sat Nov 16 00:56:51 2024] Words tested from the big dictionary: 12%
[Sat Nov 16 00:56:51 2024] Words tested from the big dictionary: 12%
[Sat Nov 16 00:56:51 2024] Words tested from the big dictionary: 12%
[Sat Nov 16 00:56:51 2024] Words tested from the big dictionary: 12%
[Sat Nov 16 00:56:51 2024] Words tested from the big dictionary: 12%
[Sat Nov 16 00:56:51 2024] Words tested from the big dictionary: 12%
[Sat Nov 16 00:56:51 2024] Words tested from the big dictionary: 12%
[Sat Nov 16 00:56:51 2024] Words tested from the big dictionary: 12%
[Sat Nov 16 00:56:51 2024] Words tested from the big dictionary: 12%
[Sat Nov 16 00:56:51 2024] Words tested from the big dictionary: 12%
[Sat Nov 16 00:56:51 2024] Words tested from the big dictionary: 13%
[Sat Nov 16 00:56:51 2024] Words tested from the big dictionary: 13%
[Sat Nov 16 00:56:51 2024] Words tested from the big dictionary: 13%
[Sat Nov 16 00:56:51 2024] Words tested from the big dictionary: 13%
[Sat Nov 16 00:56:51 2024] Words tested from the big dictionary: 13%
[Sat Nov 16 00:56:51 2024] Words tested from the big dictionary: 13%
[Sat Nov 16 00:56:51 2024] Words tested from the big dictionary: 13%
[Sat Nov 16 00:56:51 2024] Words tested from the big dictionary: 13%
[Sat Nov 16 00:56:51 2024] Words tested from the big dictionary: 13%
[Sat Nov 16 00:56:51 2024] Words tested from the big dictionary: 13%
[Sat Nov 16 00:56:51 2024] Words tested from the big dictionary: 13%
[Sat Nov 16 00:56:51 2024] Words tested from the big dictionary: 14%
[Sat Nov 16 00:56:51 2024] Words tested from the big dictionary: 14%
[Sat Nov 16 00:56:51 2024] Words tested from the big dictionary: 14%
[Sat Nov 16 00:56:51 2024] Words tested from the big dictionary: 14%
[Sat Nov 16 00:56:51 2024] Words tested from the big dictionary: 14%
[Sat Nov 16 00:56:51 2024] Words tested from the big dictionary: 14%
[Sat Nov 16 00:56:51 2024] Words tested from the big dictionary: 14%
[Sat Nov 16 00:56:51 2024] Words tested from the big dictionary: 14%
[Sat Nov 16 00:56:51 2024] Words tested from the big dictionary: 14%
[Sat Nov 16 00:56:51 2024] Words tested from the big dictionary: 14%
[Sat Nov 16 00:56:52 2024] Words tested from the big dictionary: 14%
[Sat Nov 16 00:56:52 2024] Words tested from the big dictionary: 15%
[Sat Nov 16 00:56:52 2024] Words tested from the big dictionary: 15%
[Sat Nov 16 00:56:52 2024] Words tested from the big dictionary: 15%
[Sat Nov 16 00:56:52 2024] Words tested from the big dictionary: 15%
[Sat Nov 16 00:56:52 2024] Words tested from the big dictionary: 15%
[Sat Nov 16 00:56:52 2024] Words tested from the big dictionary: 15%
[Sat Nov 16 00:56:52 2024] Words tested from the big dictionary: 15%
[Sat Nov 16 00:56:52 2024] Words tested from the big dictionary: 15%
[Sat Nov 16 00:56:52 2024] Words tested from the big dictionary: 15%
[Sat Nov 16 00:56:52 2024] Words tested from the big dictionary: 15%
[Sat Nov 16 00:56:52 2024] Words tested from the big dictionary: 15%
[Sat Nov 16 00:56:52 2024] Words tested from the big dictionary: 16%
[Sat Nov 16 00:56:52 2024] Words tested from the big dictionary: 16%
[Sat Nov 16 00:56:52 2024] Words tested from the big dictionary: 16%
[Sat Nov 16 00:56:52 2024] Words tested from the big dictionary: 16%
[Sat Nov 16 00:56:52 2024] Words tested from the big dictionary: 16%
[Sat Nov 16 00:56:52 2024] Words tested from the big dictionary: 16%
[Sat Nov 16 00:56:52 2024] Words tested from the big dictionary: 16%
[Sat Nov 16 00:56:52 2024] Words tested from the big dictionary: 16%
[Sat Nov 16 00:56:52 2024] Words tested from the big dictionary: 16%
[Sat Nov 16 00:56:52 2024] Words tested from the big dictionary: 16%
[Sat Nov 16 00:56:52 2024] Words tested from the big dictionary: 16%
[Sat Nov 16 00:56:52 2024] Words tested from the big dictionary: 17%
[Sat Nov 16 00:56:52 2024] Words tested from the big dictionary: 17%
[Sat Nov 16 00:56:52 2024] Words tested from the big dictionary: 17%
[Sat Nov 16 00:56:52 2024] Words tested from the big dictionary: 17%
[Sat Nov 16 00:56:52 2024] Words tested from the big dictionary: 17%
[Sat Nov 16 00:56:52 2024] Words tested from the big dictionary: 17%
[Sat Nov 16 00:56:52 2024] Words tested from the big dictionary: 17%
[Sat Nov 16 00:56:52 2024] Words tested from the big dictionary: 17%
[Sat Nov 16 00:56:52 2024] Words tested from the big dictionary: 17%
[Sat Nov 16 00:56:52 2024] Words tested from the big dictionary: 17%
[Sat Nov 16 00:56:52 2024] Words tested from the big dictionary: 17%
[Sat Nov 16 00:56:52 2024] Words tested from the big dictionary: 18%
[Sat Nov 16 00:56:52 2024] Words tested from the big dictionary: 18%
[Sat Nov 16 00:56:53 2024] Words tested from the big dictionary: 18%
[Sat Nov 16 00:56:53 2024] Words tested from the big dictionary: 18%
[Sat Nov 16 00:56:53 2024] Words tested from the big dictionary: 18%
[Sat Nov 16 00:56:53 2024] Words tested from the big dictionary: 18%
[Sat Nov 16 00:56:53 2024] Words tested from the big dictionary: 18%
[Sat Nov 16 00:56:53 2024] Words tested from the big dictionary: 18%
[Sat Nov 16 00:56:53 2024] Words tested from the big dictionary: 18%
[Sat Nov 16 00:56:53 2024] Words tested from the big dictionary: 18%
[Sat Nov 16 00:56:53 2024] Words tested from the big dictionary: 18%
[Sat Nov 16 00:56:53 2024] Words tested from the big dictionary: 19%
[Sat Nov 16 00:56:53 2024] Words tested from the big dictionary: 19%
[Sat Nov 16 00:56:53 2024] Words tested from the big dictionary: 19%
[Sat Nov 16 00:56:53 2024] Words tested from the big dictionary: 19%
[Sat Nov 16 00:56:53 2024] Words tested from the big dictionary: 19%
[Sat Nov 16 00:56:53 2024] Words tested from the big dictionary: 19%
[Sat Nov 16 00:56:53 2024] Words tested from the big dictionary: 19%
[Sat Nov 16 00:56:53 2024] Words tested from the big dictionary: 19%
[Sat Nov 16 00:56:53 2024] Words tested from the big dictionary: 19%
[Sat Nov 16 00:56:53 2024] Words tested from the big dictionary: 19%
[Sat Nov 16 00:56:53 2024] Words tested from the big dictionary: 20%
[Sat Nov 16 00:56:53 2024] Words tested from the big dictionary: 20%
[Sat Nov 16 00:56:53 2024] Words tested from the big dictionary: 20%
[Sat Nov 16 00:56:53 2024] Words tested from the big dictionary: 20%
[Sat Nov 16 00:56:53 2024] Words tested from the big dictionary: 20%
[Sat Nov 16 00:56:53 2024] Words tested from the big dictionary: 20%
[Sat Nov 16 00:56:53 2024] Words tested from the big dictionary: 20%
[Sat Nov 16 00:56:53 2024] Words tested from the big dictionary: 20%
[Sat Nov 16 00:56:53 2024] Words tested from the big dictionary: 20%
[Sat Nov 16 00:56:53 2024] Words tested from the big dictionary: 20%
[Sat Nov 16 00:56:53 2024] Words tested from the big dictionary: 20%
[Sat Nov 16 00:56:53 2024] Words tested from the big dictionary: 21%
[Sat Nov 16 00:56:53 2024] Words tested from the big dictionary: 21%
[Sat Nov 16 00:56:53 2024] Words tested from the big dictionary: 21%
[Sat Nov 16 00:56:53 2024] Words tested from the big dictionary: 21%
[Sat Nov 16 00:56:53 2024] Words tested from the big dictionary: 21%
[Sat Nov 16 00:56:53 2024] Words tested from the big dictionary: 21%
[Sat Nov 16 00:56:53 2024] Words tested from the big dictionary: 21%
[Sat Nov 16 00:56:53 2024] Words tested from the big dictionary: 21%
[Sat Nov 16 00:56:53 2024] Words tested from the big dictionary: 21%
[Sat Nov 16 00:56:53 2024] Words tested from the big dictionary: 21%
[Sat Nov 16 00:56:53 2024] Words tested from the big dictionary: 21%
[Sat Nov 16 00:56:54 2024] Words tested from the big dictionary: 22%
[Sat Nov 16 00:56:54 2024] Words tested from the big dictionary: 22%
[Sat Nov 16 00:56:54 2024] Words tested from the big dictionary: 22%
[Sat Nov 16 00:56:54 2024] Words tested from the big dictionary: 22%
[Sat Nov 16 00:56:54 2024] Words tested from the big dictionary: 22%
[Sat Nov 16 00:56:54 2024] Words tested from the big dictionary: 22%
[Sat Nov 16 00:56:54 2024] Words tested from the big dictionary: 22%
[Sat Nov 16 00:56:54 2024] Words tested from the big dictionary: 22%
[Sat Nov 16 00:56:54 2024] Words tested from the big dictionary: 22%
[Sat Nov 16 00:56:54 2024] Words tested from the big dictionary: 22%
[Sat Nov 16 00:56:54 2024] Words tested from the big dictionary: 22%
[Sat Nov 16 00:56:54 2024] Words tested from the big dictionary: 23%
[Sat Nov 16 00:56:54 2024] Words tested from the big dictionary: 23%
[Sat Nov 16 00:56:54 2024] Words tested from the big dictionary: 23%
[Sat Nov 16 00:56:54 2024] Words tested from the big dictionary: 23%
[Sat Nov 16 00:56:54 2024] Words tested from the big dictionary: 23%
[Sat Nov 16 00:56:54 2024] Words tested from the big dictionary: 23%
[Sat Nov 16 00:56:54 2024] Words tested from the big dictionary: 23%
[Sat Nov 16 00:56:54 2024] Words tested from the big dictionary: 23%
[Sat Nov 16 00:56:54 2024] Words tested from the big dictionary: 23%
[Sat Nov 16 00:56:54 2024] Words tested from the big dictionary: 23%
[Sat Nov 16 00:56:54 2024] Words tested from the big dictionary: 23%
[Sat Nov 16 00:56:54 2024] Words tested from the big dictionary: 24%
[Sat Nov 16 00:56:54 2024] Words tested from the big dictionary: 24%
[Sat Nov 16 00:56:54 2024] Words tested from the big dictionary: 24%
[Sat Nov 16 00:56:54 2024] Words tested from the big dictionary: 24%
[Sat Nov 16 00:56:54 2024] Words tested from the big dictionary: 24%
[Sat Nov 16 00:56:54 2024] Words tested from the big dictionary: 24%
[Sat Nov 16 00:56:54 2024] Words tested from the big dictionary: 24%
[Sat Nov 16 00:56:54 2024] Words tested from the big dictionary: 24%
[Sat Nov 16 00:56:54 2024] Words tested from the big dictionary: 24%
[Sat Nov 16 00:56:54 2024] Words tested from the big dictionary: 24%
[Sat Nov 16 00:56:54 2024] Words tested from the big dictionary: 24%
[Sat Nov 16 00:56:54 2024] Words tested from the big dictionary: 25%
[Sat Nov 16 00:56:54 2024] Words tested from the big dictionary: 25%
[Sat Nov 16 00:56:54 2024] Words tested from the big dictionary: 25%
[Sat Nov 16 00:56:54 2024] Words tested from the big dictionary: 25%
[Sat Nov 16 00:56:54 2024] Words tested from the big dictionary: 25%
[Sat Nov 16 00:56:54 2024] Words tested from the big dictionary: 25%
[Sat Nov 16 00:56:55 2024] Words tested from the big dictionary: 25%
[Sat Nov 16 00:56:55 2024] Words tested from the big dictionary: 25%
[Sat Nov 16 00:56:55 2024] Words tested from the big dictionary: 25%
[Sat Nov 16 00:56:55 2024] Words tested from the big dictionary: 25%
[Sat Nov 16 00:56:55 2024] Words tested from the big dictionary: 25%
[Sat Nov 16 00:56:55 2024] Words tested from the big dictionary: 26%
[Sat Nov 16 00:56:55 2024] Words tested from the big dictionary: 26%
[Sat Nov 16 00:56:55 2024] Words tested from the big dictionary: 26%
[Sat Nov 16 00:56:55 2024] Words tested from the big dictionary: 26%
[Sat Nov 16 00:56:55 2024] Words tested from the big dictionary: 26%
[Sat Nov 16 00:56:55 2024] Words tested from the big dictionary: 26%
[Sat Nov 16 00:56:55 2024] Words tested from the big dictionary: 26%
[Sat Nov 16 00:56:55 2024] Words tested from the big dictionary: 26%
[Sat Nov 16 00:56:55 2024] Words tested from the big dictionary: 26%
[Sat Nov 16 00:56:55 2024] Words tested from the big dictionary: 26%
[Sat Nov 16 00:56:55 2024] Words tested from the big dictionary: 26%
[Sat Nov 16 00:56:55 2024] Words tested from the big dictionary: 27%
[Sat Nov 16 00:56:55 2024] Words tested from the big dictionary: 27%
[Sat Nov 16 00:56:55 2024] Words tested from the big dictionary: 27%
[Sat Nov 16 00:56:55 2024] Words tested from the big dictionary: 27%
[Sat Nov 16 00:56:55 2024] Words tested from the big dictionary: 27%
[Sat Nov 16 00:56:55 2024] Words tested from the big dictionary: 27%
[Sat Nov 16 00:56:55 2024] Words tested from the big dictionary: 27%
[Sat Nov 16 00:56:55 2024] Words tested from the big dictionary: 27%
[Sat Nov 16 00:56:55 2024] Words tested from the big dictionary: 27%
[Sat Nov 16 00:56:55 2024] Words tested from the big dictionary: 27%
[Sat Nov 16 00:56:55 2024] Words tested from the big dictionary: 27%
[Sat Nov 16 00:56:55 2024] Words tested from the big dictionary: 28%
[Sat Nov 16 00:56:55 2024] Words tested from the big dictionary: 28%
[Sat Nov 16 00:56:55 2024] Words tested from the big dictionary: 28%
[Sat Nov 16 00:56:55 2024] Words tested from the big dictionary: 28%
[Sat Nov 16 00:56:55 2024] Words tested from the big dictionary: 28%
[Sat Nov 16 00:56:55 2024] Words tested from the big dictionary: 28%
[Sat Nov 16 00:56:55 2024] Words tested from the big dictionary: 28%
[Sat Nov 16 00:56:55 2024] Words tested from the big dictionary: 28%
[Sat Nov 16 00:56:55 2024] Words tested from the big dictionary: 28%
[Sat Nov 16 00:56:56 2024] Words tested from the big dictionary: 28%
[Sat Nov 16 00:56:56 2024] Words tested from the big dictionary: 28%
[Sat Nov 16 00:56:56 2024] Words tested from the big dictionary: 29%
[Sat Nov 16 00:56:56 2024] Words tested from the big dictionary: 29%
[Sat Nov 16 00:56:56 2024] Words tested from the big dictionary: 29%
[Sat Nov 16 00:56:56 2024] Words tested from the big dictionary: 29%
[Sat Nov 16 00:56:56 2024] Words tested from the big dictionary: 29%
[Sat Nov 16 00:56:56 2024] Words tested from the big dictionary: 29%
[Sat Nov 16 00:56:56 2024] Words tested from the big dictionary: 29%
[Sat Nov 16 00:56:56 2024] Words tested from the big dictionary: 29%
[Sat Nov 16 00:56:56 2024] Words tested from the big dictionary: 29%
[Sat Nov 16 00:56:56 2024] Words tested from the big dictionary: 29%
[Sat Nov 16 00:56:56 2024] Words tested from the big dictionary: 30%
[Sat Nov 16 00:56:56 2024] Words tested from the big dictionary: 30%
[Sat Nov 16 00:56:56 2024] Words tested from the big dictionary: 30%
[Sat Nov 16 00:56:56 2024] Words tested from the big dictionary: 30%
[Sat Nov 16 00:56:56 2024] Words tested from the big dictionary: 30%
[Sat Nov 16 00:56:56 2024] Words tested from the big dictionary: 30%
[Sat Nov 16 00:56:56 2024] Words tested from the big dictionary: 30%
[Sat Nov 16 00:56:56 2024] Words tested from the big dictionary: 30%
[Sat Nov 16 00:56:56 2024] Words tested from the big dictionary: 30%
[Sat Nov 16 00:56:56 2024] Words tested from the big dictionary: 30%
[Sat Nov 16 00:56:56 2024] Words tested from the big dictionary: 30%
[Sat Nov 16 00:56:56 2024] Words tested from the big dictionary: 31%
[Sat Nov 16 00:56:56 2024] Words tested from the big dictionary: 31%
[Sat Nov 16 00:56:56 2024] Words tested from the big dictionary: 31%
[Sat Nov 16 00:56:56 2024] Words tested from the big dictionary: 31%
[Sat Nov 16 00:56:56 2024] Words tested from the big dictionary: 31%
[Sat Nov 16 00:56:56 2024] Words tested from the big dictionary: 31%
[Sat Nov 16 00:56:56 2024] Words tested from the big dictionary: 31%
[Sat Nov 16 00:56:56 2024] Words tested from the big dictionary: 31%
[Sat Nov 16 00:56:56 2024] Words tested from the big dictionary: 31%
[Sat Nov 16 00:56:56 2024] Words tested from the big dictionary: 31%
[Sat Nov 16 00:56:56 2024] Words tested from the big dictionary: 31%
[Sat Nov 16 00:56:56 2024] Words tested from the big dictionary: 32%
[Sat Nov 16 00:56:57 2024] Words tested from the big dictionary: 32%
[Sat Nov 16 00:56:57 2024] Words tested from the big dictionary: 32%
[Sat Nov 16 00:56:57 2024] Words tested from the big dictionary: 32%
[Sat Nov 16 00:56:57 2024] Words tested from the big dictionary: 32%
[Sat Nov 16 00:56:57 2024] Words tested from the big dictionary: 32%
[Sat Nov 16 00:56:57 2024] Words tested from the big dictionary: 32%
[Sat Nov 16 00:56:57 2024] Words tested from the big dictionary: 32%
[Sat Nov 16 00:56:57 2024] Words tested from the big dictionary: 32%
[Sat Nov 16 00:56:57 2024] Words tested from the big dictionary: 32%
[Sat Nov 16 00:56:57 2024] Words tested from the big dictionary: 32%
[Sat Nov 16 00:56:57 2024] Words tested from the big dictionary: 33%
[Sat Nov 16 00:56:57 2024] Words tested from the big dictionary: 33%
[Sat Nov 16 00:56:57 2024] Words tested from the big dictionary: 33%
[Sat Nov 16 00:56:57 2024] Words tested from the big dictionary: 33%
[Sat Nov 16 00:56:57 2024] Words tested from the big dictionary: 33%
[Sat Nov 16 00:56:57 2024] Words tested from the big dictionary: 33%
[Sat Nov 16 00:56:57 2024] Words tested from the big dictionary: 33%
[Sat Nov 16 00:56:57 2024] Words tested from the big dictionary: 33%
[Sat Nov 16 00:56:57 2024] Words tested from the big dictionary: 33%
[Sat Nov 16 00:56:57 2024] Words tested from the big dictionary: 33%
[Sat Nov 16 00:56:57 2024] Words tested from the big dictionary: 33%
[Sat Nov 16 00:56:57 2024] Words tested from the big dictionary: 34%
[Sat Nov 16 00:56:57 2024] Words tested from the big dictionary: 34%
[Sat Nov 16 00:56:57 2024] Words tested from the big dictionary: 34%
[Sat Nov 16 00:56:57 2024] Words tested from the big dictionary: 34%
[Sat Nov 16 00:56:57 2024] Words tested from the big dictionary: 34%
[Sat Nov 16 00:56:57 2024] Words tested from the big dictionary: 34%
[Sat Nov 16 00:56:57 2024] Words tested from the big dictionary: 34%
[Sat Nov 16 00:56:57 2024] Words tested from the big dictionary: 34%
[Sat Nov 16 00:56:57 2024] Words tested from the big dictionary: 34%
[Sat Nov 16 00:56:57 2024] Words tested from the big dictionary: 34%
[Sat Nov 16 00:56:57 2024] Words tested from the big dictionary: 34%
[Sat Nov 16 00:56:57 2024] Words tested from the big dictionary: 35%
[Sat Nov 16 00:56:57 2024] Words tested from the big dictionary: 35%
[Sat Nov 16 00:56:57 2024] Words tested from the big dictionary: 35%
[Sat Nov 16 00:56:58 2024] Words tested from the big dictionary: 35%
[Sat Nov 16 00:56:58 2024] Words tested from the big dictionary: 35%
[Sat Nov 16 00:56:58 2024] Words tested from the big dictionary: 35%
[Sat Nov 16 00:56:58 2024] Words tested from the big dictionary: 35%
[Sat Nov 16 00:56:58 2024] Words tested from the big dictionary: 35%
[Sat Nov 16 00:56:58 2024] Words tested from the big dictionary: 35%
[Sat Nov 16 00:56:58 2024] Words tested from the big dictionary: 35%
[Sat Nov 16 00:56:58 2024] Words tested from the big dictionary: 35%
[Sat Nov 16 00:56:58 2024] Words tested from the big dictionary: 36%
[Sat Nov 16 00:56:58 2024] Words tested from the big dictionary: 36%
[Sat Nov 16 00:56:58 2024] Words tested from the big dictionary: 36%
[Sat Nov 16 00:56:58 2024] Words tested from the big dictionary: 36%
[Sat Nov 16 00:56:58 2024] Words tested from the big dictionary: 36%
[Sat Nov 16 00:56:58 2024] Words tested from the big dictionary: 36%
[Sat Nov 16 00:56:58 2024] Words tested from the big dictionary: 36%
[Sat Nov 16 00:56:58 2024] Words tested from the big dictionary: 36%
[Sat Nov 16 00:56:58 2024] Words tested from the big dictionary: 36%
[Sat Nov 16 00:56:58 2024] Words tested from the big dictionary: 36%
[Sat Nov 16 00:56:58 2024] Words tested from the big dictionary: 36%
[Sat Nov 16 00:56:58 2024] Words tested from the big dictionary: 37%
[Sat Nov 16 00:56:58 2024] Words tested from the big dictionary: 37%
[Sat Nov 16 00:56:58 2024] Words tested from the big dictionary: 37%
[Sat Nov 16 00:56:58 2024] Words tested from the big dictionary: 37%
[Sat Nov 16 00:56:58 2024] Words tested from the big dictionary: 37%
[Sat Nov 16 00:56:58 2024] Words tested from the big dictionary: 37%
[Sat Nov 16 00:56:58 2024] Words tested from the big dictionary: 37%
[Sat Nov 16 00:56:58 2024] Words tested from the big dictionary: 37%
[Sat Nov 16 00:56:58 2024] Words tested from the big dictionary: 37%
[Sat Nov 16 00:56:58 2024] Words tested from the big dictionary: 37%
[Sat Nov 16 00:56:58 2024] Words tested from the big dictionary: 37%
[Sat Nov 16 00:56:58 2024] Words tested from the big dictionary: 38%
[Sat Nov 16 00:56:58 2024] Words tested from the big dictionary: 38%
[Sat Nov 16 00:56:58 2024] Words tested from the big dictionary: 38%
[Sat Nov 16 00:56:58 2024] Words tested from the big dictionary: 38%
[Sat Nov 16 00:56:58 2024] Words tested from the big dictionary: 38%
[Sat Nov 16 00:56:58 2024] Words tested from the big dictionary: 38%
[Sat Nov 16 00:56:58 2024] Words tested from the big dictionary: 38%
[Sat Nov 16 00:56:58 2024] Words tested from the big dictionary: 38%
[Sat Nov 16 00:56:58 2024] Words tested from the big dictionary: 38%
[Sat Nov 16 00:56:58 2024] Words tested from the big dictionary: 38%
[Sat Nov 16 00:56:58 2024] Words tested from the big dictionary: 39%
[Sat Nov 16 00:56:58 2024] Words tested from the big dictionary: 39%
[Sat Nov 16 00:56:59 2024] Words tested from the big dictionary: 39%
[Sat Nov 16 00:56:59 2024] Words tested from the big dictionary: 39%
[Sat Nov 16 00:56:59 2024] Words tested from the big dictionary: 39%
[Sat Nov 16 00:56:59 2024] Words tested from the big dictionary: 39%
[Sat Nov 16 00:56:59 2024] Words tested from the big dictionary: 39%
[Sat Nov 16 00:56:59 2024] Words tested from the big dictionary: 39%
[Sat Nov 16 00:56:59 2024] Words tested from the big dictionary: 39%
[Sat Nov 16 00:56:59 2024] Words tested from the big dictionary: 39%
[Sat Nov 16 00:56:59 2024] Words tested from the big dictionary: 39%
[Sat Nov 16 00:56:59 2024] Words tested from the big dictionary: 40%
[Sat Nov 16 00:56:59 2024] Words tested from the big dictionary: 40%
[Sat Nov 16 00:56:59 2024] Words tested from the big dictionary: 40%
[Sat Nov 16 00:56:59 2024] Words tested from the big dictionary: 40%
[Sat Nov 16 00:56:59 2024] Words tested from the big dictionary: 40%
[Sat Nov 16 00:56:59 2024] Words tested from the big dictionary: 40%
[Sat Nov 16 00:56:59 2024] Words tested from the big dictionary: 40%
[Sat Nov 16 00:56:59 2024] Words tested from the big dictionary: 40%
[Sat Nov 16 00:56:59 2024] Words tested from the big dictionary: 40%
[Sat Nov 16 00:56:59 2024] Words tested from the big dictionary: 40%
[Sat Nov 16 00:56:59 2024] Words tested from the big dictionary: 40%
[Sat Nov 16 00:56:59 2024] Words tested from the big dictionary: 41%
[Sat Nov 16 00:56:59 2024] Words tested from the big dictionary: 41%
[Sat Nov 16 00:56:59 2024] Words tested from the big dictionary: 41%
[Sat Nov 16 00:56:59 2024] Words tested from the big dictionary: 41%
[Sat Nov 16 00:56:59 2024] Words tested from the big dictionary: 41%
[Sat Nov 16 00:56:59 2024] Words tested from the big dictionary: 41%
[Sat Nov 16 00:56:59 2024] Words tested from the big dictionary: 41%
[Sat Nov 16 00:56:59 2024] Words tested from the big dictionary: 41%
[Sat Nov 16 00:56:59 2024] Words tested from the big dictionary: 41%
[Sat Nov 16 00:56:59 2024] Words tested from the big dictionary: 41%
[Sat Nov 16 00:56:59 2024] Words tested from the big dictionary: 41%
[Sat Nov 16 00:56:59 2024] Words tested from the big dictionary: 42%
[Sat Nov 16 00:56:59 2024] Words tested from the big dictionary: 42%
[Sat Nov 16 00:56:59 2024] Words tested from the big dictionary: 42%
[Sat Nov 16 00:56:59 2024] Words tested from the big dictionary: 42%
[Sat Nov 16 00:56:59 2024] Words tested from the big dictionary: 42%
[Sat Nov 16 00:56:59 2024] Words tested from the big dictionary: 42%
[Sat Nov 16 00:56:59 2024] Words tested from the big dictionary: 42%
[Sat Nov 16 00:56:59 2024] Words tested from the big dictionary: 42%
[Sat Nov 16 00:56:59 2024] Words tested from the big dictionary: 42%
[Sat Nov 16 00:56:59 2024] Words tested from the big dictionary: 42%
[Sat Nov 16 00:56:59 2024] Words tested from the big dictionary: 42%
[Sat Nov 16 00:56:59 2024] Words tested from the big dictionary: 43%
[Sat Nov 16 00:57:00 2024] Words tested from the big dictionary: 43%
[Sat Nov 16 00:57:00 2024] Words tested from the big dictionary: 43%
[Sat Nov 16 00:57:00 2024] Words tested from the big dictionary: 43%
[Sat Nov 16 00:57:00 2024] Words tested from the big dictionary: 43%
[Sat Nov 16 00:57:00 2024] Words tested from the big dictionary: 43%
[Sat Nov 16 00:57:00 2024] Words tested from the big dictionary: 43%
[Sat Nov 16 00:57:00 2024] Words tested from the big dictionary: 43%
[Sat Nov 16 00:57:00 2024] Words tested from the big dictionary: 43%
[Sat Nov 16 00:57:00 2024] Words tested from the big dictionary: 43%
[Sat Nov 16 00:57:00 2024] Words tested from the big dictionary: 43%
[Sat Nov 16 00:57:00 2024] Words tested from the big dictionary: 44%
[Sat Nov 16 00:57:00 2024] Words tested from the big dictionary: 44%
[Sat Nov 16 00:57:00 2024] Words tested from the big dictionary: 44%
[Sat Nov 16 00:57:00 2024] Words tested from the big dictionary: 44%
[Sat Nov 16 00:57:00 2024] Words tested from the big dictionary: 44%
[Sat Nov 16 00:57:00 2024] Words tested from the big dictionary: 44%
[Sat Nov 16 00:57:00 2024] Words tested from the big dictionary: 44%
[Sat Nov 16 00:57:00 2024] Words tested from the big dictionary: 44%
[Sat Nov 16 00:57:00 2024] Words tested from the big dictionary: 44%
[Sat Nov 16 00:57:00 2024] Words tested from the big dictionary: 44%
[Sat Nov 16 00:57:00 2024] Words tested from the big dictionary: 44%
[Sat Nov 16 00:57:00 2024] Words tested from the big dictionary: 45%
[Sat Nov 16 00:57:00 2024] Words tested from the big dictionary: 45%
[Sat Nov 16 00:57:00 2024] Words tested from the big dictionary: 45%
[Sat Nov 16 00:57:00 2024] Words tested from the big dictionary: 45%
[Sat Nov 16 00:57:00 2024] Words tested from the big dictionary: 45%
[Sat Nov 16 00:57:00 2024] Words tested from the big dictionary: 45%
[Sat Nov 16 00:57:00 2024] Words tested from the big dictionary: 45%
[Sat Nov 16 00:57:00 2024] Words tested from the big dictionary: 45%
[Sat Nov 16 00:57:00 2024] Words tested from the big dictionary: 45%
[Sat Nov 16 00:57:00 2024] Words tested from the big dictionary: 45%
[Sat Nov 16 00:57:00 2024] Words tested from the big dictionary: 45%
[Sat Nov 16 00:57:00 2024] Words tested from the big dictionary: 46%
[Sat Nov 16 00:57:00 2024] Words tested from the big dictionary: 46%
[Sat Nov 16 00:57:00 2024] Words tested from the big dictionary: 46%
[Sat Nov 16 00:57:00 2024] Words tested from the big dictionary: 46%
[Sat Nov 16 00:57:00 2024] Words tested from the big dictionary: 46%
[Sat Nov 16 00:57:00 2024] Words tested from the big dictionary: 46%
[Sat Nov 16 00:57:01 2024] Words tested from the big dictionary: 46%
[Sat Nov 16 00:57:01 2024] Words tested from the big dictionary: 46%
[Sat Nov 16 00:57:01 2024] Words tested from the big dictionary: 46%
[Sat Nov 16 00:57:01 2024] Words tested from the big dictionary: 46%
[Sat Nov 16 00:57:01 2024] Words tested from the big dictionary: 46%
[Sat Nov 16 00:57:01 2024] Words tested from the big dictionary: 47%
[Sat Nov 16 00:57:01 2024] Words tested from the big dictionary: 47%
[Sat Nov 16 00:57:01 2024] Words tested from the big dictionary: 47%
[Sat Nov 16 00:57:01 2024] Words tested from the big dictionary: 47%
[Sat Nov 16 00:57:01 2024] Words tested from the big dictionary: 47%
[Sat Nov 16 00:57:01 2024] Words tested from the big dictionary: 47%
[Sat Nov 16 00:57:01 2024] Words tested from the big dictionary: 47%
[Sat Nov 16 00:57:01 2024] Words tested from the big dictionary: 47%
[Sat Nov 16 00:57:01 2024] Words tested from the big dictionary: 47%
[Sat Nov 16 00:57:01 2024] Words tested from the big dictionary: 47%
[Sat Nov 16 00:57:01 2024] Words tested from the big dictionary: 47%
[Sat Nov 16 00:57:01 2024] Words tested from the big dictionary: 48%
[Sat Nov 16 00:57:01 2024] Words tested from the big dictionary: 48%
[Sat Nov 16 00:57:01 2024] Words tested from the big dictionary: 48%
[Sat Nov 16 00:57:01 2024] Words tested from the big dictionary: 48%
[Sat Nov 16 00:57:01 2024] Words tested from the big dictionary: 48%
[Sat Nov 16 00:57:01 2024] Words tested from the big dictionary: 48%
[Sat Nov 16 00:57:01 2024] Words tested from the big dictionary: 48%
[Sat Nov 16 00:57:01 2024] Words tested from the big dictionary: 48%
[Sat Nov 16 00:57:01 2024] Words tested from the big dictionary: 48%
[Sat Nov 16 00:57:01 2024] Words tested from the big dictionary: 48%
[Sat Nov 16 00:57:01 2024] Words tested from the big dictionary: 49%
[Sat Nov 16 00:57:01 2024] Words tested from the big dictionary: 49%
[Sat Nov 16 00:57:01 2024] Words tested from the big dictionary: 49%
[Sat Nov 16 00:57:01 2024] Words tested from the big dictionary: 49%
[Sat Nov 16 00:57:01 2024] Words tested from the big dictionary: 49%
[Sat Nov 16 00:57:01 2024] Words tested from the big dictionary: 49%
[Sat Nov 16 00:57:01 2024] Words tested from the big dictionary: 49%
[Sat Nov 16 00:57:01 2024] Words tested from the big dictionary: 49%
[Sat Nov 16 00:57:01 2024] Words tested from the big dictionary: 49%
[Sat Nov 16 00:57:01 2024] Words tested from the big dictionary: 49%
[Sat Nov 16 00:57:01 2024] Words tested from the big dictionary: 49%
[Sat Nov 16 00:57:01 2024] Words tested from the big dictionary: 50%
[Sat Nov 16 00:57:02 2024] Words tested from the big dictionary: 50%
[Sat Nov 16 00:57:02 2024] Words tested from the big dictionary: 50%
[Sat Nov 16 00:57:02 2024] Words tested from the big dictionary: 50%
[Sat Nov 16 00:57:02 2024] Words tested from the big dictionary: 50%
[Sat Nov 16 00:57:02 2024] Words tested from the big dictionary: 50%
[Sat Nov 16 00:57:02 2024] Words tested from the big dictionary: 50%
[Sat Nov 16 00:57:02 2024] Words tested from the big dictionary: 50%
[Sat Nov 16 00:57:02 2024] Words tested from the big dictionary: 50%
[Sat Nov 16 00:57:02 2024] Words tested from the big dictionary: 50%
[Sat Nov 16 00:57:02 2024] Words tested from the big dictionary: 50%
[Sat Nov 16 00:57:02 2024] Words tested from the big dictionary: 51%
[Sat Nov 16 00:57:02 2024] Words tested from the big dictionary: 51%
[Sat Nov 16 00:57:02 2024] Words tested from the big dictionary: 51%
[Sat Nov 16 00:57:02 2024] Words tested from the big dictionary: 51%
[Sat Nov 16 00:57:02 2024] Words tested from the big dictionary: 51%
[Sat Nov 16 00:57:02 2024] Words tested from the big dictionary: 51%
[Sat Nov 16 00:57:02 2024] Words tested from the big dictionary: 51%
[Sat Nov 16 00:57:02 2024] Words tested from the big dictionary: 51%
[Sat Nov 16 00:57:02 2024] Words tested from the big dictionary: 51%
[Sat Nov 16 00:57:02 2024] Words tested from the big dictionary: 51%
[Sat Nov 16 00:57:02 2024] Words tested from the big dictionary: 51%
[Sat Nov 16 00:57:02 2024] Words tested from the big dictionary: 52%
[Sat Nov 16 00:57:02 2024] Words tested from the big dictionary: 52%
[Sat Nov 16 00:57:02 2024] Words tested from the big dictionary: 52%
[Sat Nov 16 00:57:02 2024] Words tested from the big dictionary: 52%
[Sat Nov 16 00:57:02 2024] Words tested from the big dictionary: 52%
[Sat Nov 16 00:57:02 2024] Words tested from the big dictionary: 52%
[Sat Nov 16 00:57:02 2024] Words tested from the big dictionary: 52%
[Sat Nov 16 00:57:02 2024] Words tested from the big dictionary: 52%
[Sat Nov 16 00:57:02 2024] Words tested from the big dictionary: 52%
[Sat Nov 16 00:57:02 2024] Words tested from the big dictionary: 52%
[Sat Nov 16 00:57:02 2024] Words tested from the big dictionary: 52%
[Sat Nov 16 00:57:02 2024] Words tested from the big dictionary: 53%
[Sat Nov 16 00:57:02 2024] Words tested from the big dictionary: 53%
[Sat Nov 16 00:57:02 2024] Words tested from the big dictionary: 53%
[Sat Nov 16 00:57:02 2024] Words tested from the big dictionary: 53%
[Sat Nov 16 00:57:02 2024] Words tested from the big dictionary: 53%
[Sat Nov 16 00:57:02 2024] Words tested from the big dictionary: 53%
[Sat Nov 16 00:57:03 2024] Words tested from the big dictionary: 53%
[Sat Nov 16 00:57:03 2024] Words tested from the big dictionary: 53%
[Sat Nov 16 00:57:03 2024] Words tested from the big dictionary: 53%
[Sat Nov 16 00:57:03 2024] Words tested from the big dictionary: 53%
[Sat Nov 16 00:57:03 2024] Words tested from the big dictionary: 53%
[Sat Nov 16 00:57:03 2024] Words tested from the big dictionary: 54%
[Sat Nov 16 00:57:03 2024] Words tested from the big dictionary: 54%
[Sat Nov 16 00:57:03 2024] Words tested from the big dictionary: 54%
[Sat Nov 16 00:57:03 2024] Words tested from the big dictionary: 54%
[Sat Nov 16 00:57:03 2024] Words tested from the big dictionary: 54%
[Sat Nov 16 00:57:03 2024] Words tested from the big dictionary: 54%
[Sat Nov 16 00:57:03 2024] Words tested from the big dictionary: 54%
[Sat Nov 16 00:57:03 2024] Words tested from the big dictionary: 54%
[Sat Nov 16 00:57:03 2024] Words tested from the big dictionary: 54%
[Sat Nov 16 00:57:03 2024] Words tested from the big dictionary: 54%
[Sat Nov 16 00:57:03 2024] Words tested from the big dictionary: 54%
[Sat Nov 16 00:57:03 2024] Words tested from the big dictionary: 55%
[Sat Nov 16 00:57:03 2024] Words tested from the big dictionary: 55%
[Sat Nov 16 00:57:03 2024] Words tested from the big dictionary: 55%
[Sat Nov 16 00:57:03 2024] Words tested from the big dictionary: 55%
[Sat Nov 16 00:57:03 2024] Words tested from the big dictionary: 55%
[Sat Nov 16 00:57:03 2024] Words tested from the big dictionary: 55%
[Sat Nov 16 00:57:03 2024] Words tested from the big dictionary: 55%
[Sat Nov 16 00:57:03 2024] Words tested from the big dictionary: 55%
[Sat Nov 16 00:57:03 2024] Words tested from the big dictionary: 55%
[Sat Nov 16 00:57:03 2024] Words tested from the big dictionary: 55%
[Sat Nov 16 00:57:03 2024] Words tested from the big dictionary: 55%
[Sat Nov 16 00:57:03 2024] Words tested from the big dictionary: 56%
[Sat Nov 16 00:57:03 2024] Words tested from the big dictionary: 56%
[Sat Nov 16 00:57:03 2024] Words tested from the big dictionary: 56%
[Sat Nov 16 00:57:03 2024] Words tested from the big dictionary: 56%
[Sat Nov 16 00:57:03 2024] Words tested from the big dictionary: 56%
[Sat Nov 16 00:57:03 2024] Words tested from the big dictionary: 56%
[Sat Nov 16 00:57:03 2024] Words tested from the big dictionary: 56%
[Sat Nov 16 00:57:03 2024] Words tested from the big dictionary: 56%
[Sat Nov 16 00:57:03 2024] Words tested from the big dictionary: 56%
[Sat Nov 16 00:57:03 2024] Words tested from the big dictionary: 56%
[Sat Nov 16 00:57:03 2024] Words tested from the big dictionary: 56%
[Sat Nov 16 00:57:04 2024] Words tested from the big dictionary: 57%
[Sat Nov 16 00:57:04 2024] Words tested from the big dictionary: 57%
[Sat Nov 16 00:57:04 2024] Words tested from the big dictionary: 57%
[Sat Nov 16 00:57:04 2024] Words tested from the big dictionary: 57%
[Sat Nov 16 00:57:04 2024] Words tested from the big dictionary: 57%
[Sat Nov 16 00:57:04 2024] Words tested from the big dictionary: 57%
[Sat Nov 16 00:57:04 2024] Words tested from the big dictionary: 57%
[Sat Nov 16 00:57:04 2024] Words tested from the big dictionary: 57%
[Sat Nov 16 00:57:04 2024] Words tested from the big dictionary: 57%
[Sat Nov 16 00:57:04 2024] Words tested from the big dictionary: 57%
[Sat Nov 16 00:57:04 2024] Words tested from the big dictionary: 57%
[Sat Nov 16 00:57:04 2024] Words tested from the big dictionary: 58%
[Sat Nov 16 00:57:04 2024] Words tested from the big dictionary: 58%
[Sat Nov 16 00:57:04 2024] Words tested from the big dictionary: 58%
[Sat Nov 16 00:57:04 2024] Words tested from the big dictionary: 58%
[Sat Nov 16 00:57:04 2024] Words tested from the big dictionary: 58%
[Sat Nov 16 00:57:04 2024] Words tested from the big dictionary: 58%
[Sat Nov 16 00:57:04 2024] Words tested from the big dictionary: 58%
[Sat Nov 16 00:57:04 2024] Words tested from the big dictionary: 58%
[Sat Nov 16 00:57:04 2024] Words tested from the big dictionary: 58%
[Sat Nov 16 00:57:04 2024] Words tested from the big dictionary: 58%
[Sat Nov 16 00:57:04 2024] Words tested from the big dictionary: 59%
[Sat Nov 16 00:57:04 2024] Words tested from the big dictionary: 59%
[Sat Nov 16 00:57:04 2024] Words tested from the big dictionary: 59%
[Sat Nov 16 00:57:04 2024] Words tested from the big dictionary: 59%
[Sat Nov 16 00:57:04 2024] Words tested from the big dictionary: 59%
[Sat Nov 16 00:57:04 2024] Words tested from the big dictionary: 59%
[Sat Nov 16 00:57:04 2024] Words tested from the big dictionary: 59%
[Sat Nov 16 00:57:04 2024] Words tested from the big dictionary: 59%
[Sat Nov 16 00:57:04 2024] Words tested from the big dictionary: 59%
[Sat Nov 16 00:57:04 2024] Words tested from the big dictionary: 59%
[Sat Nov 16 00:57:04 2024] Words tested from the big dictionary: 59%
[Sat Nov 16 00:57:04 2024] Words tested from the big dictionary: 60%
[Sat Nov 16 00:57:04 2024] Words tested from the big dictionary: 60%
[Sat Nov 16 00:57:04 2024] Words tested from the big dictionary: 60%
[Sat Nov 16 00:57:04 2024] Words tested from the big dictionary: 60%
[Sat Nov 16 00:57:04 2024] Words tested from the big dictionary: 60%
[Sat Nov 16 00:57:04 2024] Words tested from the big dictionary: 60%
[Sat Nov 16 00:57:04 2024] Words tested from the big dictionary: 60%
[Sat Nov 16 00:57:04 2024] Words tested from the big dictionary: 60%
[Sat Nov 16 00:57:05 2024] Words tested from the big dictionary: 60%
[Sat Nov 16 00:57:05 2024] Words tested from the big dictionary: 60%
[Sat Nov 16 00:57:05 2024] Words tested from the big dictionary: 60%
[Sat Nov 16 00:57:05 2024] Words tested from the big dictionary: 61%
[Sat Nov 16 00:57:05 2024] Words tested from the big dictionary: 61%
[Sat Nov 16 00:57:05 2024] Words tested from the big dictionary: 61%
[Sat Nov 16 00:57:05 2024] Words tested from the big dictionary: 61%
[Sat Nov 16 00:57:05 2024] Words tested from the big dictionary: 61%
[Sat Nov 16 00:57:05 2024] Words tested from the big dictionary: 61%
[Sat Nov 16 00:57:05 2024] Words tested from the big dictionary: 61%
[Sat Nov 16 00:57:05 2024] Words tested from the big dictionary: 61%
[Sat Nov 16 00:57:05 2024] Words tested from the big dictionary: 61%
[Sat Nov 16 00:57:05 2024] Words tested from the big dictionary: 61%
[Sat Nov 16 00:57:05 2024] Words tested from the big dictionary: 61%
[Sat Nov 16 00:57:05 2024] Words tested from the big dictionary: 62%
[Sat Nov 16 00:57:05 2024] Words tested from the big dictionary: 62%
[Sat Nov 16 00:57:05 2024] Words tested from the big dictionary: 62%
[Sat Nov 16 00:57:05 2024] Words tested from the big dictionary: 62%
[Sat Nov 16 00:57:05 2024] Words tested from the big dictionary: 62%
[Sat Nov 16 00:57:05 2024] Words tested from the big dictionary: 62%
[Sat Nov 16 00:57:05 2024] Words tested from the big dictionary: 62%
[Sat Nov 16 00:57:05 2024] Words tested from the big dictionary: 62%
[Sat Nov 16 00:57:05 2024] Words tested from the big dictionary: 62%
[Sat Nov 16 00:57:05 2024] Words tested from the big dictionary: 62%
[Sat Nov 16 00:57:05 2024] Words tested from the big dictionary: 62%
[Sat Nov 16 00:57:05 2024] Words tested from the big dictionary: 63%
[Sat Nov 16 00:57:05 2024] Words tested from the big dictionary: 63%
[Sat Nov 16 00:57:05 2024] Words tested from the big dictionary: 63%
[Sat Nov 16 00:57:05 2024] Words tested from the big dictionary: 63%
[Sat Nov 16 00:57:05 2024] Words tested from the big dictionary: 63%
[Sat Nov 16 00:57:05 2024] Words tested from the big dictionary: 63%
[Sat Nov 16 00:57:05 2024] Words tested from the big dictionary: 63%
[Sat Nov 16 00:57:05 2024] Words tested from the big dictionary: 63%
[Sat Nov 16 00:57:05 2024] Words tested from the big dictionary: 63%
[Sat Nov 16 00:57:05 2024] Words tested from the big dictionary: 63%
[Sat Nov 16 00:57:05 2024] Words tested from the big dictionary: 63%
[Sat Nov 16 00:57:05 2024] Words tested from the big dictionary: 64%
[Sat Nov 16 00:57:05 2024] Words tested from the big dictionary: 64%
[Sat Nov 16 00:57:05 2024] Words tested from the big dictionary: 64%
[Sat Nov 16 00:57:05 2024] Words tested from the big dictionary: 64%
[Sat Nov 16 00:57:05 2024] Words tested from the big dictionary: 64%
[Sat Nov 16 00:57:06 2024] Words tested from the big dictionary: 64%
[Sat Nov 16 00:57:06 2024] Words tested from the big dictionary: 64%
[Sat Nov 16 00:57:06 2024] Words tested from the big dictionary: 64%
[Sat Nov 16 00:57:06 2024] Words tested from the big dictionary: 64%
[Sat Nov 16 00:57:06 2024] Words tested from the big dictionary: 64%
[Sat Nov 16 00:57:06 2024] Words tested from the big dictionary: 64%
[Sat Nov 16 00:57:06 2024] Words tested from the big dictionary: 65%
[Sat Nov 16 00:57:06 2024] Words tested from the big dictionary: 65%
[Sat Nov 16 00:57:06 2024] Words tested from the big dictionary: 65%
[Sat Nov 16 00:57:06 2024] Words tested from the big dictionary: 65%
[Sat Nov 16 00:57:06 2024] Words tested from the big dictionary: 65%
[Sat Nov 16 00:57:06 2024] Words tested from the big dictionary: 65%
[Sat Nov 16 00:57:06 2024] Words tested from the big dictionary: 65%
[Sat Nov 16 00:57:06 2024] Words tested from the big dictionary: 65%
[Sat Nov 16 00:57:06 2024] Words tested from the big dictionary: 65%
[Sat Nov 16 00:57:06 2024] Words tested from the big dictionary: 65%
[Sat Nov 16 00:57:06 2024] Words tested from the big dictionary: 65%
[Sat Nov 16 00:57:06 2024] Words tested from the big dictionary: 66%
[Sat Nov 16 00:57:06 2024] Words tested from the big dictionary: 66%
[Sat Nov 16 00:57:06 2024] Words tested from the big dictionary: 66%
[Sat Nov 16 00:57:06 2024] Words tested from the big dictionary: 66%
[Sat Nov 16 00:57:06 2024] Words tested from the big dictionary: 66%
[Sat Nov 16 00:57:06 2024] Words tested from the big dictionary: 66%
[Sat Nov 16 00:57:06 2024] Words tested from the big dictionary: 66%
[Sat Nov 16 00:57:06 2024] Words tested from the big dictionary: 66%
[Sat Nov 16 00:57:06 2024] Words tested from the big dictionary: 66%
[Sat Nov 16 00:57:06 2024] Words tested from the big dictionary: 66%
[Sat Nov 16 00:57:06 2024] Words tested from the big dictionary: 66%
[Sat Nov 16 00:57:06 2024] Words tested from the big dictionary: 67%
[Sat Nov 16 00:57:06 2024] Words tested from the big dictionary: 67%
[Sat Nov 16 00:57:06 2024] Words tested from the big dictionary: 67%
[Sat Nov 16 00:57:06 2024] Words tested from the big dictionary: 67%
[Sat Nov 16 00:57:06 2024] Words tested from the big dictionary: 67%
[Sat Nov 16 00:57:06 2024] Words tested from the big dictionary: 67%
[Sat Nov 16 00:57:06 2024] Words tested from the big dictionary: 67%
[Sat Nov 16 00:57:06 2024] Words tested from the big dictionary: 67%
[Sat Nov 16 00:57:06 2024] Words tested from the big dictionary: 67%
[Sat Nov 16 00:57:06 2024] Words tested from the big dictionary: 67%
[Sat Nov 16 00:57:06 2024] Words tested from the big dictionary: 68%
[Sat Nov 16 00:57:06 2024] Words tested from the big dictionary: 68%
[Sat Nov 16 00:57:07 2024] Words tested from the big dictionary: 68%
[Sat Nov 16 00:57:07 2024] Words tested from the big dictionary: 68%
[Sat Nov 16 00:57:07 2024] Words tested from the big dictionary: 68%
[Sat Nov 16 00:57:07 2024] Words tested from the big dictionary: 68%
[Sat Nov 16 00:57:07 2024] Words tested from the big dictionary: 68%
[Sat Nov 16 00:57:07 2024] Words tested from the big dictionary: 68%
[Sat Nov 16 00:57:07 2024] Words tested from the big dictionary: 68%
[Sat Nov 16 00:57:07 2024] Words tested from the big dictionary: 68%
[Sat Nov 16 00:57:07 2024] Words tested from the big dictionary: 68%
[Sat Nov 16 00:57:07 2024] Words tested from the big dictionary: 69%
[Sat Nov 16 00:57:07 2024] Words tested from the big dictionary: 69%
[Sat Nov 16 00:57:07 2024] Words tested from the big dictionary: 69%
[Sat Nov 16 00:57:07 2024] Words tested from the big dictionary: 69%
[Sat Nov 16 00:57:07 2024] Words tested from the big dictionary: 69%
[Sat Nov 16 00:57:07 2024] Words tested from the big dictionary: 69%
[Sat Nov 16 00:57:07 2024] Words tested from the big dictionary: 69%
[Sat Nov 16 00:57:07 2024] Words tested from the big dictionary: 69%
[Sat Nov 16 00:57:07 2024] Words tested from the big dictionary: 69%
[Sat Nov 16 00:57:07 2024] Words tested from the big dictionary: 69%
[Sat Nov 16 00:57:07 2024] Words tested from the big dictionary: 69%
[Sat Nov 16 00:57:07 2024] Words tested from the big dictionary: 70%
[Sat Nov 16 00:57:07 2024] Words tested from the big dictionary: 70%
[Sat Nov 16 00:57:07 2024] Words tested from the big dictionary: 70%
[Sat Nov 16 00:57:07 2024] Words tested from the big dictionary: 70%
[Sat Nov 16 00:57:07 2024] Words tested from the big dictionary: 70%
[Sat Nov 16 00:57:07 2024] Words tested from the big dictionary: 70%
[Sat Nov 16 00:57:07 2024] Words tested from the big dictionary: 70%
[Sat Nov 16 00:57:07 2024] Words tested from the big dictionary: 70%
[Sat Nov 16 00:57:07 2024] Words tested from the big dictionary: 70%
[Sat Nov 16 00:57:07 2024] Words tested from the big dictionary: 70%
[Sat Nov 16 00:57:07 2024] Words tested from the big dictionary: 70%
[Sat Nov 16 00:57:07 2024] Words tested from the big dictionary: 71%
[Sat Nov 16 00:57:07 2024] Words tested from the big dictionary: 71%
[Sat Nov 16 00:57:07 2024] Words tested from the big dictionary: 71%
[Sat Nov 16 00:57:07 2024] Words tested from the big dictionary: 71%
[Sat Nov 16 00:57:07 2024] Words tested from the big dictionary: 71%
[Sat Nov 16 00:57:07 2024] Words tested from the big dictionary: 71%
[Sat Nov 16 00:57:07 2024] Words tested from the big dictionary: 71%
[Sat Nov 16 00:57:07 2024] Words tested from the big dictionary: 71%
[Sat Nov 16 00:57:08 2024] Words tested from the big dictionary: 71%
[Sat Nov 16 00:57:08 2024] Words tested from the big dictionary: 71%
[Sat Nov 16 00:57:08 2024] Words tested from the big dictionary: 71%
[Sat Nov 16 00:57:08 2024] Words tested from the big dictionary: 72%
[Sat Nov 16 00:57:08 2024] Words tested from the big dictionary: 72%
[Sat Nov 16 00:57:08 2024] Words tested from the big dictionary: 72%
[Sat Nov 16 00:57:08 2024] Words tested from the big dictionary: 72%
[Sat Nov 16 00:57:08 2024] Words tested from the big dictionary: 72%
[Sat Nov 16 00:57:08 2024] Words tested from the big dictionary: 72%
[Sat Nov 16 00:57:08 2024] Words tested from the big dictionary: 72%
[Sat Nov 16 00:57:08 2024] Words tested from the big dictionary: 72%
[Sat Nov 16 00:57:08 2024] Words tested from the big dictionary: 72%
[Sat Nov 16 00:57:08 2024] Words tested from the big dictionary: 72%
[Sat Nov 16 00:57:08 2024] Words tested from the big dictionary: 72%
[Sat Nov 16 00:57:08 2024] Words tested from the big dictionary: 73%
[Sat Nov 16 00:57:08 2024] Words tested from the big dictionary: 73%
[Sat Nov 16 00:57:08 2024] Words tested from the big dictionary: 73%
[Sat Nov 16 00:57:08 2024] Words tested from the big dictionary: 73%
[Sat Nov 16 00:57:08 2024] Words tested from the big dictionary: 73%
[Sat Nov 16 00:57:08 2024] Words tested from the big dictionary: 73%
[Sat Nov 16 00:57:08 2024] Words tested from the big dictionary: 73%
[Sat Nov 16 00:57:08 2024] Words tested from the big dictionary: 73%
[Sat Nov 16 00:57:08 2024] Words tested from the big dictionary: 73%
[Sat Nov 16 00:57:08 2024] Words tested from the big dictionary: 73%
[Sat Nov 16 00:57:08 2024] Words tested from the big dictionary: 73%
[Sat Nov 16 00:57:08 2024] Words tested from the big dictionary: 74%
[Sat Nov 16 00:57:08 2024] Words tested from the big dictionary: 74%
[Sat Nov 16 00:57:08 2024] Words tested from the big dictionary: 74%
[Sat Nov 16 00:57:08 2024] Words tested from the big dictionary: 74%
[Sat Nov 16 00:57:08 2024] Words tested from the big dictionary: 74%
[Sat Nov 16 00:57:08 2024] Words tested from the big dictionary: 74%
[Sat Nov 16 00:57:08 2024] Words tested from the big dictionary: 74%
[Sat Nov 16 00:57:08 2024] Words tested from the big dictionary: 74%
[Sat Nov 16 00:57:08 2024] Words tested from the big dictionary: 74%
[Sat Nov 16 00:57:08 2024] Words tested from the big dictionary: 74%
[Sat Nov 16 00:57:08 2024] Words tested from the big dictionary: 74%
[Sat Nov 16 00:57:08 2024] Words tested from the big dictionary: 75%
[Sat Nov 16 00:57:09 2024] Words tested from the big dictionary: 75%
[Sat Nov 16 00:57:09 2024] Words tested from the big dictionary: 75%
[Sat Nov 16 00:57:09 2024] Words tested from the big dictionary: 75%
[Sat Nov 16 00:57:09 2024] Words tested from the big dictionary: 75%
[Sat Nov 16 00:57:09 2024] Words tested from the big dictionary: 75%
[Sat Nov 16 00:57:09 2024] Words tested from the big dictionary: 75%
[Sat Nov 16 00:57:09 2024] Words tested from the big dictionary: 75%
[Sat Nov 16 00:57:09 2024] Words tested from the big dictionary: 75%
[Sat Nov 16 00:57:09 2024] Words tested from the big dictionary: 75%
[Sat Nov 16 00:57:09 2024] Words tested from the big dictionary: 75%
[Sat Nov 16 00:57:09 2024] Words tested from the big dictionary: 76%
[Sat Nov 16 00:57:09 2024] Words tested from the big dictionary: 76%
[Sat Nov 16 00:57:09 2024] Words tested from the big dictionary: 76%
[Sat Nov 16 00:57:09 2024] Words tested from the big dictionary: 76%
[Sat Nov 16 00:57:09 2024] Words tested from the big dictionary: 76%
[Sat Nov 16 00:57:09 2024] Words tested from the big dictionary: 76%
[Sat Nov 16 00:57:09 2024] Words tested from the big dictionary: 76%
[Sat Nov 16 00:57:09 2024] Words tested from the big dictionary: 76%
[Sat Nov 16 00:57:09 2024] Words tested from the big dictionary: 76%
[Sat Nov 16 00:57:09 2024] Words tested from the big dictionary: 76%
[Sat Nov 16 00:57:09 2024] Words tested from the big dictionary: 76%
[Sat Nov 16 00:57:09 2024] Words tested from the big dictionary: 77%
[Sat Nov 16 00:57:09 2024] Words tested from the big dictionary: 77%
[Sat Nov 16 00:57:09 2024] Words tested from the big dictionary: 77%
[Sat Nov 16 00:57:09 2024] Words tested from the big dictionary: 77%
[Sat Nov 16 00:57:09 2024] Words tested from the big dictionary: 77%
[Sat Nov 16 00:57:09 2024] Words tested from the big dictionary: 77%
[Sat Nov 16 00:57:09 2024] Words tested from the big dictionary: 77%
[Sat Nov 16 00:57:09 2024] Words tested from the big dictionary: 77%
[Sat Nov 16 00:57:09 2024] Words tested from the big dictionary: 77%
[Sat Nov 16 00:57:09 2024] Words tested from the big dictionary: 77%
[Sat Nov 16 00:57:09 2024] Words tested from the big dictionary: 78%
[Sat Nov 16 00:57:09 2024] Words tested from the big dictionary: 78%
[Sat Nov 16 00:57:09 2024] Words tested from the big dictionary: 78%
[Sat Nov 16 00:57:09 2024] Words tested from the big dictionary: 78%
[Sat Nov 16 00:57:09 2024] Words tested from the big dictionary: 78%
[Sat Nov 16 00:57:09 2024] Words tested from the big dictionary: 78%
[Sat Nov 16 00:57:10 2024] Words tested from the big dictionary: 78%
[Sat Nov 16 00:57:10 2024] Words tested from the big dictionary: 78%
[Sat Nov 16 00:57:10 2024] Words tested from the big dictionary: 78%
[Sat Nov 16 00:57:10 2024] Words tested from the big dictionary: 78%
[Sat Nov 16 00:57:10 2024] Words tested from the big dictionary: 78%
[Sat Nov 16 00:57:10 2024] Words tested from the big dictionary: 79%
[Sat Nov 16 00:57:10 2024] Words tested from the big dictionary: 79%
[Sat Nov 16 00:57:10 2024] Words tested from the big dictionary: 79%
[Sat Nov 16 00:57:10 2024] Words tested from the big dictionary: 79%
[Sat Nov 16 00:57:10 2024] Words tested from the big dictionary: 79%
[Sat Nov 16 00:57:10 2024] Words tested from the big dictionary: 79%
[Sat Nov 16 00:57:10 2024] Words tested from the big dictionary: 79%
[Sat Nov 16 00:57:10 2024] Words tested from the big dictionary: 79%
[Sat Nov 16 00:57:10 2024] Words tested from the big dictionary: 79%
[Sat Nov 16 00:57:10 2024] Words tested from the big dictionary: 79%
[Sat Nov 16 00:57:10 2024] Words tested from the big dictionary: 79%
[Sat Nov 16 00:57:10 2024] Words tested from the big dictionary: 80%
[Sat Nov 16 00:57:10 2024] Words tested from the big dictionary: 80%
[Sat Nov 16 00:57:10 2024] Words tested from the big dictionary: 80%
[Sat Nov 16 00:57:10 2024] Words tested from the big dictionary: 80%
[Sat Nov 16 00:57:10 2024] Words tested from the big dictionary: 80%
[Sat Nov 16 00:57:10 2024] Words tested from the big dictionary: 80%
[Sat Nov 16 00:57:10 2024] Words tested from the big dictionary: 80%
[Sat Nov 16 00:57:10 2024] Words tested from the big dictionary: 80%
[Sat Nov 16 00:57:10 2024] Words tested from the big dictionary: 80%
[Sat Nov 16 00:57:10 2024] Words tested from the big dictionary: 80%
[Sat Nov 16 00:57:10 2024] Words tested from the big dictionary: 80%
[Sat Nov 16 00:57:10 2024] Words tested from the big dictionary: 81%
[Sat Nov 16 00:57:10 2024] Words tested from the big dictionary: 81%
[Sat Nov 16 00:57:10 2024] Words tested from the big dictionary: 81%
[Sat Nov 16 00:57:10 2024] Words tested from the big dictionary: 81%
[Sat Nov 16 00:57:10 2024] Words tested from the big dictionary: 81%
[Sat Nov 16 00:57:10 2024] Words tested from the big dictionary: 81%
[Sat Nov 16 00:57:11 2024] Words tested from the big dictionary: 81%
[Sat Nov 16 00:57:11 2024] Words tested from the big dictionary: 81%
[Sat Nov 16 00:57:11 2024] Words tested from the big dictionary: 81%
[Sat Nov 16 00:57:11 2024] Words tested from the big dictionary: 81%
[Sat Nov 16 00:57:11 2024] Words tested from the big dictionary: 81%
[Sat Nov 16 00:57:11 2024] Words tested from the big dictionary: 82%
[Sat Nov 16 00:57:11 2024] Words tested from the big dictionary: 82%
[Sat Nov 16 00:57:11 2024] Words tested from the big dictionary: 82%
[Sat Nov 16 00:57:11 2024] Words tested from the big dictionary: 82%
[Sat Nov 16 00:57:11 2024] Words tested from the big dictionary: 82%
[Sat Nov 16 00:57:11 2024] Words tested from the big dictionary: 82%
[Sat Nov 16 00:57:11 2024] Words tested from the big dictionary: 82%
[Sat Nov 16 00:57:11 2024] Words tested from the big dictionary: 82%
[Sat Nov 16 00:57:11 2024] Words tested from the big dictionary: 82%
[Sat Nov 16 00:57:11 2024] Words tested from the big dictionary: 82%
[Sat Nov 16 00:57:11 2024] Words tested from the big dictionary: 82%
[Sat Nov 16 00:57:11 2024] Words tested from the big dictionary: 83%
[Sat Nov 16 00:57:11 2024] Words tested from the big dictionary: 83%
[Sat Nov 16 00:57:11 2024] Words tested from the big dictionary: 83%
[Sat Nov 16 00:57:11 2024] Words tested from the big dictionary: 83%
[Sat Nov 16 00:57:11 2024] Words tested from the big dictionary: 83%
[Sat Nov 16 00:57:11 2024] Words tested from the big dictionary: 83%
[Sat Nov 16 00:57:11 2024] Words tested from the big dictionary: 83%
[Sat Nov 16 00:57:11 2024] Words tested from the big dictionary: 83%
[Sat Nov 16 00:57:11 2024] Words tested from the big dictionary: 83%
[Sat Nov 16 00:57:11 2024] Words tested from the big dictionary: 83%
[Sat Nov 16 00:57:11 2024] Words tested from the big dictionary: 83%
[Sat Nov 16 00:57:11 2024] Words tested from the big dictionary: 84%
[Sat Nov 16 00:57:11 2024] Words tested from the big dictionary: 84%
[Sat Nov 16 00:57:11 2024] Words tested from the big dictionary: 84%
[Sat Nov 16 00:57:11 2024] Words tested from the big dictionary: 84%
[Sat Nov 16 00:57:11 2024] Words tested from the big dictionary: 84%
[Sat Nov 16 00:57:11 2024] Words tested from the big dictionary: 84%
[Sat Nov 16 00:57:12 2024] Words tested from the big dictionary: 84%
[Sat Nov 16 00:57:12 2024] Words tested from the big dictionary: 84%
[Sat Nov 16 00:57:12 2024] Words tested from the big dictionary: 84%
[Sat Nov 16 00:57:12 2024] Words tested from the big dictionary: 84%
[Sat Nov 16 00:57:12 2024] Words tested from the big dictionary: 84%
[Sat Nov 16 00:57:12 2024] Words tested from the big dictionary: 85%
[Sat Nov 16 00:57:12 2024] Words tested from the big dictionary: 85%
[Sat Nov 16 00:57:12 2024] Words tested from the big dictionary: 85%
[Sat Nov 16 00:57:12 2024] Words tested from the big dictionary: 85%
[Sat Nov 16 00:57:12 2024] Words tested from the big dictionary: 85%
[Sat Nov 16 00:57:12 2024] Words tested from the big dictionary: 85%
[Sat Nov 16 00:57:12 2024] Words tested from the big dictionary: 85%
[Sat Nov 16 00:57:12 2024] Words tested from the big dictionary: 85%
[Sat Nov 16 00:57:12 2024] Words tested from the big dictionary: 85%
[Sat Nov 16 00:57:12 2024] Words tested from the big dictionary: 85%
[Sat Nov 16 00:57:12 2024] Words tested from the big dictionary: 85%
[Sat Nov 16 00:57:12 2024] Words tested from the big dictionary: 86%
[Sat Nov 16 00:57:12 2024] Words tested from the big dictionary: 86%
[Sat Nov 16 00:57:12 2024] Words tested from the big dictionary: 86%
[Sat Nov 16 00:57:12 2024] Words tested from the big dictionary: 86%
[Sat Nov 16 00:57:12 2024] Words tested from the big dictionary: 86%
[Sat Nov 16 00:57:12 2024] Words tested from the big dictionary: 86%
[Sat Nov 16 00:57:12 2024] Words tested from the big dictionary: 86%
[Sat Nov 16 00:57:12 2024] Words tested from the big dictionary: 86%
[Sat Nov 16 00:57:12 2024] Words tested from the big dictionary: 86%
[Sat Nov 16 00:57:12 2024] Words tested from the big dictionary: 86%
[Sat Nov 16 00:57:12 2024] Words tested from the big dictionary: 86%
[Sat Nov 16 00:57:12 2024] Words tested from the big dictionary: 87%
[Sat Nov 16 00:57:12 2024] Words tested from the big dictionary: 87%
[Sat Nov 16 00:57:12 2024] Words tested from the big dictionary: 87%
[Sat Nov 16 00:57:12 2024] Words tested from the big dictionary: 87%
[Sat Nov 16 00:57:12 2024] Words tested from the big dictionary: 87%
[Sat Nov 16 00:57:13 2024] Words tested from the big dictionary: 87%
[Sat Nov 16 00:57:13 2024] Words tested from the big dictionary: 87%
[Sat Nov 16 00:57:13 2024] Words tested from the big dictionary: 87%
[Sat Nov 16 00:57:13 2024] Words tested from the big dictionary: 87%
[Sat Nov 16 00:57:13 2024] Words tested from the big dictionary: 87%
[Sat Nov 16 00:57:13 2024] Words tested from the big dictionary: 88%
[Sat Nov 16 00:57:13 2024] Words tested from the big dictionary: 88%
[Sat Nov 16 00:57:13 2024] Words tested from the big dictionary: 88%
[Sat Nov 16 00:57:13 2024] Words tested from the big dictionary: 88%
[Sat Nov 16 00:57:13 2024] Words tested from the big dictionary: 88%
[Sat Nov 16 00:57:13 2024] Words tested from the big dictionary: 88%
[Sat Nov 16 00:57:13 2024] Words tested from the big dictionary: 88%
[Sat Nov 16 00:57:13 2024] Words tested from the big dictionary: 88%
[Sat Nov 16 00:57:13 2024] Words tested from the big dictionary: 88%
[Sat Nov 16 00:57:13 2024] Words tested from the big dictionary: 88%
[Sat Nov 16 00:57:13 2024] Words tested from the big dictionary: 88%
[Sat Nov 16 00:57:13 2024] Words tested from the big dictionary: 89%
[Sat Nov 16 00:57:13 2024] Words tested from the big dictionary: 89%
[Sat Nov 16 00:57:13 2024] Words tested from the big dictionary: 89%
[Sat Nov 16 00:57:13 2024] Words tested from the big dictionary: 89%
[Sat Nov 16 00:57:13 2024] Words tested from the big dictionary: 89%
[Sat Nov 16 00:57:13 2024] Words tested from the big dictionary: 89%
[Sat Nov 16 00:57:13 2024] Words tested from the big dictionary: 89%
[Sat Nov 16 00:57:13 2024] Words tested from the big dictionary: 89%
[Sat Nov 16 00:57:13 2024] Words tested from the big dictionary: 89%
[Sat Nov 16 00:57:13 2024] Words tested from the big dictionary: 89%
[Sat Nov 16 00:57:13 2024] Words tested from the big dictionary: 89%
[Sat Nov 16 00:57:13 2024] Words tested from the big dictionary: 90%
[Sat Nov 16 00:57:13 2024] Words tested from the big dictionary: 90%
[Sat Nov 16 00:57:13 2024] Words tested from the big dictionary: 90%
[Sat Nov 16 00:57:13 2024] Words tested from the big dictionary: 90%
[Sat Nov 16 00:57:14 2024] Words tested from the big dictionary: 90%
[Sat Nov 16 00:57:14 2024] Words tested from the big dictionary: 90%
[Sat Nov 16 00:57:14 2024] Words tested from the big dictionary: 90%
[Sat Nov 16 00:57:14 2024] Words tested from the big dictionary: 90%
[Sat Nov 16 00:57:14 2024] Words tested from the big dictionary: 90%
[Sat Nov 16 00:57:14 2024] Words tested from the big dictionary: 90%
[Sat Nov 16 00:57:14 2024] Words tested from the big dictionary: 90%
[Sat Nov 16 00:57:14 2024] Words tested from the big dictionary: 91%
[Sat Nov 16 00:57:14 2024] Words tested from the big dictionary: 91%
[Sat Nov 16 00:57:14 2024] Words tested from the big dictionary: 91%
[Sat Nov 16 00:57:14 2024] Words tested from the big dictionary: 91%
[Sat Nov 16 00:57:14 2024] Words tested from the big dictionary: 91%
[Sat Nov 16 00:57:14 2024] Words tested from the big dictionary: 91%
[Sat Nov 16 00:57:14 2024] Words tested from the big dictionary: 91%
[Sat Nov 16 00:57:14 2024] Words tested from the big dictionary: 91%
[Sat Nov 16 00:57:14 2024] Words tested from the big dictionary: 91%
[Sat Nov 16 00:57:14 2024] Words tested from the big dictionary: 91%
[Sat Nov 16 00:57:14 2024] Words tested from the big dictionary: 91%
[Sat Nov 16 00:57:14 2024] Words tested from the big dictionary: 92%
[Sat Nov 16 00:57:14 2024] Words tested from the big dictionary: 92%
[Sat Nov 16 00:57:14 2024] Words tested from the big dictionary: 92%
[Sat Nov 16 00:57:14 2024] Words tested from the big dictionary: 92%
[Sat Nov 16 00:57:14 2024] Words tested from the big dictionary: 92%
[Sat Nov 16 00:57:14 2024] Words tested from the big dictionary: 92%
[Sat Nov 16 00:57:14 2024] Words tested from the big dictionary: 92%
[Sat Nov 16 00:57:14 2024] Words tested from the big dictionary: 92%
[Sat Nov 16 00:57:14 2024] Words tested from the big dictionary: 92%
[Sat Nov 16 00:57:14 2024] Words tested from the big dictionary: 92%
[Sat Nov 16 00:57:14 2024] Words tested from the big dictionary: 92%
[Sat Nov 16 00:57:14 2024] Words tested from the big dictionary: 93%
[Sat Nov 16 00:57:15 2024] Words tested from the big dictionary: 93%
[Sat Nov 16 00:57:15 2024] Words tested from the big dictionary: 93%
[Sat Nov 16 00:57:15 2024] Words tested from the big dictionary: 93%
[Sat Nov 16 00:57:15 2024] Words tested from the big dictionary: 93%
[Sat Nov 16 00:57:15 2024] Words tested from the big dictionary: 93%
[Sat Nov 16 00:57:15 2024] Words tested from the big dictionary: 93%
[Sat Nov 16 00:57:15 2024] Words tested from the big dictionary: 93%
[Sat Nov 16 00:57:15 2024] Words tested from the big dictionary: 93%
[Sat Nov 16 00:57:15 2024] Words tested from the big dictionary: 93%
[Sat Nov 16 00:57:15 2024] Words tested from the big dictionary: 93%
[Sat Nov 16 00:57:15 2024] Words tested from the big dictionary: 94%
[Sat Nov 16 00:57:15 2024] Words tested from the big dictionary: 94%
[Sat Nov 16 00:57:15 2024] Words tested from the big dictionary: 94%
[Sat Nov 16 00:57:15 2024] Words tested from the big dictionary: 94%
[Sat Nov 16 00:57:15 2024] Words tested from the big dictionary: 94%
[Sat Nov 16 00:57:15 2024] Words tested from the big dictionary: 94%
[Sat Nov 16 00:57:15 2024] Words tested from the big dictionary: 94%
[Sat Nov 16 00:57:15 2024] Words tested from the big dictionary: 94%
[Sat Nov 16 00:57:15 2024] Words tested from the big dictionary: 94%
[Sat Nov 16 00:57:15 2024] Words tested from the big dictionary: 94%
[Sat Nov 16 00:57:15 2024] Words tested from the big dictionary: 94%
[Sat Nov 16 00:57:15 2024] Words tested from the big dictionary: 95%
[Sat Nov 16 00:57:15 2024] Words tested from the big dictionary: 95%
[Sat Nov 16 00:57:15 2024] Words tested from the big dictionary: 95%
[Sat Nov 16 00:57:15 2024] Words tested from the big dictionary: 95%
[Sat Nov 16 00:57:15 2024] Words tested from the big dictionary: 95%
[Sat Nov 16 00:57:15 2024] Words tested from the big dictionary: 95%
[Sat Nov 16 00:57:15 2024] Words tested from the big dictionary: 95%
[Sat Nov 16 00:57:15 2024] Words tested from the big dictionary: 95%
[Sat Nov 16 00:57:15 2024] Words tested from the big dictionary: 95%
[Sat Nov 16 00:57:15 2024] Words tested from the big dictionary: 95%
[Sat Nov 16 00:57:15 2024] Words tested from the big dictionary: 95%
[Sat Nov 16 00:57:15 2024] Words tested from the big dictionary: 96%
[Sat Nov 16 00:57:15 2024] Words tested from the big dictionary: 96%
[Sat Nov 16 00:57:15 2024] Words tested from the big dictionary: 96%
[Sat Nov 16 00:57:16 2024] Words tested from the big dictionary: 96%
[Sat Nov 16 00:57:16 2024] Words tested from the big dictionary: 96%
[Sat Nov 16 00:57:16 2024] Words tested from the big dictionary: 96%
[Sat Nov 16 00:57:16 2024] Words tested from the big dictionary: 96%
[Sat Nov 16 00:57:16 2024] Words tested from the big dictionary: 96%
[Sat Nov 16 00:57:16 2024] Words tested from the big dictionary: 96%
[Sat Nov 16 00:57:16 2024] Words tested from the big dictionary: 96%
[Sat Nov 16 00:57:16 2024] Words tested from the big dictionary: 97%
[Sat Nov 16 00:57:16 2024] Words tested from the big dictionary: 97%
[Sat Nov 16 00:57:16 2024] Words tested from the big dictionary: 97%
[Sat Nov 16 00:57:16 2024] Words tested from the big dictionary: 97%
[Sat Nov 16 00:57:16 2024] Words tested from the big dictionary: 97%
[Sat Nov 16 00:57:16 2024] Words tested from the big dictionary: 97%
[Sat Nov 16 00:57:16 2024] Words tested from the big dictionary: 97%
[Sat Nov 16 00:57:16 2024] Words tested from the big dictionary: 97%
[Sat Nov 16 00:57:16 2024] Words tested from the big dictionary: 97%
[Sat Nov 16 00:57:16 2024] Words tested from the big dictionary: 97%
[Sat Nov 16 00:57:16 2024] Words tested from the big dictionary: 97%
[Sat Nov 16 00:57:16 2024] Words tested from the big dictionary: 98%
[Sat Nov 16 00:57:16 2024] Words tested from the big dictionary: 98%
[Sat Nov 16 00:57:16 2024] Words tested from the big dictionary: 98%
[Sat Nov 16 00:57:16 2024] Words tested from the big dictionary: 98%
[Sat Nov 16 00:57:16 2024] Words tested from the big dictionary: 98%
[Sat Nov 16 00:57:16 2024] Words tested from the big dictionary: 98%
[Sat Nov 16 00:57:16 2024] Words tested from the big dictionary: 98%
[Sat Nov 16 00:57:16 2024] Words tested from the big dictionary: 98%
[Sat Nov 16 00:57:16 2024] Words tested from the big dictionary: 98%
[Sat Nov 16 00:57:16 2024] Words tested from the big dictionary: 98%
[Sat Nov 16 00:57:16 2024] Words tested from the big dictionary: 98%
[Sat Nov 16 00:57:16 2024] Words tested from the big dictionary: 99%
[Sat Nov 16 00:57:16 2024] Words tested from the big dictionary: 99%
[Sat Nov 16 00:57:16 2024] Words tested from the big dictionary: 99%
[Sat Nov 16 00:57:16 2024] Words tested from the big dictionary: 99%
[Sat Nov 16 00:57:16 2024] Words tested from the big dictionary: 99%
[Sat Nov 16 00:57:16 2024] Words tested from the big dictionary: 99%
[Sat Nov 16 00:57:16 2024] Words tested from the big dictionary: 99%
[Sat Nov 16 00:57:16 2024] Words tested from the big dictionary: 99%
[Sat Nov 16 00:57:17 2024] Words tested from the big dictionary: 99%
[Sat Nov 16 00:57:17 2024] Words tested from the big dictionary: 99%
[Sat Nov 16 00:57:17 2024] Words tested from the big dictionary: 99%
t/to_latin1.t .................... ok
t/words_with_umlaut_and_szlig.t .. ok
All tests successful.
Files=6, Tests=209, 31 wallclock secs ( 0.08 usr 0.05 sys + 30.52 cusr 0.22 csys = 30.87 CPU)
Result: PASS
------------------------------
PREREQUISITES
------------------------------
Prerequisite modules loaded:
requires:
Module Need Have
------------------- ---- --------
Test::More 0 1.302204
build_requires:
Module Need Have
------------------- ---- --------
ExtUtils::MakeMaker 0 7.70
configure_requires:
Module Need Have
------------------- ---- --------
ExtUtils::MakeMaker 0 7.70
------------------------------
ENVIRONMENT AND OTHER CONTEXT
------------------------------
Environment variables:
AUTOMATED_TESTING = 1
LANG = en_US.UTF-8
LC_ADDRESS = de_DE.UTF-8
LC_IDENTIFICATION = de_DE.UTF-8
LC_MEASUREMENT = de_DE.UTF-8
LC_MONETARY = de_DE.UTF-8
LC_NAME = de_DE.UTF-8
LC_NUMERIC = de_DE.UTF-8
LC_PAPER = de_DE.UTF-8
LC_TELEPHONE = de_DE.UTF-8
LC_TIME = de_DE.UTF-8
PATH = /home/sand/bin:/usr/local/bin:/usr/local/sbin:/usr/sbin:/usr/bin:/sbin:/bin:/usr/games:/usr/local/games:/snap/bin:/usr/local/perl/bin:/usr/X11/bin
PERL = /tmp/basesmoker-reloperl-4ia_/bin/perl
PERL5LIB = /tmp/loop_over_bdir-2085-llUPgW/downsexta-0/blib/arch:/tmp/loop_over_bdir-2085-llUPgW/downsexta-0/blib/lib:/tmp/loop_over_bdir-2085-llUPgW/CGI-Application-NetNewsIface-0.0204-0/blib/arch:/tmp/loop_over_bdir-2085-llUPgW/CGI-Application-NetNewsIface-0.0204-0/blib/lib:/tmp/loop_over_bdir-2085-llUPgW/App-rmcd-0.280-0/blib/arch:/tmp/loop_over_bdir-2085-llUPgW/App-rmcd-0.280-0/blib/lib:/tmp/loop_over_bdir-2085-llUPgW/HTML-Menu-TreeView-1.22-0/blib/arch:/tmp/loop_over_bdir-2085-llUPgW/HTML-Menu-TreeView-1.22-0/blib/lib:/tmp/loop_over_bdir-2085-llUPgW/AllKnowingDNS-1.7-0/blib/arch:/tmp/loop_over_bdir-2085-llUPgW/AllKnowingDNS-1.7-0/blib/lib:/tmp/loop_over_bdir-2085-llUPgW/dta-tokwrap-0.98-0/blib/arch:/tmp/loop_over_bdir-2085-llUPgW/dta-tokwrap-0.98-0/blib/lib:/tmp/loop_over_bdir-2085-llUPgW/MP3-PodcastFetch-1.05-0/blib/arch:/tmp/loop_over_bdir-2085-llUPgW/MP3-PodcastFetch-1.05-0/blib/lib:/tmp/loop_over_bdir-2085-llUPgW/Devel-Required-0.16-0/blib/arch:/tmp/loop_over_bdir-2085-llUPgW/Devel-Required-0.16-0/blib/lib:/tmp/loop_over_bdir-2085-llUPgW/OSDial-3.0.2.124-0/blib/arch:/tmp/loop_over_bdir-2085-llUPgW/OSDial-3.0.2.124-0/blib/lib:/tmp/loop_over_bdir-2085-llUPgW/Business-Shipping-DataFiles-1.02-0/blib/arch:/tmp/loop_over_bdir-2085-llUPgW/Business-Shipping-DataFiles-1.02-0/blib/lib:/tmp/loop_over_bdir-2085-llUPgW/Lingua-BioYaTeA-0.11-0/blib/arch:/tmp/loop_over_bdir-2085-llUPgW/Lingua-BioYaTeA-0.11-0/blib/lib:/tmp/loop_over_bdir-2085-llUPgW/Lingua-YaTeA-0.626-0/blib/arch:/tmp/loop_over_bdir-2085-llUPgW/Lingua-YaTeA-0.626-0/blib/lib:/tmp/loop_over_bdir-2085-llUPgW/ProjectBuilder-0.14.1-0/blib/arch:/tmp/loop_over_bdir-2085-llUPgW/ProjectBuilder-0.14.1-0/blib/lib:/tmp/loop_over_bdir-2085-llUPgW/NoZone-1.3-0/blib/arch:/tmp/loop_over_bdir-2085-llUPgW/NoZone-1.3-0/blib/lib:/tmp/loop_over_bdir-2085-llUPgW/EJBCA-CrlPublish-0.60-0/blib/arch:/tmp/loop_over_bdir-2085-llUPgW/EJBCA-CrlPublish-0.60-0/blib/lib:/tmp/loop_over_bdir-2085-llUPgW/CORBA-Python-2.66-0/blib/arch:/tmp/loop_over_bdir-2085-llUPgW/CORBA-Python-2.66-0/blib/lib:/tmp/loop_over_bdir-2085-llUPgW/mmds-1.902-0/blib/arch:/tmp/loop_over_bdir-2085-llUPgW/mmds-1.902-0/blib/lib:/tmp/loop_over_bdir-2085-llUPgW/Linux-InitFS-0.2-0/blib/arch:/tmp/loop_over_bdir-2085-llUPgW/Linux-InitFS-0.2-0/blib/lib:/tmp/loop_over_bdir-2085-llUPgW/Net-ISP-Balance-1.31-0/blib/arch:/tmp/loop_over_bdir-2085-llUPgW/Net-ISP-Balance-1.31-0/blib/lib
PERL5OPT =
PERL5_CPANPLUS_IS_RUNNING = 2093
PERL5_CPAN_IS_RUNNING = 2093
PERL_CANARY_STABILITY_NOPROMPT = 1
PERL_MM_USE_DEFAULT = 1
PERL_USE_UNSAFE_INC = 1
SHELL = /usr/bin/zsh
TERM = screen
Perl special variables (and OS-specific diagnostics, for MSWin32):
$^X = /tmp/basesmoker-reloperl-4ia_/bin/perl
$UID/$EUID = 1005 / 1005
$GID = 1005 1005
$EGID = 1005 1005
Perl module toolchain versions installed:
Module Have
------------------- --------
CPAN 2.38
CPAN::Meta 2.150010
Cwd 3.92
ExtUtils::CBuilder 0.280240
ExtUtils::Command 7.70
ExtUtils::Install 2.22
ExtUtils::MakeMaker 7.70
ExtUtils::Manifest 1.75
ExtUtils::ParseXS 3.55
File::Spec 3.93
JSON 4.10
JSON::PP 4.16
Module::Build 0.4234
Module::Signature 0.89
Parse::CPAN::Meta 2.150010
Test2 1.302204
Test::Harness 3.50
Test::More 1.302204
YAML 1.31
YAML::Syck 1.34
version 0.9933
--
Summary of my perl5 (revision 5 version 41 subversion 5) configuration:
Commit id: 49feb78d039f9c146d7060a6b02af643e5b21489
Platform:
osname=linux
osvers=6.8.0-45-generic
archname=x86_64-linux-ld
uname='linux k93jammy 6.8.0-45-generic #45~22.04.1-ubuntu smp preempt_dynamic wed sep 11 15:25:05 utc 2 x86_64 x86_64 x86_64 gnulinux '
config_args='-Dprefix=/home/sand/src/perl/repoperls/installed-perls/host/k93jammy/v5.41.5/5674 -Dmyhostname=k93jammy -Dinstallusrbinperl=n -Uversiononly -Dusedevel -des -Ui_db -Dlibswanted=cl pthread socket inet nsl gdbm dbm malloc dl ld sun m crypt sec util c cposix posix ucb BSD gdbm_compat -Uuseithreads -Duselongdouble -DEBUGGING=-g'
hint=recommended
useposix=true
d_sigaction=define
useithreads=undef
usemultiplicity=undef
use64bitint=define
use64bitall=define
uselongdouble=define
usemymalloc=n
default_inc_excludes_dot=define
Compiler:
cc='cc'
ccflags ='-fwrapv -fno-strict-aliasing -pipe -fstack-protector-strong -I/usr/local/include -D_LARGEFILE_SOURCE -D_FILE_OFFSET_BITS=64'
optimize='-O2 -g'
cppflags='-fwrapv -fno-strict-aliasing -pipe -fstack-protector-strong -I/usr/local/include'
ccversion=''
gccversion='11.4.0'
gccosandvers=''
intsize=4
longsize=8
ptrsize=8
doublesize=8
byteorder=12345678
doublekind=3
d_longlong=define
longlongsize=8
d_longdbl=define
longdblsize=16
longdblkind=3
ivtype='long'
ivsize=8
nvtype='long double'
nvsize=16
Off_t='off_t'
lseeksize=8
alignbytes=16
prototype=define
Linker and Libraries:
ld='cc'
ldflags =' -fstack-protector-strong -L/usr/local/lib'
libpth=/usr/local/lib /usr/lib/x86_64-linux-gnu /usr/lib /usr/lib64
libs=-lpthread -lnsl -ldl -lm -lcrypt -lutil -lc
perllibs=-lpthread -lnsl -ldl -lm -lcrypt -lutil -lc
libc=/lib/x86_64-linux-gnu/libc.so.6
so=so
useshrplib=false
libperl=libperl.a
gnulibc_version='2.35'
Dynamic Linking:
dlsrc=dl_dlopen.xs
dlext=so
d_dlsymun=undef
ccdlflags='-Wl,-E'
cccdlflags='-fPIC'
lddlflags='-shared -O2 -g -L/usr/local/lib -fstack-protector-strong'
Characteristics of this binary (from libperl):
Compile-time options:
HAS_LONG_DOUBLE
HAS_STRTOLD
HAS_TIMES
PERLIO_LAYERS
PERL_COPY_ON_WRITE
PERL_DONT_CREATE_GVSV
PERL_HASH_FUNC_SIPHASH13
PERL_HASH_USE_SBOX32
PERL_MALLOC_WRAP
PERL_OP_PARENT
PERL_PRESERVE_IVUV
PERL_USE_DEVEL
PERL_USE_SAFE_PUTENV
USE_64_BIT_ALL
USE_64_BIT_INT
USE_LARGE_FILES
USE_LOCALE
USE_LOCALE_COLLATE
USE_LOCALE_CTYPE
USE_LOCALE_NUMERIC
USE_LOCALE_TIME
USE_LONG_DOUBLE
USE_PERLIO
USE_PERL_ATOF
Built under linux
Compiled at Oct 21 2024 08:00:42
%ENV:
PERL="/tmp/basesmoker-reloperl-4ia_/bin/perl"
PERL5LIB="/tmp/loop_over_bdir-2085-llUPgW/downsexta-0/blib/arch:/tmp/loop_over_bdir-2085-llUPgW/downsexta-0/blib/lib:/tmp/loop_over_bdir-2085-llUPgW/CGI-Application-NetNewsIface-0.0204-0/blib/arch:/tmp/loop_over_bdir-2085-llUPgW/CGI-Application-NetNewsIface-0.0204-0/blib/lib:/tmp/loop_over_bdir-2085-llUPgW/App-rmcd-0.280-0/blib/arch:/tmp/loop_over_bdir-2085-llUPgW/App-rmcd-0.280-0/blib/lib:/tmp/loop_over_bdir-2085-llUPgW/HTML-Menu-TreeView-1.22-0/blib/arch:/tmp/loop_over_bdir-2085-llUPgW/HTML-Menu-TreeView-1.22-0/blib/lib:/tmp/loop_over_bdir-2085-llUPgW/AllKnowingDNS-1.7-0/blib/arch:/tmp/loop_over_bdir-2085-llUPgW/AllKnowingDNS-1.7-0/blib/lib:/tmp/loop_over_bdir-2085-llUPgW/dta-tokwrap-0.98-0/blib/arch:/tmp/loop_over_bdir-2085-llUPgW/dta-tokwrap-0.98-0/blib/lib:/tmp/loop_over_bdir-2085-llUPgW/MP3-PodcastFetch-1.05-0/blib/arch:/tmp/loop_over_bdir-2085-llUPgW/MP3-PodcastFetch-1.05-0/blib/lib:/tmp/loop_over_bdir-2085-llUPgW/Devel-Required-0.16-0/blib/arch:/tmp/loop_over_bdir-2085-llUPgW/Devel-Required-0.16-0/blib/lib:/tmp/loop_over_bdir-2085-llUPgW/OSDial-3.0.2.124-0/blib/arch:/tmp/loop_over_bdir-2085-llUPgW/OSDial-3.0.2.124-0/blib/lib:/tmp/loop_over_bdir-2085-llUPgW/Business-Shipping-DataFiles-1.02-0/blib/arch:/tmp/loop_over_bdir-2085-llUPgW/Business-Shipping-DataFiles-1.02-0/blib/lib:/tmp/loop_over_bdir-2085-llUPgW/Lingua-BioYaTeA-0.11-0/blib/arch:/tmp/loop_over_bdir-2085-llUPgW/Lingua-BioYaTeA-0.11-0/blib/lib:/tmp/loop_over_bdir-2085-llUPgW/Lingua-YaTeA-0.626-0/blib/arch:/tmp/loop_over_bdir-2085-llUPgW/Lingua-YaTeA-0.626-0/blib/lib:/tmp/loop_over_bdir-2085-llUPgW/ProjectBuilder-0.14.1-0/blib/arch:/tmp/loop_over_bdir-2085-llUPgW/ProjectBuilder-0.14.1-0/blib/lib:/tmp/loop_over_bdir-2085-llUPgW/NoZone-1.3-0/blib/arch:/tmp/loop_over_bdir-2085-llUPgW/NoZone-1.3-0/blib/lib:/tmp/loop_over_bdir-2085-llUPgW/EJBCA-CrlPublish-0.60-0/blib/arch:/tmp/loop_over_bdir-2085-llUPgW/EJBCA-CrlPublish-0.60-0/blib/lib:/tmp/loop_over_bdir-2085-llUPgW/CORBA-Python-2.66-0/blib/arch:/tmp/loop_over_bdir-2085-llUPgW/CORBA-Python-2.66-0/blib/lib:/tmp/loop_over_bdir-2085-llUPgW/mmds-1.902-0/blib/arch:/tmp/loop_over_bdir-2085-llUPgW/mmds-1.902-0/blib/lib:/tmp/loop_over_bdir-2085-llUPgW/Linux-InitFS-0.2-0/blib/arch:/tmp/loop_over_bdir-2085-llUPgW/Linux-InitFS-0.2-0/blib/lib:/tmp/loop_over_bdir-2085-llUPgW/Net-ISP-Balance-1.31-0/blib/arch:/tmp/loop_over_bdir-2085-llUPgW/Net-ISP-Balance-1.31-0/blib/lib"
PERL5OPT=""
PERL5_CPANPLUS_IS_RUNNING="2093"
PERL5_CPAN_IS_RUNNING="2093"
PERL_CANARY_STABILITY_NOPROMPT="1"
PERL_MM_USE_DEFAULT="1"
PERL_USE_UNSAFE_INC="1"
@INC:
/tmp/loop_over_bdir-2085-llUPgW/downsexta-0/blib/arch
/tmp/loop_over_bdir-2085-llUPgW/downsexta-0/blib/lib
/tmp/loop_over_bdir-2085-llUPgW/CGI-Application-NetNewsIface-0.0204-0/blib/arch
/tmp/loop_over_bdir-2085-llUPgW/CGI-Application-NetNewsIface-0.0204-0/blib/lib
/tmp/loop_over_bdir-2085-llUPgW/App-rmcd-0.280-0/blib/arch
/tmp/loop_over_bdir-2085-llUPgW/App-rmcd-0.280-0/blib/lib
/tmp/loop_over_bdir-2085-llUPgW/HTML-Menu-TreeView-1.22-0/blib/arch
/tmp/loop_over_bdir-2085-llUPgW/HTML-Menu-TreeView-1.22-0/blib/lib
/tmp/loop_over_bdir-2085-llUPgW/AllKnowingDNS-1.7-0/blib/arch
/tmp/loop_over_bdir-2085-llUPgW/AllKnowingDNS-1.7-0/blib/lib
/tmp/loop_over_bdir-2085-llUPgW/dta-tokwrap-0.98-0/blib/arch
/tmp/loop_over_bdir-2085-llUPgW/dta-tokwrap-0.98-0/blib/lib
/tmp/loop_over_bdir-2085-llUPgW/MP3-PodcastFetch-1.05-0/blib/arch
/tmp/loop_over_bdir-2085-llUPgW/MP3-PodcastFetch-1.05-0/blib/lib
/tmp/loop_over_bdir-2085-llUPgW/Devel-Required-0.16-0/blib/arch
/tmp/loop_over_bdir-2085-llUPgW/Devel-Required-0.16-0/blib/lib
/tmp/loop_over_bdir-2085-llUPgW/OSDial-3.0.2.124-0/blib/arch
/tmp/loop_over_bdir-2085-llUPgW/OSDial-3.0.2.124-0/blib/lib
/tmp/loop_over_bdir-2085-llUPgW/Business-Shipping-DataFiles-1.02-0/blib/arch
/tmp/loop_over_bdir-2085-llUPgW/Business-Shipping-DataFiles-1.02-0/blib/lib
/tmp/loop_over_bdir-2085-llUPgW/Lingua-BioYaTeA-0.11-0/blib/arch
/tmp/loop_over_bdir-2085-llUPgW/Lingua-BioYaTeA-0.11-0/blib/lib
/tmp/loop_over_bdir-2085-llUPgW/Lingua-YaTeA-0.626-0/blib/arch
/tmp/loop_over_bdir-2085-llUPgW/Lingua-YaTeA-0.626-0/blib/lib
/tmp/loop_over_bdir-2085-llUPgW/ProjectBuilder-0.14.1-0/blib/arch
/tmp/loop_over_bdir-2085-llUPgW/ProjectBuilder-0.14.1-0/blib/lib
/tmp/loop_over_bdir-2085-llUPgW/NoZone-1.3-0/blib/arch
/tmp/loop_over_bdir-2085-llUPgW/NoZone-1.3-0/blib/lib
/tmp/loop_over_bdir-2085-llUPgW/EJBCA-CrlPublish-0.60-0/blib/arch
/tmp/loop_over_bdir-2085-llUPgW/EJBCA-CrlPublish-0.60-0/blib/lib
/tmp/loop_over_bdir-2085-llUPgW/CORBA-Python-2.66-0/blib/arch
/tmp/loop_over_bdir-2085-llUPgW/CORBA-Python-2.66-0/blib/lib
/tmp/loop_over_bdir-2085-llUPgW/mmds-1.902-0/blib/arch
/tmp/loop_over_bdir-2085-llUPgW/mmds-1.902-0/blib/lib
/tmp/loop_over_bdir-2085-llUPgW/Linux-InitFS-0.2-0/blib/arch
/tmp/loop_over_bdir-2085-llUPgW/Linux-InitFS-0.2-0/blib/lib
/tmp/loop_over_bdir-2085-llUPgW/Net-ISP-Balance-1.31-0/blib/arch
/tmp/loop_over_bdir-2085-llUPgW/Net-ISP-Balance-1.31-0/blib/lib
/home/sand/src/perl/repoperls/installed-perls/host/k93jammy/v5.41.5/5674/lib/site_perl/5.41.5/x86_64-linux-ld
/home/sand/src/perl/repoperls/installed-perls/host/k93jammy/v5.41.5/5674/lib/site_perl/5.41.5
/home/sand/src/perl/repoperls/installed-perls/host/k93jammy/v5.41.5/5674/lib/5.41.5/x86_64-linux-ld
/home/sand/src/perl/repoperls/installed-perls/host/k93jammy/v5.41.5/5674/lib/5.41.5
.