Report for DateTime-Format-XMLTV-1.001

Back
From: metabase:user:a0e144f2-373b-11e6-8edd-c6848980b093
Subject: PASS DateTime-Format-XMLTV-1.001 v5.25.6 GNU/Linux
Date: 2016-11-08T08:03:09Z

This distribution has been tested as part of the CPAN Testers
project, supporting the Perl programming language.  See
http://wiki.cpantesters.org/ for more information or email
questions to cpan-testers-discuss@perl.org


--
Dear Christopher J. Madsen,

This is a computer-generated report for DateTime-Format-XMLTV-1.001
on perl 5.25.6, created by CPAN-Reporter-1.2018.

Thank you for uploading your work to CPAN.  Congratulations!
All tests were successful.

Sections of this report:

    * Tester comments
    * Program output
    * Prerequisites
    * Environment and other context

------------------------------
TESTER COMMENTS
------------------------------

Additional comments from tester:

this report is from an automated smoke testing program
and was not reviewed by a human for accuracy

------------------------------
PROGRAM OUTPUT
------------------------------

Output from '/usr/bin/make test':

PERL_DL_NONLAZY=1 "/home/cpan1/install/bin/perl" "-MExtUtils::Command::MM" "-MTest::Harness" "-e" "undef *Test::Harness::Switches; test_harness(0, 'blib/lib', 'blib/arch')" t/*.t
# Listing %INC
#                                           B 1.64
#                        B::Hooks::EndOfScope 0.21
#                    B::Hooks::EndOfScope::XS 0.21
#                                        Carp 1.38
#                    Class::Data::Inheritable 0.08
#                        Class::Factory::Util 1.7
#                            Class::Singleton 1.5
#                                      Config 5.025006
#                                    DateTime 1.39
#                          DateTime::Duration 1.39
#                   DateTime::Format::Builder 0.81
#           DateTime::Format::Builder::Parser 0.81
# DateTime::Format::Builder::Parser::Dispatch 0.81
#    DateTime::Format::Builder::Parser::Quick 0.81
#    DateTime::Format::Builder::Parser::Regex 0.81
# DateTime::Format::Builder::Parser::Strptime 0.81
#  DateTime::Format::Builder::Parser::generic 0.81
#                  DateTime::Format::Strptime 1.68
#                           DateTime::Helpers 1.39
#                          DateTime::Infinite 1.39
#                            DateTime::Locale 1.09
#                      DateTime::Locale::Data 1.09
#                  DateTime::Locale::FromData 1.09
#                      DateTime::Locale::Util 1.09
#                          DateTime::TimeZone 2.04
#                 DateTime::TimeZone::Catalog 2.04
#                DateTime::TimeZone::Floating 2.04
#                   DateTime::TimeZone::Local 2.04
#              DateTime::TimeZone::OffsetOnly 2.04
#         DateTime::TimeZone::OlsonDB::Change 2.04
#                     DateTime::TimeZone::UTC 2.04
#                             DateTime::Types 1.39
#                           Devel::StackTrace 2.01
#                    Devel::StackTrace::Frame 2.01
#                                  DynaLoader 1.39
#                               Eval::Closure 0.14
#                            Exception::Class 1.40
#                      Exception::Class::Base 1.40
#                                    Exporter 5.72
#                             Exporter::Heavy 5.72
#                                       Fcntl 1.13
#                                  File::Spec 3.62
#                            File::Spec::Unix 3.62
#                                  List::Util 1.46
#                                 MRO::Compat 0.12
#                      Module::Implementation 0.09
#                             Module::Runtime 0.014
#                                       POSIX 1.73
#                 Package::DeprecationManager 0.17
#                              Package::Stash 0.37
#                          Package::Stash::XS 0.28
#                                Params::Util 1.07
#                            Params::Validate 1.26
#                 Params::Validate::Constants 1.26
#                        Params::Validate::XS 1.26
#                  Params::ValidationCompiler 0.13
#        Params::ValidationCompiler::Compiler 0.13
#      Params::ValidationCompiler::Exceptions 0.13
#                                  Role::Tiny 2.000003
#                            Role::Tiny::With 2.000003
#                                Scalar::Util 1.46
#                                      Specio 0.30
#                            Specio::Coercion 0.30
#                  Specio::Constraint::AnyCan 0.30
#                    Specio::Constraint::Enum 0.30
#               Specio::Constraint::ObjectCan 0.30
#               Specio::Constraint::ObjectIsa 0.30
#         Specio::Constraint::Parameterizable 0.30
#           Specio::Constraint::Parameterized 0.30
#           Specio::Constraint::Role::CanType 0.30
#         Specio::Constraint::Role::Interface 0.30
#           Specio::Constraint::Role::IsaType 0.30
#                  Specio::Constraint::Simple 0.30
#                   Specio::Constraint::Union 0.30
#                             Specio::Declare 0.30
#                          Specio::DeclaredAt 0.30
#                           Specio::Exception 0.30
#                            Specio::Exporter 0.30
#                             Specio::Helpers 0.30
#                   Specio::Library::Builtins 0.30
#                    Specio::Library::Numeric 0.30
#                     Specio::Library::String 0.30
#                                  Specio::OO 0.30
#                         Specio::PartialDump 0.30
#                            Specio::Registry 0.30
#                     Specio::Role::Inlinable 0.30
#                          Specio::TypeChecks 0.30
#                                    Storable 2.58
#                  Sub::Exporter::Progressive 0.001012
#                               Sub::Identify 0.12
#                                Sub::Install 0.928
#                                   Sub::Name 0.22
#                                   Sub::Util 1.46
#                                   Tie::Hash 1.05
#                                   Try::Tiny 0.27
#                             Variable::Magic 0.60
#                                    XSLoader 0.24
#                                        base 2.23
#                                    constant 1.33
#                                     integer 1.01
#                                         mro 1.18
#                        namespace::autoclean 0.28
#                            namespace::clean 0.27
#                     namespace::clean::_Util undef
#                                    overload 1.27
#                                 overloading 0.02
#                                      parent 0.236
#                                          re 0.33
#                                      strict 1.11
#                                        utf8 1.19
#                                        vars 1.03
#                                    warnings 1.37
#                          warnings::register 1.04
t/00-all_prereqs.t .. ok
t/20-format.t ....... ok
# Testing DateTime::Format::XMLTV 1.001
t/00-load.t ......... ok
t/10-parse.t ........ ok
All tests successful.
Files=4, Tests=61,  1 wallclock secs ( 0.04 usr  0.00 sys +  1.80 cusr  0.08 csys =  1.92 CPU)
Result: PASS

------------------------------
PREREQUISITES
------------------------------

Prerequisite modules loaded:

requires:

    Module                    Need Have    
    ------------------------- ---- --------
    DateTime::Format::Builder 0.80 0.81    

build_requires:

    Module                    Need Have    
    ------------------------- ---- --------
    Test::More                0.88 1.302061

configure_requires:

    Module                    Need Have    
    ------------------------- ---- --------
    ExtUtils::MakeMaker       6.30 7.24    


------------------------------
ENVIRONMENT AND OTHER CONTEXT
------------------------------

Environment variables:

    AUTOMATED_TESTING = 1
    HARNESS_OPTIONS = j5
    LANG = en_US.UTF-8
    PATH = /usr/local/bin:/usr/bin:/bin:/usr/local/games:/usr/games
    PERL5LIB = 
    PERL5OPT = 
    PERL5_CPANPLUS_IS_RUNNING = 26368
    PERL5_CPAN_IS_RUNNING = 26368
    PERL5_CPAN_IS_RUNNING_IN_RECURSION = 870,26368
    PERLBREW_BASHRC_VERSION = 0.76
    PERLBREW_HOME = /home/dcollins/.perlbrew
    PERLBREW_ROOT = /home/dcollins/toolchain/perl5
    PERL_CR_SMOKER_CURRENT = PostScript-ScheduleGrid-XMLTV-0.04
    PERL_CR_SMOKER_RUNONCE = 1
    PERL_EXTUTILS_AUTOINSTALL = --defaultdeps
    PERL_MM_USE_DEFAULT = 1
    SHELL = /bin/bash
    TERM = putty

Perl special variables (and OS-specific diagnostics, for MSWin32):

    $^X = /home/cpan1/install/bin/perl
    $UID/$EUID = 1002 / 1002
    $GID = 1002 1002
    $EGID = 1002 1002

Perl module toolchain versions installed:

    Module              Have    
    ------------------- --------
    CPAN                2.14    
    CPAN::Meta          2.150010
    Cwd                 3.62    
    ExtUtils::CBuilder  0.280224
    ExtUtils::Command   7.24    
    ExtUtils::Install   2.04    
    ExtUtils::MakeMaker 7.24    
    ExtUtils::Manifest  1.70    
    ExtUtils::ParseXS   3.30    
    File::Spec          3.62    
    JSON                2.90    
    JSON::PP            2.27400 
    Module::Build       0.4220  
    Module::Signature   0.81    
    Parse::CPAN::Meta   2.150010
    Test::Harness       3.36    
    Test::More          1.302061
    YAML                1.18    
    YAML::Syck          1.29    
    version             0.9917  


--

Summary of my perl5 (revision 5 version 25 subversion 6) configuration:
  Commit id: 11a12be6c2df2fcd9601f9fde8c7df8c7538c956
  Platform:
    osname=linux
    osvers=3.16.0-4-amd64
    archname=x86_64-linux-thread-multi
    uname='linux digitalis 3.16.0-4-amd64 #1 smp debian 3.16.36-1+deb8u1 (2016-09-03) x86_64 gnulinux '
    config_args='-Dusedevel -DDEBUGGING -Dusethreads -Dprefix=/home/cpan1/install -Uversiononly -des'
    hint=recommended
    useposix=true
    d_sigaction=define
    useithreads=define
    usemultiplicity=define
    use64bitint=define
    use64bitall=define
    uselongdouble=undef
    usemymalloc=n
    bincompat5005=undef
  Compiler:
    cc='cc'
    ccflags ='-D_REENTRANT -D_GNU_SOURCE -fwrapv -DDEBUGGING -fno-strict-aliasing -pipe -fstack-protector-strong -I/usr/local/include -D_LARGEFILE_SOURCE -D_FILE_OFFSET_BITS=64 -D_FORTIFY_SOURCE=2'
    optimize='-O2 -g'
    cppflags='-D_REENTRANT -D_GNU_SOURCE -fwrapv -DDEBUGGING -fno-strict-aliasing -pipe -fstack-protector-strong -I/usr/local/include'
    ccversion=''
    gccversion='4.9.2'
    gccosandvers=''
    intsize=4
    longsize=8
    ptrsize=8
    doublesize=8
    byteorder=12345678
    doublekind=3
    d_longlong=define
    longlongsize=8
    d_longdbl=define
    longdblsize=16
    longdblkind=3
    ivtype='long'
    ivsize=8
    nvtype='double'
    nvsize=8
    Off_t='off_t'
    lseeksize=8
    alignbytes=8
    prototype=define
  Linker and Libraries:
    ld='cc'
    ldflags =' -fstack-protector-strong -L/usr/local/lib'
    libpth=/usr/local/lib /usr/lib/gcc/x86_64-linux-gnu/4.9/include-fixed /usr/include/x86_64-linux-gnu /usr/lib /lib/x86_64-linux-gnu /lib/../lib /usr/lib/x86_64-linux-gnu /usr/lib/../lib /lib
    libs=-lpthread -lnsl -ldl -lm -lcrypt -lutil -lc
    perllibs=-lpthread -lnsl -ldl -lm -lcrypt -lutil -lc
    libc=libc-2.19.so
    so=so
    useshrplib=false
    libperl=libperl.a
    gnulibc_version='2.19'
  Dynamic Linking:
    dlsrc=dl_dlopen.xs
    dlext=so
    d_dlsymun=undef
    ccdlflags='-Wl,-E'
    cccdlflags='-fPIC'
    lddlflags='-shared -O2 -g -L/usr/local/lib -fstack-protector-strong'


Characteristics of this binary (from libperl): 
  Compile-time options:
    DEBUGGING
    HAS_TIMES
    MULTIPLICITY
    PERLIO_LAYERS
    PERL_COPY_ON_WRITE
    PERL_DONT_CREATE_GVSV
    PERL_HASH_FUNC_ONE_AT_A_TIME_HARD
    PERL_IMPLICIT_CONTEXT
    PERL_MALLOC_WRAP
    PERL_OP_PARENT
    PERL_PRESERVE_IVUV
    PERL_TRACK_MEMPOOL
    PERL_USE_DEVEL
    USE_64_BIT_ALL
    USE_64_BIT_INT
    USE_ITHREADS
    USE_LARGE_FILES
    USE_LOCALE
    USE_LOCALE_COLLATE
    USE_LOCALE_CTYPE
    USE_LOCALE_NUMERIC
    USE_LOCALE_TIME
    USE_PERLIO
    USE_PERL_ATOF
    USE_REENTRANT_API
  Built under linux
  Compiled at Oct 17 2016 18:50:00
  %ENV:
    PERL5LIB=""
    PERL5OPT=""
    PERL5_CPANPLUS_IS_RUNNING="26368"
    PERL5_CPAN_IS_RUNNING="26368"
    PERL5_CPAN_IS_RUNNING_IN_RECURSION="870,26368"
    PERLBREW_BASHRC_VERSION="0.76"
    PERLBREW_HOME="/home/dcollins/.perlbrew"
    PERLBREW_ROOT="/home/dcollins/toolchain/perl5"
    PERL_CR_SMOKER_CURRENT="PostScript-ScheduleGrid-XMLTV-0.04"
    PERL_CR_SMOKER_RUNONCE="1"
    PERL_EXTUTILS_AUTOINSTALL="--defaultdeps"
    PERL_MM_USE_DEFAULT="1"
  @INC:
    /home/cpan1/install/lib/perl5/site_perl/5.25.6/x86_64-linux-thread-multi
    /home/cpan1/install/lib/perl5/site_perl/5.25.6
    /home/cpan1/install/lib/perl5/5.25.6/x86_64-linux-thread-multi
    /home/cpan1/install/lib/perl5/5.25.6
    .