Perl-MinimumVersion v1.40 Perl 5 v5.35.12 amd64-netbsd-thread-multi

Status
Pass
From
Carlos Guevara
Dist
Perl-MinimumVersion v1.40
Platform
Perl 5 v5.35.12 amd64-netbsd-thread-multi
Date
2022-05-11 11:23:31
ID
c9a24e28-d11c-11ec-b054-3f1e2890f34c
This distribution has been tested as part of the CPAN Testers
project, supporting the Perl programming language.  See
http://wiki.cpantesters.org/ for more information or email
questions to cpan-testers-discuss@perl.org


--
Dear Dan Book,

This is a computer-generated report for Perl-MinimumVersion-1.40
on perl 5.35.12, created by CPAN-Reporter-1.2018.

Thank you for uploading your work to CPAN.  Congratulations!
All tests were successful.

Sections of this report:

    * Tester comments
    * Program output
    * Prerequisites
    * Environment and other context

------------------------------
TESTER COMMENTS
------------------------------

Additional comments from tester:

this report is from an automated smoke testing program
and was not reviewed by a human for accuracy

------------------------------
PROGRAM OUTPUT
------------------------------

Output from '/usr/bin/make test':

PERL_DL_NONLAZY=1 "/home/cpan/bin/perl-blead/bin/perl5.35.12" "-MExtUtils::Command::MM" "-MTest::Harness" "-e" "undef *Test::Harness::Switches; test_harness(0, 'blib/lib', 'blib/arch')" t/*.t
# 
# Versions for all modules listed in MYMETA.json (including optional ones):
# 
# === Configure Requires ===
# 
#     Module              Want Have
#     ------------------- ---- ----
#     ExtUtils::MakeMaker  any 7.64
# 
# === Configure Suggests ===
# 
#     Module      Want Have
#     -------- ------- ----
#     JSON::PP 2.27300 4.08
# 
# === Build Requires ===
# 
#     Module              Want Have
#     ------------------- ---- ----
#     ExtUtils::MakeMaker  any 7.64
# 
# === Test Requires ===
# 
#     Module                Want     Have
#     --------------------- ---- --------
#     ExtUtils::MakeMaker    any     7.64
#     File::Spec             any     3.84
#     File::Spec::Functions  any     3.84
#     Test::More            0.47 1.302190
# 
# === Test Recommends ===
# 
#     Module         Want     Have
#     ---------- -------- --------
#     CPAN::Meta 2.120900 2.150010
# 
# === Runtime Requires ===
# 
#     Module                  Want   Have
#     ---------------------- ----- ------
#     Carp                     any   1.52
#     Exporter                 any   5.77
#     File::Find::Rule         any   0.34
#     File::Find::Rule::Perl   any   1.16
#     File::Spec               any   3.84
#     Getopt::Long             any   2.52
#     List::Util              1.20   1.62
#     PPI                    1.215  1.274
#     PPI::Util                any  1.274
#     PPIx::Regexp           0.033  0.085
#     PPIx::Utils              any  0.003
#     Params::Util            0.25  1.102
#     strict                   any   1.12
#     vars                     any   1.05
#     version                 0.76 0.9929
#     warnings                 any   1.58
# 
t/00-report-prereqs.t .... ok
t/02_main.t .............. ok
t/03_open_3arg.t ......... ok
t/04_substr.t ............ ok
t/05_foreach.t ........... ok
t/06_weaken.t ............ ok
t/07_splice.t ............ ok
t/08_mkdir.t ............. ok
t/09_pkg_name_version.t .. ok
t/10_yada_yada_yada.t .... ok
t/11_feature_bundle.t .... ok
t/12_double_colon.t ...... ok
t/13_perl_510.t .......... ok
t/14_regex.t ............. ok
t/15_each.t .............. ok
t/16_binmode.t ........... ok
t/17_when.t .............. ok
t/18_exists_subr.t ....... ok
t/19_opentemp.t .......... ok
t/20_sort_subref.t ....... ok
t/21_openscalar.t ........ ok
t/22_while_readdir.t ..... ok
t/23_internals.t ......... ok
t/24_state.t ............. ok
t/25_scheduled_blocks.t .. ok
t/26_stacked_labels.t .... ok
t/28_experimental.t ...... ok
All tests successful.
Files=27, Tests=350, 11 wallclock secs ( 0.13 usr  0.10 sys +  8.41 cusr  1.94 csys = 10.58 CPU)
Result: PASS

------------------------------
PREREQUISITES
------------------------------

Prerequisite modules loaded:

requires:

    Module                 Need  Have    
    ---------------------- ----- --------
    Carp                   0     1.52    
    Exporter               0     5.77    
    File::Find::Rule       0     0.34    
    File::Find::Rule::Perl 0     1.16    
    File::Spec             0     3.84    
    Getopt::Long           0     2.52    
    List::Util             1.20  1.62    
    Params::Util           0.25  1.102   
    perl                   5.006 5.035012
    PPI                    1.215 1.274   
    PPI::Util              0     1.274   
    PPIx::Regexp           0.033 0.085   
    PPIx::Utils            0     0.003   
    strict                 0     1.12    
    vars                   0     1.05    
    version                0.76  0.9929  
    warnings               0     1.58    

build_requires:

    Module                 Need  Have    
    ---------------------- ----- --------
    ExtUtils::MakeMaker    0     7.64    
    File::Spec             0     3.84    
    File::Spec::Functions  0     3.84    
    Test::More             0.47  1.302190

configure_requires:

    Module                 Need  Have    
    ---------------------- ----- --------
    ExtUtils::MakeMaker    0     7.64    


------------------------------
ENVIRONMENT AND OTHER CONTEXT
------------------------------

Environment variables:

    AUTOMATED_TESTING = 1
    DATE_MANIP_TEST_DM5 = 1
    LC_ALL = C
    NONINTERACTIVE_TESTING = 1
    PATH = /home/cpan/bin/perl-blead/bin:/home/cpan/bin:/home/cpan/bin:/bin:/sbin:/usr/bin:/usr/sbin:/usr/X11R7/bin:/usr/pkg/bin:/usr/pkg/sbin:/usr/games:/usr/local/bin:/usr/local/sbin
    PERL5LIB = 
    PERL5OPT = 
    PERL5_CPANPLUS_IS_RUNNING = 24799
    PERL5_CPAN_IS_RUNNING = 24799
    PERL_MM_USE_DEFAULT = 1
    PERL_USE_UNSAFE_INC = 1
    PERL_VERSION = blead
    SHELL = /usr/pkg/bin/bash
    TERM = screen
    TMPDIR = /home/cpan/tmp

Perl special variables (and OS-specific diagnostics, for MSWin32):

    $^X = /home/cpan/bin/perl-blead/bin/perl5.35.12
    $UID/$EUID = 1001 / 1001
    $GID = 100 100
    $EGID = 100 100

Perl module toolchain versions installed:

    Module              Have    
    ------------------- --------
    CPAN                2.33    
    CPAN::Meta          2.150010
    Cwd                 3.84    
    ExtUtils::CBuilder  0.280236
    ExtUtils::Command   7.64    
    ExtUtils::Install   2.20    
    ExtUtils::MakeMaker 7.64    
    ExtUtils::Manifest  1.73    
    ExtUtils::ParseXS   3.45    
    File::Spec          3.84    
    JSON                4.05    
    JSON::PP            4.08    
    Module::Build       0.4231  
    Module::Signature   n/a     
    Parse::CPAN::Meta   2.150010
    Test::Harness       3.44    
    Test::More          1.302190
    YAML                1.30    
    YAML::Syck          1.34    
    version             0.9929  


--

Summary of my perl5 (revision 5 version 35 subversion 12) configuration:
  Commit id: fabaf5687bed5dd84f312f821acbb5a83fc3120a
  Platform:
    osname=netbsd
    osvers=9.2
    archname=amd64-netbsd-thread-multi
    uname='netbsd cjg-netbsd9 9.2 netbsd 9.2 (generic) #0: wed may 12 13:15:55 utc 2021 mkrepro@mkrepro.netbsd.org:usrsrcsysarchamd64compilegeneric amd64 '
    config_args='-des -Dprefix=~/bin/perl-blead -Dscriptdir=~/bin/perl-blead/bin -Dusedevel -Duse64bitall -Duseithreads'
    hint=recommended
    useposix=true
    d_sigaction=define
    useithreads=define
    usemultiplicity=define
    use64bitint=define
    use64bitall=define
    uselongdouble=undef
    usemymalloc=n
    default_inc_excludes_dot=define
  Compiler:
    cc='cc'
    ccflags ='-fwrapv -fno-strict-aliasing -pipe -fstack-protector-strong -I/usr/pkg/include -D_FORTIFY_SOURCE=2'
    optimize='-O'
    cppflags='-fwrapv -fno-strict-aliasing -pipe -fstack-protector-strong -I/usr/pkg/include'
    ccversion=''
    gccversion='7.5.0'
    gccosandvers=''
    intsize=4
    longsize=8
    ptrsize=8
    doublesize=8
    byteorder=12345678
    doublekind=3
    d_longlong=define
    longlongsize=8
    d_longdbl=define
    longdblsize=16
    longdblkind=3
    ivtype='long'
    ivsize=8
    nvtype='double'
    nvsize=8
    Off_t='off_t'
    lseeksize=8
    alignbytes=8
    prototype=define
  Linker and Libraries:
    ld='cc'
    ldflags =' -Wl,-rpath,/usr/pkg/lib -Wl,-rpath,/usr/local/lib -fstack-protector-strong -L/usr/pkg/lib'
    libpth=/usr/lib /usr/pkg/lib /lib
    libs=-lpthread -lm -lcrypt -lutil -lc -lposix
    perllibs=-lpthread -lm -lcrypt -lutil -lc -lposix
    libc=/lib/libc.so
    so=so
    useshrplib=false
    libperl=libperl.a
    gnulibc_version=''
  Dynamic Linking:
    dlsrc=dl_dlopen.xs
    dlext=so
    d_dlsymun=undef
    ccdlflags='-Wl,-E '
    cccdlflags='-DPIC -fPIC '
    lddlflags='-shared  -L/usr/pkg/lib -fstack-protector-strong'


Characteristics of this binary (from libperl): 
  Compile-time options:
    HAS_TIMES
    MULTIPLICITY
    PERLIO_LAYERS
    PERL_COPY_ON_WRITE
    PERL_DONT_CREATE_GVSV
    PERL_MALLOC_WRAP
    PERL_OP_PARENT
    PERL_PRESERVE_IVUV
    PERL_USE_DEVEL
    USE_64_BIT_ALL
    USE_64_BIT_INT
    USE_ITHREADS
    USE_LARGE_FILES
    USE_LOCALE
    USE_LOCALE_COLLATE
    USE_LOCALE_CTYPE
    USE_LOCALE_NUMERIC
    USE_LOCALE_TIME
    USE_PERLIO
    USE_PERL_ATOF
    USE_REENTRANT_API
  Built under netbsd
  Compiled at May  9 2022 16:07:09
  %ENV:
    PERL5LIB=""
    PERL5OPT=""
    PERL5_CPANPLUS_IS_RUNNING="24799"
    PERL5_CPAN_IS_RUNNING="24799"
    PERL_MM_USE_DEFAULT="1"
    PERL_USE_UNSAFE_INC="1"
    PERL_VERSION="blead"
  @INC:
    /home/cpan/bin/perl-blead/lib/site_perl/5.35.12/amd64-netbsd-thread-multi
    /home/cpan/bin/perl-blead/lib/site_perl/5.35.12
    /home/cpan/bin/perl-blead/lib/5.35.12/amd64-netbsd-thread-multi
    /home/cpan/bin/perl-blead/lib/5.35.12
    .