HTML-Form v6.11 Perl 5 v5.37.10 darwin-2level

Status
Pass
From
John SJ Anderson
Dist
HTML-Form v6.11
Platform
Perl 5 v5.37.10 darwin-2level
Date
2023-03-21 23:04:52
ID
c9a3d38e-c83c-11ed-8c17-05ea9038c7a6
This distribution has been tested as part of the CPAN Testers
project, supporting the Perl programming language.  See
http://wiki.cpantesters.org/ for more information or email
questions to cpan-testers-discuss@perl.org


--
Dear SIMBABQUE,

This is a computer-generated report for HTML-Form-6.11
on perl 5.37.10, created by App::cpanminus::reporter 0.18 (1.7046).

Thank you for uploading your work to CPAN.  Congratulations!
All tests were successful.

Sections of this report:

    * Tester comments
    * Program output
    * Prerequisites
    * Environment and other context

------------------------------
TESTER COMMENTS
------------------------------

Additional comments from tester:

none provided

------------------------------
PROGRAM OUTPUT
------------------------------

Output from '':

Building and testing HTML-Form-6.11
cp lib/HTML/Form/TextInput.pm blib/lib/HTML/Form/TextInput.pm
cp lib/HTML/Form/ImageInput.pm blib/lib/HTML/Form/ImageInput.pm
cp lib/HTML/Form/FileInput.pm blib/lib/HTML/Form/FileInput.pm
cp lib/HTML/Form/KeygenInput.pm blib/lib/HTML/Form/KeygenInput.pm
cp lib/HTML/Form.pm blib/lib/HTML/Form.pm
cp lib/HTML/Form/IgnoreInput.pm blib/lib/HTML/Form/IgnoreInput.pm
cp lib/HTML/Form/Input.pm blib/lib/HTML/Form/Input.pm
cp lib/HTML/Form/ListInput.pm blib/lib/HTML/Form/ListInput.pm
cp lib/HTML/Form/SubmitInput.pm blib/lib/HTML/Form/SubmitInput.pm
Manifying 9 pod documents
PERL_DL_NONLAZY=1 "/opt/plenv/versions/5.37.10/bin/perl5.37.10" "-MExtUtils::Command::MM" "-MTest::Harness" "-e" "undef *Test::Harness::Switches; test_harness(0, 'blib/lib', 'blib/arch')" t/*.t
# 
# Versions for all modules listed in MYMETA.json (including optional ones):
# 
# === Configure Requires ===
# 
#     Module              Want Have
#     ------------------- ---- ----
#     ExtUtils::MakeMaker  any 7.66
# 
# === Configure Suggests ===
# 
#     Module      Want Have
#     -------- ------- ----
#     JSON::PP 2.27300 4.16
# 
# === Build Requires ===
# 
#     Module              Want Have
#     ------------------- ---- ----
#     ExtUtils::MakeMaker  any 7.66
# 
# === Test Requires ===
# 
#     Module              Want     Have
#     ------------------- ---- --------
#     ExtUtils::MakeMaker  any     7.66
#     File::Spec           any     3.88
#     HTTP::Response       any     6.44
#     Test::More          0.96 1.302194
#     Test::Warnings       any    0.031
#     warnings             any     1.63
# 
# === Test Recommends ===
# 
#     Module         Want     Have
#     ---------- -------- --------
#     CPAN::Meta 2.120900 2.150010
# 
# === Runtime Requires ===
# 
#     Module                Want     Have
#     --------------------- ---- --------
#     Carp                   any     1.54
#     Encode                   2     3.19
#     HTML::TokeParser       any     3.81
#     HTTP::Request            6     6.44
#     HTTP::Request::Common 6.03     6.44
#     Test::More            0.96 1.302194
#     URI                   1.10     5.17
#     parent                 any    0.241
#     strict                 any     1.12
# 
t/00-report-prereqs.t .. ok
t/autocomplete.t ....... ok
t/file_upload.t ........ ok
t/find_input.t ......... ok
t/form-label.t ......... ok
t/form-maxlength.t ..... ok
t/form-multi-select.t .. ok
t/form-param.t ......... ok
t/form-parse.t ......... ok
t/form-selector.t ...... ok
t/form-unicode.t ....... ok
t/form.t ............... ok
All tests successful.
Files=12, Tests=223,  1 wallclock secs ( 0.03 usr  0.02 sys +  0.80 cusr  0.15 csys =  1.00 CPU)
Result: PASS

------------------------------
PREREQUISITES
------------------------------

Prerequisite modules loaded:

runtime:

    Module                Need     Have    
    --------------------- -------- --------
    Carp                  0        1.54    
    Encode                2        3.19    
    HTML::TokeParser      0        3.81    
    HTTP::Request         6        6.44    
    HTTP::Request::Common 6.03     6.44    
    parent                0        0.241   
    perl                  5.008001 5.037010
    strict                0        1.12    
    Test::More            0.96     1.302194
    URI                   1.10     5.17    

build:

    Module                Need     Have    
    --------------------- -------- --------
    ExtUtils::MakeMaker   0        7.66    

configure:

    Module                Need     Have    
    --------------------- -------- --------
    ExtUtils::MakeMaker   0        7.66    


------------------------------
ENVIRONMENT AND OTHER CONTEXT
------------------------------

Environment variables:

    LANG = en_US.UTF-8
    LC_ALL = en_US.UTF-8
    LC_TERMINAL = iTerm2
    LC_TERMINAL_VERSION = 3.4.19
    PATH = /opt/plenv/versions/5.37.10/bin:/opt/plenv/libexec:/opt/plenv/plugins/Perl-Build/bin:/Users/genehack/bin:/opt/plenv/shims:/opt/plenv/bin:/opt/vim/bin:/opt/git/bin:/opt/local/bin:/usr/local/bin:/usr/local/sbin:/usr/bin:/bin:/usr/sbin:/sbin
    PERL_CPANM_OPT = --skip-installed --prompt
    SHELL = /bin/zsh
    TERM = screen-256color
    TMPDIR = /var/folders/91/jjmr4sms7fz9s27f3_9glhb80000gn/T/

Perl special variables (and OS-specific diagnostics, for MSWin32):

    EGID = 20 20 12 61 79 80 81 98 701 33 100 204 250 395 398 399 400
    EUID = 501
    EXECUTABLE_NAME = /opt/plenv/versions/5.37.10/bin/perl5.37.10
    GID = 20 20 12 61 79 80 81 98 701 33 100 204 250 395 398 399 400
    UID = 501

Perl module toolchain versions installed:

    Module              Have    
    ------------------- --------
    CPAN                2.34    
    CPAN::Meta          2.150010
    Cwd                 3.89    
    ExtUtils::CBuilder  0.280238
    ExtUtils::Command   7.66    
    ExtUtils::Install   2.22    
    ExtUtils::MakeMaker 7.66    
    ExtUtils::Manifest  1.73    
    ExtUtils::ParseXS   3.49    
    File::Spec          3.88    
    JSON                4.10    
    JSON::PP            4.16    
    Module::Build       0.4232  
    Module::Signature   n/a     
    Parse::CPAN::Meta   2.150010
    Test::Harness       3.44    
    Test::More          1.302194
    YAML                1.30    
    YAML::Syck          n/a     
    version             0.9929  


--

Summary of my perl5 (revision 5 version 37 subversion 10) configuration:
   
  Platform:
    osname=darwin
    osvers=22.3.0
    archname=darwin-2level
    uname='darwin bigjob.home.genehack.org 22.3.0 darwin kernel version 22.3.0: mon jan 30 20:42:11 pst 2023; root:xnu-8792.81.3~2release_x86_64 x86_64 i386 macmini8,1 darwin '
    config_args='-Dprefix=/opt/plenv/versions/5.37.10 -de -Dversiononly -Dusedevel -A'eval:scriptdir=/opt/plenv/versions/5.37.10/bin''
    hint=recommended
    useposix=true
    d_sigaction=define
    useithreads=undef
    usemultiplicity=undef
    use64bitint=define
    use64bitall=define
    uselongdouble=undef
    usemymalloc=n
    default_inc_excludes_dot=define
  Compiler:
    cc='cc'
    ccflags ='-fno-common -DPERL_DARWIN -mmacosx-version-min=13.2 -fno-strict-aliasing -pipe -fstack-protector-strong -I/usr/local/include'
    optimize='-O3'
    cppflags='-fno-common -DPERL_DARWIN -mmacosx-version-min=13.2 -fno-strict-aliasing -pipe -fstack-protector-strong -I/usr/local/include'
    ccversion=''
    gccversion='Apple LLVM 14.0.0 (clang-1400.0.29.202)'
    gccosandvers=''
    intsize=4
    longsize=8
    ptrsize=8
    doublesize=8
    byteorder=12345678
    doublekind=3
    d_longlong=define
    longlongsize=8
    d_longdbl=define
    longdblsize=16
    longdblkind=3
    ivtype='long'
    ivsize=8
    nvtype='double'
    nvsize=8
    Off_t='off_t'
    lseeksize=8
    alignbytes=8
    prototype=define
  Linker and Libraries:
    ld='cc'
    ldflags =' -mmacosx-version-min=13.2 -fstack-protector-strong -L/usr/local/lib'
    libpth=/usr/local/lib /Applications/Xcode.app/Contents/Developer/Toolchains/XcodeDefault.xctoolchain/usr/lib/clang/14.0.0/lib /Applications/Xcode.app/Contents/Developer/Platforms/MacOSX.platform/Developer/SDKs/MacOSX.sdk/usr/lib /Applications/Xcode.app/Contents/Developer/Toolchains/XcodeDefault.xctoolchain/usr/lib /usr/lib
    libs=-lgdbm
    perllibs=
    libc=
    so=dylib
    useshrplib=false
    libperl=libperl.a
    gnulibc_version=''
  Dynamic Linking:
    dlsrc=dl_dlopen.xs
    dlext=bundle
    d_dlsymun=undef
    ccdlflags=' '
    cccdlflags=' '
    lddlflags=' -mmacosx-version-min=13.2 -bundle -undefined dynamic_lookup -L/usr/local/lib -fstack-protector-strong'


Characteristics of this binary (from libperl): 
  Compile-time options:
    HAS_TIMES
    PERLIO_LAYERS
    PERL_COPY_ON_WRITE
    PERL_DONT_CREATE_GVSV
    PERL_HASH_FUNC_SIPHASH13
    PERL_HASH_USE_SBOX32
    PERL_MALLOC_WRAP
    PERL_OP_PARENT
    PERL_PRESERVE_IVUV
    PERL_USE_DEVEL
    PERL_USE_SAFE_PUTENV
    USE_64_BIT_ALL
    USE_64_BIT_INT
    USE_LARGE_FILES
    USE_LOCALE
    USE_LOCALE_COLLATE
    USE_LOCALE_CTYPE
    USE_LOCALE_NUMERIC
    USE_LOCALE_TIME
    USE_PERLIO
    USE_PERL_ATOF
  Built under darwin
  Compiled at Mar 21 2023 09:10:06
  %ENV:
    PERL_CPANM_OPT="--skip-installed --prompt"
  @INC:
    /opt/plenv/versions/5.37.10/lib/perl5/site_perl/5.37.10/darwin-2level
    /opt/plenv/versions/5.37.10/lib/perl5/site_perl/5.37.10
    /opt/plenv/versions/5.37.10/lib/perl5/5.37.10/darwin-2level
    /opt/plenv/versions/5.37.10/lib/perl5/5.37.10