Data-MessagePack v1.02 Perl 5 v5.37.7 darwin-2level

Status
Pass
From
John SJ Anderson
Dist
Data-MessagePack v1.02
Platform
Perl 5 v5.37.7 darwin-2level
Date
2023-01-03 01:56:07
ID
c9b2d78c-8b09-11ed-a954-0ebb034b0add
This distribution has been tested as part of the CPAN Testers
project, supporting the Perl programming language.  See
http://wiki.cpantesters.org/ for more information or email
questions to cpan-testers-discuss@perl.org


--
Dear SYOHEX,

This is a computer-generated report for Data-MessagePack-1.02
on perl 5.37.7, created by App::cpanminus::reporter 0.17 (1.7046).

Thank you for uploading your work to CPAN.  Congratulations!
All tests were successful.

Sections of this report:

    * Tester comments
    * Program output
    * Prerequisites
    * Environment and other context

------------------------------
TESTER COMMENTS
------------------------------

Additional comments from tester:

none provided

------------------------------
PROGRAM OUTPUT
------------------------------

Output from '':

Building and testing Data-MessagePack-1.02
Building Data-MessagePack
cc -Iinclude -Ixs-src -I/opt/plenv/versions/5.37.7/lib/perl5/5.37.7/darwin-2level/CORE '-std=c99' -Wall -W -Wno-comment -c -fno-common -DPERL_DARWIN '-mmacosx-version-min=13.1' -fno-strict-aliasing -pipe -fstack-protector-strong -I/usr/local/include '-Wno-error=implicit-function-declaration' -O3 -o xs-src/pack.o xs-src/pack.c
cc -Iinclude -Ixs-src -I/opt/plenv/versions/5.37.7/lib/perl5/5.37.7/darwin-2level/CORE '-std=c99' -Wall -W -Wno-comment -c -fno-common -DPERL_DARWIN '-mmacosx-version-min=13.1' -fno-strict-aliasing -pipe -fstack-protector-strong -I/usr/local/include '-Wno-error=implicit-function-declaration' -O3 -o xs-src/unpack.o xs-src/unpack.c
cc -Iinclude -Ixs-src -I/opt/plenv/versions/5.37.7/lib/perl5/5.37.7/darwin-2level/CORE '-DVERSION="1.02"' '-DXS_VERSION="1.02"' '-std=c99' -Wall -W -Wno-comment -c -fno-common -DPERL_DARWIN '-mmacosx-version-min=13.1' -fno-strict-aliasing -pipe -fstack-protector-strong -I/usr/local/include '-Wno-error=implicit-function-declaration' -O3 -o lib/Data/MessagePack.o lib/Data/MessagePack.c
ExtUtils::Mkbootstrap::Mkbootstrap('blib/arch/auto/Data/MessagePack/MessagePack.bs')
cc '-mmacosx-version-min=13.1' -bundle -undefined dynamic_lookup -L/usr/local/lib -fstack-protector-strong -o blib/arch/auto/Data/MessagePack/MessagePack.bundle lib/Data/MessagePack.o xs-src/pack.o xs-src/unpack.o
ld: warning: -undefined dynamic_lookup may not work with chained fixups
pp tests
# Testing Data::MessagePack/1.02 (PP)
# byteoder: 12345678, ivsize=8
t/00_compile.t .............. ok
t/01_pack.t ................. ok
t/02_unpack.t ............... ok
t/03_stream_unpack.t ........ ok
t/04_invert.t ............... ok
t/05_preferred_int.t ........ ok
t/06_stream_unpack2.t ....... ok
t/07_break.t ................ ok
t/08_cycle.t ................ ok
t/09_stddata.t .............. ok
t/10_splitted_bytes.t ....... ok
t/11_stream_unpack3.t ....... ok
t/12_stream_unpack4.t ....... ok
t/13_booleans.t ............. ok
t/14_invalid_data.t ......... ok
t/15_utf8.t ................. ok
t/16_unpacker_for_larges.t .. ok
t/17_canonical.t ............ ok
t/18_new_interface.t ........ ok
t/19_utf8_property.t ........ ok
t/20_de.t ................... ok
t/21_dirty_float.t .......... ok
t/22_pid_pack_unpack.t ...... ok
t/23-empty-key.t ............ ok
t/24_tied.t ................. ok
t/40_threads.t .............. skipped: no threads
t/50_leaktrace.t ............ skipped: disabled in PP
All tests successful.
Files=27, Tests=562,  2 wallclock secs ( 0.10 usr  0.07 sys +  1.41 cusr  0.34 csys =  1.92 CPU)
Result: PASS

------------------------------
PREREQUISITES
------------------------------

Prerequisite modules loaded:

    No requirements found

------------------------------
ENVIRONMENT AND OTHER CONTEXT
------------------------------

Environment variables:

    LANG = en_US.UTF-8
    LC_ALL = en_US.UTF-8
    LC_TERMINAL = iTerm2
    LC_TERMINAL_VERSION = 3.4.18
    PATH = /opt/plenv/versions/5.37.7/bin:/opt/plenv/libexec:/opt/plenv/plugins/Perl-Build/bin:/opt/plenv/shims:/opt/plenv/bin:/Users/genehack/bin:/usr/local/opt/texinfo/bin:/opt/nvm/versions/node/v16.19.0/bin:/opt/git/bin:/opt/local/bin:/usr/local/bin:/usr/local/sbin:/usr/bin:/bin:/usr/sbin:/sbin:/opt/rust/cargo/bin:/usr/local/opt/fzf/bin/
    PERL_CPANM_OPT = --skip-installed --prompt
    SHELL = /bin/zsh
    TERM = screen-256color
    TMPDIR = /var/folders/2s/9hc8cgcd2h7dglxq0j84ybwr0000gn/T/

Perl special variables (and OS-specific diagnostics, for MSWin32):

    EGID = 20 20 12 61 79 80 81 98 701 33 100 204 250 395 398 399 400
    EUID = 501
    EXECUTABLE_NAME = /opt/plenv/versions/5.37.7/bin/perl5.37.7
    GID = 20 20 12 61 79 80 81 98 701 33 100 204 250 395 398 399 400
    UID = 501

Perl module toolchain versions installed:

    Module              Have    
    ------------------- --------
    CPAN                2.34    
    CPAN::Meta          2.150010
    Cwd                 3.88    
    ExtUtils::CBuilder  0.280238
    ExtUtils::Command   7.64    
    ExtUtils::Install   2.20    
    ExtUtils::MakeMaker 7.64    
    ExtUtils::Manifest  1.73    
    ExtUtils::ParseXS   3.49    
    File::Spec          3.88    
    JSON                4.10    
    JSON::PP            4.12    
    Module::Build       0.4232  
    Module::Signature   n/a     
    Parse::CPAN::Meta   2.150010
    Test::Harness       3.44    
    Test::More          1.302191
    YAML                1.30    
    YAML::Syck          n/a     
    version             0.9929  


--

Summary of my perl5 (revision 5 version 37 subversion 7) configuration:
   
  Platform:
    osname=darwin
    osvers=22.2.0
    archname=darwin-2level
    uname='darwin bumfit.home.genehack.org 22.2.0 darwin kernel version 22.2.0: fri nov 11 02:08:47 pst 2022; root:xnu-8792.61.2~4release_x86_64 x86_64 i386 macbookpro16,2 darwin '
    config_args='-Dprefix=/opt/plenv/versions/5.37.7 -de -Dversiononly -Dusedevel -A'eval:scriptdir=/opt/plenv/versions/5.37.7/bin''
    hint=recommended
    useposix=true
    d_sigaction=define
    useithreads=undef
    usemultiplicity=undef
    use64bitint=define
    use64bitall=define
    uselongdouble=undef
    usemymalloc=n
    default_inc_excludes_dot=define
  Compiler:
    cc='cc'
    ccflags ='-fno-common -DPERL_DARWIN -mmacosx-version-min=13.1 -fno-strict-aliasing -pipe -fstack-protector-strong -I/usr/local/include'
    optimize='-O3'
    cppflags='-fno-common -DPERL_DARWIN -mmacosx-version-min=13.1 -fno-strict-aliasing -pipe -fstack-protector-strong -I/usr/local/include'
    ccversion=''
    gccversion='Apple LLVM 14.0.0 (clang-1400.0.29.202)'
    gccosandvers=''
    intsize=4
    longsize=8
    ptrsize=8
    doublesize=8
    byteorder=12345678
    doublekind=3
    d_longlong=define
    longlongsize=8
    d_longdbl=define
    longdblsize=16
    longdblkind=3
    ivtype='long'
    ivsize=8
    nvtype='double'
    nvsize=8
    Off_t='off_t'
    lseeksize=8
    alignbytes=8
    prototype=define
  Linker and Libraries:
    ld='cc'
    ldflags =' -mmacosx-version-min=13.1 -fstack-protector-strong -L/usr/local/lib'
    libpth=/usr/local/lib /Library/Developer/CommandLineTools/usr/lib/clang/14.0.0/lib /Library/Developer/CommandLineTools/SDKs/MacOSX13.1.sdk/usr/lib /Library/Developer/CommandLineTools/usr/lib /usr/lib
    libs=-lgdbm
    perllibs=
    libc=
    so=dylib
    useshrplib=false
    libperl=libperl.a
    gnulibc_version=''
  Dynamic Linking:
    dlsrc=dl_dlopen.xs
    dlext=bundle
    d_dlsymun=undef
    ccdlflags=' '
    cccdlflags=' '
    lddlflags=' -mmacosx-version-min=13.1 -bundle -undefined dynamic_lookup -L/usr/local/lib -fstack-protector-strong'


Characteristics of this binary (from libperl): 
  Compile-time options:
    HAS_TIMES
    PERLIO_LAYERS
    PERL_COPY_ON_WRITE
    PERL_DONT_CREATE_GVSV
    PERL_HASH_FUNC_SIPHASH13
    PERL_HASH_USE_SBOX32
    PERL_MALLOC_WRAP
    PERL_OP_PARENT
    PERL_PRESERVE_IVUV
    PERL_USE_DEVEL
    PERL_USE_SAFE_PUTENV
    USE_64_BIT_ALL
    USE_64_BIT_INT
    USE_LARGE_FILES
    USE_LOCALE
    USE_LOCALE_COLLATE
    USE_LOCALE_CTYPE
    USE_LOCALE_NUMERIC
    USE_LOCALE_TIME
    USE_PERLIO
    USE_PERL_ATOF
  Built under darwin
  Compiled at Jan  2 2023 15:09:24
  %ENV:
    PERL_CPANM_OPT="--skip-installed --prompt"
  @INC:
    /opt/plenv/versions/5.37.7/lib/perl5/site_perl/5.37.7/darwin-2level
    /opt/plenv/versions/5.37.7/lib/perl5/site_perl/5.37.7
    /opt/plenv/versions/5.37.7/lib/perl5/5.37.7/darwin-2level
    /opt/plenv/versions/5.37.7/lib/perl5/5.37.7