Report for Dist-Zilla-Plugin-CheckIssues-0.010

Back
From: metabase:user:314402c4-2aae-11df-837a-5e0a49663a4f
Subject: PASS Dist-Zilla-Plugin-CheckIssues-0.010 v5.24.1 GNU/Linux
Date: 2017-04-27T21:45:10Z

This distribution has been tested as part of the CPAN Testers
project, supporting the Perl programming language.  See
http://wiki.cpantesters.org/ for more information or email
questions to cpan-testers-discuss@perl.org


--
Dear Karen Etheridge,

This is a computer-generated report for Dist-Zilla-Plugin-CheckIssues-0.010
on perl 5.24.1, created by CPAN-Reporter-1.2018.

Thank you for uploading your work to CPAN.  Congratulations!
All tests were successful.

Sections of this report:

    * Tester comments
    * Program output
    * Prerequisites
    * Environment and other context

------------------------------
TESTER COMMENTS
------------------------------

Additional comments from tester:

none provided

------------------------------
PROGRAM OUTPUT
------------------------------

Output from '/usr/bin/make test':

PERL_DL_NONLAZY=1 "/opt/perl-5.24.1t/bin/perl" "-MExtUtils::Command::MM" "-MTest::Harness" "-e" "undef *Test::Harness::Switches; test_harness(0, 'blib/lib', 'blib/arch')" t/*.t
# 
# Versions for all modules listed in MYMETA.json (including optional ones):
# 
# === Configure Requires ===
# 
#     Module                       Want     Have
#     ------------------------ -------- --------
#     CPAN::Meta::Requirements 2.120620    2.140
#     ExtUtils::MakeMaker           any     7.24
#     Module::Metadata              any 1.000033
# 
# === Build Requires ===
# 
#     Module              Want Have
#     ------------------- ---- ----
#     ExtUtils::MakeMaker  any 7.24
# 
# === Test Requires ===
# 
#     Module                          Want     Have
#     ------------------------------- ---- --------
#     Dist::Zilla::App::Tester         any    6.008
#     Dist::Zilla::Role::MetaProvider  any    6.008
#     File::Spec                       any  3.63_01
#     File::pushd                      any    1.014
#     Module::Metadata                 any 1.000033
#     Moose::Util                      any   2.2004
#     Path::Tiny                       any    0.104
#     Test::DZil                       any    6.008
#     Test::Deep                       any    1.126
#     Test::Fatal                      any    0.014
#     Test::More                      0.88 1.302083
#     if                               any   0.0606
#     lib                              any     0.63
# 
# === Test Recommends ===
# 
#     Module         Want     Have
#     ---------- -------- --------
#     CPAN::Meta 2.120900 2.150005
# 
# === Runtime Requires ===
# 
#     Module                               Want      Have
#     -------------------------------- -------- ---------
#     Dist::Zilla                      4.300039     6.008
#     Dist::Zilla::App                      any     6.008
#     Dist::Zilla::Role::BeforeRelease      any     6.008
#     Encode                                any   2.80_01
#     HTTP::Headers                         any      6.11
#     HTTP::Tiny                            any 0.056_001
#     JSON::MaybeXS                    1.001000  1.003009
#     List::Util                           1.33      1.47
#     Log::Dispatch                        2.49      2.63
#     Moose                                 any    2.2004
#     Term::ANSIColor                      3.00      4.04
#     namespace::autoclean                  any      0.28
#     strict                                any      1.11
#     warnings                              any      1.36
# 
# === Other Modules ===
# 
#     Module         Have
#     ------------- -----
#     App::Cmd      0.331
#     Log::Dispatch  2.63
#     Pod::Coverage  0.23
# 
t/00-report-prereqs.t .. ok
t/01-basic.t ........... ok
t/02-no-rt.t ........... ok
t/03-no-repo.t ......... ok
t/04-command.t ......... ok
t/zzz-check-breaks.t ... ok
All tests successful.
Files=6, Tests=19,  8 wallclock secs ( 0.04 usr  0.01 sys +  7.53 cusr  0.46 csys =  8.04 CPU)
Result: PASS

------------------------------
PREREQUISITES
------------------------------

Prerequisite modules loaded:

requires:

    Module                           Need     Have     
    -------------------------------- -------- ---------
    Dist::Zilla                      4.300039 6.008    
    Dist::Zilla::App                 0        6.008    
    Dist::Zilla::Role::BeforeRelease 0        6.008    
    Encode                           0        2.80_01  
    HTTP::Headers                    0        6.11     
    HTTP::Tiny                       0        0.056_001
    JSON::MaybeXS                    1.001000 1.003009 
    List::Util                       1.33     1.47     
    Log::Dispatch                    2.49     2.63     
    Moose                            0        2.2004   
    namespace::autoclean             0        0.28     
    perl                             5.006    5.024001 
    strict                           0        1.11     
    Term::ANSIColor                  3.00     4.04     
    warnings                         0        1.36     

build_requires:

    Module                           Need     Have     
    -------------------------------- -------- ---------
    Dist::Zilla::App::Tester         0        6.008    
    Dist::Zilla::Role::MetaProvider  0        6.008    
    ExtUtils::MakeMaker              0        7.24     
    File::pushd                      0        1.014    
    File::Spec                       0        3.63_01  
    if                               0        0.0606   
    lib                              0        0.63     
    Module::Metadata                 0        1.000033 
    Moose::Util                      0        2.2004   
    Path::Tiny                       0        0.104    
    Test::Deep                       0        1.126    
    Test::DZil                       0        6.008    
    Test::Fatal                      0        0.014    
    Test::More                       0.88     1.302083 

configure_requires:

    Module                           Need     Have     
    -------------------------------- -------- ---------
    CPAN::Meta::Requirements         2.120620 2.140    
    ExtUtils::MakeMaker              0        7.24     
    Module::Metadata                 0        1.000033 
    perl                             5.006    5.024001 


------------------------------
ENVIRONMENT AND OTHER CONTEXT
------------------------------

Environment variables:

    LANG = en_US.UTF-8
    PATH = /usr/local/bin:/usr/bin:/bin:/usr/local/sbin:/usr/sbin:/sbin:/home/cpansand/bin/linux-gnu:/home/cpansand/bin/sh:/home/cpansand/bin:/usr/games:/home/cpansand/devel:/home/eserte/src/srezic-misc/scripts
    PERL5LIB = /home/cpansand/.cpan/build/2017042721/Dist-Zilla-Plugin-RewriteVersion-Transitional-0.007-4/blib/arch:/home/cpansand/.cpan/build/2017042721/Dist-Zilla-Plugin-RewriteVersion-Transitional-0.007-4/blib/lib
    PERL5OPT = 
    PERL5_CPANPLUS_IS_RUNNING = 28050
    PERL5_CPAN_IS_RUNNING = 28050
    PERL5_CPAN_IS_RUNNING_IN_RECURSION = 27999,28050
    PERLDOC = -MPod::Perldoc::ToTextOverstrike
    PERL_BATCH = yes
    PERL_CANARY_STABILITY_NOPROMPT = 1
    PERL_CPAN_REPORTER_CONFIG = /var/tmp/cpansmoker-1002/2017042721/cpanreporter_000_config.ini
    PERL_EXTUTILS_AUTOINSTALL = --defaultdeps
    SHELL = /bin/zsh
    TERM = screen
    TMPDIR = /var/tmp/cpansmoker-1002/2017042721

Perl special variables (and OS-specific diagnostics, for MSWin32):

    $^X = /opt/perl-5.24.1t/bin/perl
    $UID/$EUID = 1002 / 1002
    $GID = 1002 1002
    $EGID = 1002 1002

Perl module toolchain versions installed:

    Module              Have      
    ------------------- ----------
    CPAN                2.16      
    CPAN::Meta          2.150005  
    Cwd                 3.63_01   
    ExtUtils::CBuilder  0.280225  
    ExtUtils::Command   7.24      
    ExtUtils::Install   2.04      
    ExtUtils::MakeMaker 7.24      
    ExtUtils::Manifest  1.70      
    ExtUtils::ParseXS   3.31      
    File::Spec          3.63_01   
    JSON                2.90      
    JSON::PP            2.27400   
    Module::Build       0.4220    
    Module::Signature   0.81      
    Parse::CPAN::Meta   1.4417_001
    Test::Harness       3.38      
    Test::More          1.302083  
    YAML                1.23      
    YAML::Syck          1.30      
    version             0.9916    


--

Summary of my perl5 (revision 5 version 24 subversion 1) configuration:
   
  Platform:
    osname=linux, osvers=3.10.0-514.6.2.el7.x86_64, archname=x86_64-linux-thread-multi
    uname='linux prod5 3.10.0-514.6.2.el7.x86_64 #1 smp thu feb 23 03:04:39 utc 2017 x86_64 x86_64 x86_64 gnulinux '
    config_args='-ds -e -Dprefix=/opt/perl-5.24.1t -Dusethreads -Dcf_email=srezic@cpan.org'
    hint=recommended, useposix=true, d_sigaction=define
    useithreads=define, usemultiplicity=define
    use64bitint=define, use64bitall=define, uselongdouble=undef
    usemymalloc=n, bincompat5005=undef
  Compiler:
    cc='cc', ccflags ='-D_REENTRANT -D_GNU_SOURCE -fwrapv -fno-strict-aliasing -pipe -fstack-protector-strong -I/usr/local/include -D_LARGEFILE_SOURCE -D_FILE_OFFSET_BITS=64 -D_FORTIFY_SOURCE=2',
    optimize='-O2',
    cppflags='-D_REENTRANT -D_GNU_SOURCE -fwrapv -fno-strict-aliasing -pipe -fstack-protector-strong -I/usr/local/include'
    ccversion='', gccversion='4.8.5 20150623 (Red Hat 4.8.5-11)', gccosandvers=''
    intsize=4, longsize=8, ptrsize=8, doublesize=8, byteorder=12345678, doublekind=3
    d_longlong=define, longlongsize=8, d_longdbl=define, longdblsize=16, longdblkind=3
    ivtype='long', ivsize=8, nvtype='double', nvsize=8, Off_t='off_t', lseeksize=8
    alignbytes=8, prototype=define
  Linker and Libraries:
    ld='cc', ldflags =' -fstack-protector-strong -L/usr/local/lib'
    libpth=/usr/local/lib /usr/lib /lib/../lib64 /usr/lib/../lib64 /lib /lib64 /usr/lib64 /usr/local/lib64
    libs=-lpthread -lnsl -lgdbm -ldb -ldl -lm -lcrypt -lutil -lc -lgdbm_compat
    perllibs=-lpthread -lnsl -ldl -lm -lcrypt -lutil -lc
    libc=libc-2.17.so, so=so, useshrplib=false, libperl=libperl.a
    gnulibc_version='2.17'
  Dynamic Linking:
    dlsrc=dl_dlopen.xs, dlext=so, d_dlsymun=undef, ccdlflags='-Wl,-E'
    cccdlflags='-fPIC', lddlflags='-shared -O2 -L/usr/local/lib -fstack-protector-strong'


Characteristics of this binary (from libperl): 
  Compile-time options: HAS_TIMES MULTIPLICITY PERLIO_LAYERS
                        PERL_COPY_ON_WRITE PERL_DONT_CREATE_GVSV
                        PERL_HASH_FUNC_ONE_AT_A_TIME_HARD
                        PERL_IMPLICIT_CONTEXT PERL_MALLOC_WRAP
                        PERL_PRESERVE_IVUV USE_64_BIT_ALL USE_64_BIT_INT
                        USE_ITHREADS USE_LARGE_FILES USE_LOCALE
                        USE_LOCALE_COLLATE USE_LOCALE_CTYPE
                        USE_LOCALE_NUMERIC USE_LOCALE_TIME USE_PERLIO
                        USE_PERL_ATOF USE_REENTRANT_API
  Built under linux
  Compiled at Feb 23 2017 21:20:48
  %ENV:
    PERL5LIB="/home/cpansand/.cpan/build/2017042721/Dist-Zilla-Plugin-RewriteVersion-Transitional-0.007-4/blib/arch:/home/cpansand/.cpan/build/2017042721/Dist-Zilla-Plugin-RewriteVersion-Transitional-0.007-4/blib/lib"
    PERL5OPT=""
    PERL5_CPANPLUS_IS_RUNNING="28050"
    PERL5_CPAN_IS_RUNNING="28050"
    PERL5_CPAN_IS_RUNNING_IN_RECURSION="27999,28050"
    PERLDOC="-MPod::Perldoc::ToTextOverstrike"
    PERL_BATCH="yes"
    PERL_CANARY_STABILITY_NOPROMPT="1"
    PERL_CPAN_REPORTER_CONFIG="/var/tmp/cpansmoker-1002/2017042721/cpanreporter_000_config.ini"
    PERL_EXTUTILS_AUTOINSTALL="--defaultdeps"
  @INC:
    /home/cpansand/.cpan/build/2017042721/Dist-Zilla-Plugin-RewriteVersion-Transitional-0.007-4/blib/arch
    /home/cpansand/.cpan/build/2017042721/Dist-Zilla-Plugin-RewriteVersion-Transitional-0.007-4/blib/lib
    /opt/perl-5.24.1t/lib/site_perl/5.24.1/x86_64-linux-thread-multi
    /opt/perl-5.24.1t/lib/site_perl/5.24.1
    /opt/perl-5.24.1t/lib/5.24.1/x86_64-linux-thread-multi
    /opt/perl-5.24.1t/lib/5.24.1
    .