Back
From: metabase:user:314402c4-2aae-11df-837a-5e0a49663a4f
Subject: PASS MooseX-Types-Structured-0.34 v5.18.4 FreeBSD
Date: 2015-11-10T22:38:39Z
This distribution has been tested as part of the CPAN Testers
project, supporting the Perl programming language. See
http://wiki.cpantesters.org/ for more information or email
questions to cpan-testers-discuss@perl.org
--
Dear Karen Etheridge,
This is a computer-generated report for MooseX-Types-Structured-0.34
on perl 5.18.4, created by CPAN-Reporter-1.2011.
Thank you for uploading your work to CPAN. Congratulations!
All tests were successful.
Sections of this report:
* Tester comments
* Program output
* Prerequisites
* Environment and other context
------------------------------
TESTER COMMENTS
------------------------------
Additional comments from tester:
none provided
------------------------------
PROGRAM OUTPUT
------------------------------
Output from '/usr/bin/make test':
PERL_DL_NONLAZY=1 "/usr/perl5.18.4p/bin/perl5.18.4" "-MExtUtils::Command::MM" "-MTest::Harness" "-e" "undef *Test::Harness::Switches; test_harness(0, 'blib/lib', 'blib/arch')" t/*.t t/regressions/*.t
t/00-load.t .................... ok
#
# Versions for all modules listed in MYMETA.json (including optional ones):
#
# === Configure Requires ===
#
# Module Want Have
# ------------------- ----- -----
# Module::Build::Tiny 0.007 0.039
#
# === Build Requires ===
#
# Module Want Have
# ------------------- ---- ----
# ExtUtils::MakeMaker any 7.02
#
# === Test Requires ===
#
# Module Want Have
# ----------------------- ---- --------
# Data::Dumper any 2.145
# DateTime any 1.12
# ExtUtils::MakeMaker any 7.02
# File::Spec any 3.40
# MooseX::Types::DateTime any 0.13
# MooseX::Types::Moose any 0.45
# Test::Fatal any 0.013
# Test::More 0.88 1.001009
# Test::Requires any 0.08
# strict any 1.07
# warnings any 1.18
#
# === Test Recommends ===
#
# Module Want Have
# ---------- -------- --------
# CPAN::Meta 2.120900 2.142690
#
# === Runtime Requires ===
#
# Module Want Have
# -------------------------------------------- ----- ------
# Devel::PartialDump 0.13 0.18
# Moose any 2.1405
# Moose::Meta::TypeCoercion any 2.1405
# Moose::Meta::TypeConstraint any 2.1405
# Moose::Meta::TypeConstraint::Parameterizable any 2.1405
# Moose::Util::TypeConstraints 1.06 2.1405
# MooseX::Types 0.22 0.45
# Scalar::Util any 1.41
# Sub::Exporter 0.982 0.987
# if any 0.0602
# namespace::clean 0.19 0.25
# overload any 1.22
#
t/00-report-prereqs.t .......... ok
t/01-basic.t ................... ok
t/02-tuple.t ................... ok
t/03-dict.t .................... ok
t/04-combined.t ................ ok
t/04-map.t ..................... ok
t/05-advanced.t ................ ok
t/06-api.t ..................... ok
t/07-coerce.t .................. ok
t/08-examples.t ................ ok
t/09-optional.t ................ ok
t/10-recursion.t ............... ok
t/11-overflow.t ................ ok
t/12-error.t ................... ok
t/13-deeper_error.t ............ ok
t/14-fully-qualified.t ......... ok
t/bug-incorrect-message.t ...... ok
t/bug-is-subtype.t ............. ok
t/bug-mixed-stringy.t .......... ok
t/bug-optional.t ............... ok
t/regressions/01-is_type_of.t .. ok
t/zzz-check-breaks.t ........... ok
All tests successful.
Files=23, Tests=359, 19 wallclock secs ( 0.16 usr 0.06 sys + 17.00 cusr 1.81 csys = 19.04 CPU)
Result: PASS
------------------------------
PREREQUISITES
------------------------------
Prerequisite modules loaded:
requires:
Module Need Have
-------------------------------------------- ----- --------
Devel::PartialDump 0.13 0.18
if 0 0.0602
Moose 0 2.1405
Moose::Meta::TypeCoercion 0 2.1405
Moose::Meta::TypeConstraint 0 2.1405
Moose::Meta::TypeConstraint::Parameterizable 0 2.1405
Moose::Util::TypeConstraints 1.06 2.1405
MooseX::Types 0.22 0.45
namespace::clean 0.19 0.25
overload 0 1.22
perl 5.008 5.018004
Scalar::Util 0 1.41
Sub::Exporter 0.982 0.987
build_requires:
Module Need Have
-------------------------------------------- ----- --------
Data::Dumper 0 2.145
DateTime 0 1.12
ExtUtils::MakeMaker 0 7.02
File::Spec 0 3.40
MooseX::Types::DateTime 0 0.13
MooseX::Types::Moose 0 0.45
strict 0 1.07
Test::Fatal 0 0.013
Test::More 0.88 1.001009
Test::Requires 0 0.08
warnings 0 1.18
configure_requires:
Module Need Have
-------------------------------------------- ----- --------
Module::Build::Tiny 0.007 0.039
perl 5.008 5.018004
------------------------------
ENVIRONMENT AND OTHER CONTEXT
------------------------------
Environment variables:
PATH = /usr/local/bin:/usr/bin:/bin:/usr/local/sbin:/usr/sbin:/sbin:/home/e/eserte/bin/freebsd9.1:/home/e/eserte/bin/sh:/home/e/eserte/bin:/usr/games:/home/e/eserte/devel:/home/e/eserte/src/srezic-misc/scripts
PERL5LIB = /usr/local/src/CPAN/build/2015111021/MooseX-Types-DateTime-0.13-yTDE4E/blib/arch:/usr/local/src/CPAN/build/2015111021/MooseX-Types-DateTime-0.13-yTDE4E/blib/lib:/usr/local/src/CPAN/build/2015111021/Devel-PartialDump-0.18-vYorQa/blib/arch:/usr/local/src/CPAN/build/2015111021/Devel-PartialDump-0.18-vYorQa/blib/lib
PERL5OPT =
PERL5_CPANPLUS_IS_RUNNING = 71216
PERL5_CPAN_IS_RUNNING = 71216
PERL5_CPAN_IS_RUNNING_IN_RECURSION = 61663,71216
PERLDOC = -MPod::Perldoc::ToTextOverstrike
PERL_BATCH = yes
PERL_CANARY_STABILITY_NOPROMPT = 1
PERL_CPAN_REPORTER_CONFIG = /var/tmp/cpansmoker-1000/2015111021/cpanreporter_000_config.ini
PERL_EXTUTILS_AUTOINSTALL = --defaultdeps
SHELL = /usr/local/bin/zsh
TERM = screen
TMPDIR = /var/tmp/cpansmoker-1000/2015111021
Perl special variables (and OS-specific diagnostics, for MSWin32):
$^X = /usr/perl5.18.4p/bin/perl5.18.4
$UID/$EUID = 1000 / 1000
$GID = 1000 1000 0 5 1023 1024
$EGID = 1000 1000 0 5 1023 1024
Perl module toolchain versions installed:
Module Have
------------------- --------
CPAN 2.00
CPAN::Meta 2.142690
Cwd 3.40
ExtUtils::CBuilder 0.280210
ExtUtils::Command 1.17
ExtUtils::Install 1.59
ExtUtils::MakeMaker 7.02
ExtUtils::Manifest 1.65
ExtUtils::ParseXS 3.24
File::Spec 3.40
JSON 2.90
JSON::PP 2.27203
Module::Build 0.4210
Module::Signature 0.73
Parse::CPAN::Meta 1.4414
Test::Harness 3.33
Test::More 1.001009
YAML 1.12
YAML::Syck 1.27
version 0.9912
--
Summary of my perl5 (revision 5 version 18 subversion 4) configuration:
Platform:
osname=freebsd, osvers=9.2-release, archname=amd64-freebsd
uname='freebsd cvrsnica.herceg.de 9.2-release freebsd 9.2-release #0 r255898: thu sep 26 22:50:31 utc 2013 root@bake.isc.freebsd.org:usrobjusrsrcsysgeneric amd64 '
config_args='-D useshrplib=true -Dprefix=/usr/perl5.18.4p -Dusemymalloc=n -D cc=ccache cc -Dgccansipedantic -de'
hint=recommended, useposix=true, d_sigaction=define
useithreads=undef, usemultiplicity=undef
useperlio=define, d_sfio=undef, uselargefiles=define, usesocks=undef
use64bitint=define, use64bitall=define, uselongdouble=undef
usemymalloc=n, bincompat5005=undef
Compiler:
cc='ccache cc', ccflags ='-DHAS_FPSETMASK -DHAS_FLOATINGPOINT_H -fno-strict-aliasing -pipe -fstack-protector -I/usr/local/include',
optimize='-O2 -pipe',
cppflags='-DHAS_FPSETMASK -DHAS_FLOATINGPOINT_H -fno-strict-aliasing -pipe -fstack-protector -I/usr/local/include'
ccversion='', gccversion='4.2.1 20070831 patched [FreeBSD]', gccosandvers=''
intsize=4, longsize=8, ptrsize=8, doublesize=8, byteorder=12345678
d_longlong=define, longlongsize=8, d_longdbl=define, longdblsize=16
ivtype='long', ivsize=8, nvtype='double', nvsize=8, Off_t='off_t', lseeksize=8
alignbytes=8, prototype=define
Linker and Libraries:
ld='ccache cc', ldflags ='-pthread -Wl,-E -fstack-protector -L/usr/local/lib'
libpth=/usr/lib /usr/local/lib
libs=-lgdbm -lm -lcrypt -lutil -lc
perllibs=-lm -lcrypt -lutil -lc
libc=, so=so, useshrplib=true, libperl=libperl.so
gnulibc_version=''
Dynamic Linking:
dlsrc=dl_dlopen.xs, dlext=so, d_dlsymun=undef, ccdlflags=' -Wl,-R/usr/perl5.18.4p/lib/5.18.4/amd64-freebsd/CORE'
cccdlflags='-DPIC -fPIC', lddlflags='-shared -L/usr/local/lib -fstack-protector'
Characteristics of this binary (from libperl):
Compile-time options: HAS_TIMES PERLIO_LAYERS PERL_DONT_CREATE_GVSV
PERL_HASH_FUNC_ONE_AT_A_TIME_HARD PERL_MALLOC_WRAP
PERL_PRESERVE_IVUV PERL_SAWAMPERSAND PERL_USE_DEVEL
USE_64_BIT_ALL USE_64_BIT_INT USE_LARGE_FILES
USE_LOCALE USE_LOCALE_COLLATE USE_LOCALE_CTYPE
USE_LOCALE_NUMERIC USE_PERLIO USE_PERL_ATOF
Built under freebsd
Compiled at Oct 2 2014 07:39:23
%ENV:
PERL5LIB="/usr/local/src/CPAN/build/2015111021/MooseX-Types-DateTime-0.13-yTDE4E/blib/arch:/usr/local/src/CPAN/build/2015111021/MooseX-Types-DateTime-0.13-yTDE4E/blib/lib:/usr/local/src/CPAN/build/2015111021/Devel-PartialDump-0.18-vYorQa/blib/arch:/usr/local/src/CPAN/build/2015111021/Devel-PartialDump-0.18-vYorQa/blib/lib"
PERL5OPT=""
PERL5_CPANPLUS_IS_RUNNING="71216"
PERL5_CPAN_IS_RUNNING="71216"
PERL5_CPAN_IS_RUNNING_IN_RECURSION="61663,71216"
PERLDOC="-MPod::Perldoc::ToTextOverstrike"
PERL_BATCH="yes"
PERL_CANARY_STABILITY_NOPROMPT="1"
PERL_CPAN_REPORTER_CONFIG="/var/tmp/cpansmoker-1000/2015111021/cpanreporter_000_config.ini"
PERL_EXTUTILS_AUTOINSTALL="--defaultdeps"
@INC:
/usr/local/src/CPAN/build/2015111021/MooseX-Types-DateTime-0.13-yTDE4E/blib/arch
/usr/local/src/CPAN/build/2015111021/MooseX-Types-DateTime-0.13-yTDE4E/blib/lib
/usr/local/src/CPAN/build/2015111021/Devel-PartialDump-0.18-vYorQa/blib/arch
/usr/local/src/CPAN/build/2015111021/Devel-PartialDump-0.18-vYorQa/blib/lib
/usr/perl5.18.4p/lib/site_perl/5.18.4/amd64-freebsd
/usr/perl5.18.4p/lib/site_perl/5.18.4
/usr/perl5.18.4p/lib/5.18.4/amd64-freebsd
/usr/perl5.18.4p/lib/5.18.4
.