Back
From: metabase:user:bf998058-baeb-11e4-99c3-b01b75490a75
Subject: PASS String-Errf-0.007 v5.8.9 Mac OS X
Date: 2016-01-20T04:25:08Z
This distribution has been tested as part of the CPAN Testers
project, supporting the Perl programming language. See
http://wiki.cpantesters.org/ for more information or email
questions to cpan-testers-discuss@perl.org
--
Dear RJBS,
This is a computer-generated report for String-Errf-0.007
on perl 5.8.9, created by App::cpanminus::reporter 0.12 (1.7040).
Thank you for uploading your work to CPAN. Congratulations!
All tests were successful.
Sections of this report:
* Tester comments
* Program output
* Prerequisites
* Environment and other context
------------------------------
TESTER COMMENTS
------------------------------
Additional comments from tester:
none provided
------------------------------
PROGRAM OUTPUT
------------------------------
Output from '':
Building and testing String-Errf-0.007
cp lib/String/Errf.pm blib/lib/String/Errf.pm
Manifying 1 pod document
PERL_DL_NONLAZY=1 "/Volumes/amaretto/Users/ether/perl5/perlbrew/perls/8.9/bin/perl" "-MExtUtils::Command::MM" "-MTest::Harness" "-e" "undef *Test::Harness::Switches; test_harness(0, 'blib/lib', 'blib/arch')" t/*.t
#
#
# Generated by Dist::Zilla::Plugin::ReportVersions::Tiny v1.10
# perl: 5.008009 (wanted any version) on darwin from /Volumes/amaretto/Users/ether/perl5/perlbrew/perls/8.9/bin/perl
#
# Carp => 1.35 (want any version)
# Date::Format => 2.24 (want any version)
# ExtUtils::MakeMaker => 7.04 (want 6.30)
# JSON => 2.90 (want 2)
# Params::Util => 1.07 (want any version)
# Scalar::Util => 1.42 (want any version)
# String::Formatter => 0.102084 (want 0.102081)
# Sub::Exporter => 0.987 (want any version)
# Test::More => 1.001014 (want 0.96)
# Time::Piece => 1.31 (want any version)
# autodie => 2.29 (want any version)
# parent => 0.228 (want any version)
# strict => 1.03 (want any version)
# warnings => 1.05_01 (want any version)
#
# Thanks for using my code. I hope it works for you.
# If not, please try and include this output in the bug report.
# That will help me reproduce the issue and solve your problem.
#
t/bad.t ....................... ok
t/000-report-versions-tiny.t .. ok
t/basic.t ..................... ok
All tests successful.
Files=3, Tests=5, 0 wallclock secs ( 0.02 usr 0.01 sys + 0.18 cusr 0.02 csys = 0.23 CPU)
Result: PASS
------------------------------
PREREQUISITES
------------------------------
Prerequisite modules loaded:
No requirements found
------------------------------
ENVIRONMENT AND OTHER CONTEXT
------------------------------
Environment variables:
LANG = en_CA.UTF-8
PATH = /Volumes/amaretto/Users/ether/.perlbrew/libs/8.9@std/bin:/Volumes/amaretto/Users/ether/perl5/perlbrew/bin:/Volumes/amaretto/Users/ether/perl5/perlbrew/perls/8.9/bin:/Volumes/amaretto/Users/ether/bin:/Volumes/amaretto/Users/ether/git/misc/install/jaeger/bin:/Volumes/amaretto/Users/ether/git/misc/install/generic/bin:/opt/local/bin:/opt/local/sbin:/Volumes/amaretto/Users/ether/git/git-hub/lib:/usr/local/bin:/usr/bin:/bin:/usr/sbin:/sbin:/opt/local/share/git-core/contrib/workdir:/opt/local/share/git-core/contrib/workdir
PERL5LIB = /Volumes/amaretto/Users/ether/.perlbrew/libs/8.9@std/lib/perl5
PERLBREW_BASHRC_VERSION = 0.73
PERLBREW_HOME = /Volumes/amaretto/Users/ether/.perlbrew
PERLBREW_LIB = std
PERLBREW_MANPATH = /Volumes/amaretto/Users/ether/.perlbrew/libs/8.9@std/man:/Volumes/amaretto/Users/ether/perl5/perlbrew/perls/8.9/man
PERLBREW_PATH = /Volumes/amaretto/Users/ether/.perlbrew/libs/8.9@std/bin:/Volumes/amaretto/Users/ether/perl5/perlbrew/bin:/Volumes/amaretto/Users/ether/perl5/perlbrew/perls/8.9/bin
PERLBREW_PERL = 8.9
PERLBREW_ROOT = /Volumes/amaretto/Users/ether/perl5/perlbrew
PERLBREW_VERSION = 0.74
PERLDOC_PAGER = less -sicMr
PERL_AUTOINSTALL_PREFER_CPAN = 1
PERL_INSTALL_QUIET = 1
PERL_LOCAL_LIB_ROOT = /Volumes/amaretto/Users/ether/.perlbrew/libs/8.9@std
PERL_MB_OPT = --install_base /Volumes/amaretto/Users/ether/.perlbrew/libs/8.9@std
PERL_MM_OPT = INSTALL_BASE=/Volumes/amaretto/Users/ether/.perlbrew/libs/8.9@std
SHELL = /bin/bash
TERM = xterm-color
Perl special variables (and OS-specific diagnostics, for MSWin32):
EGID = 20 20 12 61 79 80 81 98 701 33 100 204 395 398 399
EUID = 502
EXECUTABLE_NAME = /Volumes/amaretto/Users/ether/perl5/perlbrew/perls/8.9/bin/perl
GID = 20 20 12 61 79 80 81 98 701 33 100 204 395 398 399
UID = 502
Perl module toolchain versions installed:
Module Have
------------------- --------
CPAN 1.9301
CPAN::Meta 2.143240
Cwd 3.47
ExtUtils::CBuilder 0.280220
ExtUtils::Command 7.05_20
ExtUtils::Install 1.54
ExtUtils::MakeMaker 7.04
ExtUtils::Manifest 1.70
ExtUtils::ParseXS 3.24
File::Spec 3.47
JSON 2.90
JSON::PP 2.27300
Module::Build 0.4211
Module::Signature n/a
Parse::CPAN::Meta 1.4414
Test::Harness 3.35
Test::More 1.001014
YAML n/a
YAML::Syck n/a
version 0.9912
--
Summary of my perl5 (revision 5 version 8 subversion 9) configuration:
Platform:
osname=darwin, osvers=14.1.0, archname=darwin-2level
uname='darwin jaeger 14.1.0 darwin kernel version 14.1.0: mon dec 22 23:10:38 pst 2014; root:xnu-2782.10.72~2release_x86_64 x86_64 '
config_args='-de -Dprefix=/Volumes/amaretto/Users/ether/perl5/perlbrew/perls/8.9 -Dman1dir=none -Dman3dir=none -Aeval:scriptdir=/Volumes/amaretto/Users/ether/perl5/perlbrew/perls/8.9/bin'
hint=recommended, useposix=true, d_sigaction=define
usethreads=undef use5005threads=undef useithreads=undef usemultiplicity=undef
useperlio=define d_sfio=undef uselargefiles=define usesocks=undef
use64bitint=define use64bitall=define uselongdouble=undef
usemymalloc=n, bincompat5005=undef
Compiler:
cc='cc', ccflags ='-fno-common -DPERL_DARWIN -fno-strict-aliasing -pipe -I/opt/local/include',
optimize='-O3',
cppflags='-fno-common -DPERL_DARWIN -fno-strict-aliasing -pipe -I/opt/local/include'
ccversion='', gccversion='4.2.1 Compatible Apple LLVM 6.0 (clang-600.0.56)', gccosandvers=''
intsize=4, longsize=8, ptrsize=8, doublesize=8, byteorder=12345678
d_longlong=define, longlongsize=8, d_longdbl=define, longdblsize=16
ivtype='long', ivsize=8, nvtype='double', nvsize=8, Off_t='off_t', lseeksize=8
alignbytes=8, prototype=define
Linker and Libraries:
ld='env MACOSX_DEPLOYMENT_TARGET=10.3 cc', ldflags =' -L/opt/local/lib'
libpth=/opt/local/lib /usr/lib
libs=-lgdbm -ldbm -ldl -lm -lutil -lc
perllibs=-ldl -lm -lutil -lc
libc=, so=dylib, useshrplib=false, libperl=libperl.a
gnulibc_version=''
Dynamic Linking:
dlsrc=dl_dlopen.xs, dlext=bundle, d_dlsymun=undef, ccdlflags=' '
cccdlflags=' ', lddlflags=' -bundle -undefined dynamic_lookup -L/opt/local/lib'
Characteristics of this binary (from libperl):
Compile-time options: PERL_MALLOC_WRAP USE_64_BIT_ALL USE_64_BIT_INT
USE_FAST_STDIO USE_LARGE_FILES USE_PERLIO
Locally applied patches:
Devel::PatchPerl 1.30
Built under darwin
Compiled at Feb 22 2015 19:21:46
%ENV:
PERL5LIB="/Volumes/amaretto/Users/ether/.perlbrew/libs/8.9@std/lib/perl5"
PERLBREW_BASHRC_VERSION="0.73"
PERLBREW_HOME="/Volumes/amaretto/Users/ether/.perlbrew"
PERLBREW_LIB="std"
PERLBREW_MANPATH="/Volumes/amaretto/Users/ether/.perlbrew/libs/8.9@std/man:/Volumes/amaretto/Users/ether/perl5/perlbrew/perls/8.9/man"
PERLBREW_PATH="/Volumes/amaretto/Users/ether/.perlbrew/libs/8.9@std/bin:/Volumes/amaretto/Users/ether/perl5/perlbrew/bin:/Volumes/amaretto/Users/ether/perl5/perlbrew/perls/8.9/bin"
PERLBREW_PERL="8.9"
PERLBREW_ROOT="/Volumes/amaretto/Users/ether/perl5/perlbrew"
PERLBREW_VERSION="0.74"
PERLDOC_PAGER="less -sicMr"
PERL_AUTOINSTALL_PREFER_CPAN="1"
PERL_INSTALL_QUIET="1"
PERL_LOCAL_LIB_ROOT="/Volumes/amaretto/Users/ether/.perlbrew/libs/8.9@std"
PERL_MB_OPT="--install_base /Volumes/amaretto/Users/ether/.perlbrew/libs/8.9@std"
PERL_MM_OPT="INSTALL_BASE=/Volumes/amaretto/Users/ether/.perlbrew/libs/8.9@std"
@INC:
/Volumes/amaretto/Users/ether/.perlbrew/libs/8.9@std/lib/perl5/darwin-2level
/Volumes/amaretto/Users/ether/.perlbrew/libs/8.9@std/lib/perl5
/Volumes/amaretto/Users/ether/perl5/perlbrew/perls/8.9/lib/5.8.9/darwin-2level
/Volumes/amaretto/Users/ether/perl5/perlbrew/perls/8.9/lib/5.8.9
/Volumes/amaretto/Users/ether/perl5/perlbrew/perls/8.9/lib/site_perl/5.8.9/darwin-2level
/Volumes/amaretto/Users/ether/perl5/perlbrew/perls/8.9/lib/site_perl/5.8.9
.