Back
From: metabase:user:30ae4450-2aae-11df-837a-5e0a49663a4f
Subject: PASS Catalyst-Authentication-Credential-Twitter-2.0.4 v5.16.3
Date: 2014-07-20T15:19:33Z
This distribution has been tested as part of the CPAN Testers
project, supporting the Perl programming language. See
http://wiki.cpantesters.org/ for more information or email
questions to cpan-testers-discuss@perl.org
--
Dear Yanick Champoux,
This is a computer-generated report for Catalyst-Authentication-Credential-Twitter-2.0.4
on perl 5.16.3, created by CPAN-Reporter-1.2010_01.
Thank you for uploading your work to CPAN. Congratulations!
All tests were successful.
Sections of this report:
* Tester comments
* Program output
* Prerequisites
* Environment and other context
------------------------------
TESTER COMMENTS
------------------------------
Additional comments from tester:
this report is from an automated smoke testing program
and was not reviewed by a human for accuracy
------------------------------
PROGRAM OUTPUT
------------------------------
Output from 'C:\strawberry163\perl\bin\perl.exe ./Build test':
t/00-compile.t ................ ok
#
#
# Generated by Dist::Zilla::Plugin::ReportVersions::Tiny v1.10
# perl: 5.016003 (wanted 5.006) on MSWin32 from C:\strawberry163\perl\bin\perl.exe
#
# Catalyst => 5.90061 (want any version)
# Catalyst::Controller => <undef> (want any version)
# Catalyst::Exception => <undef> (want any version)
# Catalyst::Plugin::Session::PerUser => 0.05 (want any version)
# Catalyst::Plugin::Session::Store::FastMmap => 0.16 (want any version)
# Class::Accessor::Fast => 0.34 (want any version)
# Data::Dumper => 2.143 (want any version)
# File::Spec => 3.40 (want any version)
# IO::Handle => 1.33 (want any version)
# IPC::Open3 => 1.12 (want any version)
# Module::Build => 0.4205 (want 0.3601)
# Net::Twitter => 4.01002 (want 4.00001)
# Test::More => 1.001002 (want 0.88)
# base => 2.18 (want any version)
# lib => 0.63 (want any version)
# parent => 0.225 (want any version)
# strict => 1.07 (want any version)
# warnings => 1.13 (want any version)
#
# Thanks for using my code. I hope it works for you.
# If not, please try and include this output in the bug report.
# That will help me reproduce the issue and solve your problem.
#
t/000-report-versions-tiny.t .. ok
t/02pod.t ..................... ok
t/basic_app.t ................. ok
[debug] no request token present, or no verifier
t/fail_callback.t ............. ok
t/no_per_user.t ............... ok
All tests successful.
Files=6, Tests=22, 11 wallclock secs ( 0.04 usr + 0.08 sys = 0.12 CPU)
Result: PASS
------------------------------
PREREQUISITES
------------------------------
Prerequisite modules loaded:
requires:
Module Need Have
------------------------------------------ ------- --------
base 0 2.18
Catalyst::Exception 0 0
Catalyst::Plugin::Session::PerUser 0 0.05
Class::Accessor::Fast 0 0.34
Data::Dumper 0 2.143
Net::Twitter 4.00001 4.01002
strict 0 1.07
warnings 0 1.13
build_requires:
Module Need Have
------------------------------------------ ------- --------
Catalyst 0 5.90061
Catalyst::Controller 0 0
Catalyst::Plugin::Session::Store::FastMmap 0 0.16
File::Spec 0 3.40
IO::Handle 0 1.33
IPC::Open3 0 1.12
lib 0 0.63
Module::Build 0.3601 0.4205
parent 0 0.225
perl 5.006 5.016003
Test::More 0.88 1.001002
configure_requires:
Module Need Have
------------------------------------------ ------- --------
Module::Build 0.3601 0.4205
------------------------------
ENVIRONMENT AND OTHER CONTEXT
------------------------------
Environment variables:
AUTOMATED_TESTING = 1
COMSPEC = C:\WINDOWS\system32\cmd.exe
NUMBER_OF_PROCESSORS = 1
PATH = C:\Program Files\Far Manager\;C:\WINDOWS\system32;C:\WINDOWS;C:\WINDOWS\System32\Wbem;C:\strawberry163\c\bin;C:\strawberry163\perl\site\bin;C:\strawberry163\perl\bin
PERL5LIB = C:\strawberry163\cpan\build\Catalyst-Plugin-Session-PerUser-0.05-NRri1j/blib/arch;C:\strawberry163\cpan\build\Catalyst-Plugin-Session-PerUser-0.05-NRri1j/blib/lib
PERL5OPT =
PERL5_CPANPLUS_IS_RUNNING = 248
PERL5_CPAN_IS_RUNNING = 248
PERL5_CPAN_IS_RUNNING_IN_RECURSION = 1692,248
PERL_CR_SMOKER_CURRENT = Catalyst-Authentication-Credential-Twitter-2.0.4
PERL_EXTUTILS_AUTOINSTALL = --defaultdeps
PERL_MM_USE_DEFAULT = 1
PROCESSOR_IDENTIFIER = x86 Family 16 Model 5 Stepping 3, AuthenticAMD
TEMP = C:\DOCUME~1\c\LOCALS~1\Temp
TERM = dumb
Perl special variables (and OS-specific diagnostics, for MSWin32):
$^X = C:\strawberry163\perl\bin\perl.exe
$UID/$EUID = 0 / 0
$GID = 0
$EGID = 0
Win32::GetOSName = WinXP/.Net
Win32::GetOSVersion = Service Pack 3, 5, 1, 2600, 2, 3, 0, 256, 1
Win32::FsType = NTFS
Win32::IsAdminUser = 1
Perl module toolchain versions installed:
Module Have
------------------- --------
CPAN 2.00
CPAN::Meta 2.140640
Cwd 3.40
ExtUtils::CBuilder 0.280206
ExtUtils::Command 1.17
ExtUtils::Install 1.58
ExtUtils::MakeMaker 6.64
ExtUtils::Manifest 1.61
ExtUtils::ParseXS 3.24
File::Spec 3.40
JSON 2.90
JSON::PP 2.27203
Module::Build 0.4205
Module::Signature 0.70
Parse::CPAN::Meta 1.4414
Test::Harness 3.30
Test::More 1.001002
YAML 0.90
YAML::Syck 1.24
version 0.9902
--
Summary of my perl5 (revision 5 version 16 subversion 3) configuration:
Platform:
osname=MSWin32, osvers=4.0, archname=MSWin32-x86-multi-thread
uname='Win32 strawberry-perl 5.16.3.1 #1 Tue Mar 12 13:55:20 2013 i386'
config_args='undef'
hint=recommended, useposix=true, d_sigaction=undef
useithreads=define, usemultiplicity=define
useperlio=define, d_sfio=undef, uselargefiles=define, usesocks=undef
use64bitint=undef, use64bitall=undef, uselongdouble=undef
usemymalloc=n, bincompat5005=undef
Compiler:
cc='gcc', ccflags =' -s -O2 -DWIN32 -DPERL_TEXTMODE_SCRIPTS -DPERL_IMPLICIT_CONTEXT -DPERL_IMPLICIT_SYS -fno-strict-aliasing -mms-bitfields',
optimize='-s -O2',
cppflags='-DWIN32'
ccversion='', gccversion='4.6.3', gccosandvers=''
intsize=4, longsize=4, ptrsize=4, doublesize=8, byteorder=1234
d_longlong=undef, longlongsize=8, d_longdbl=define, longdblsize=12
ivtype='long', ivsize=4, nvtype='double', nvsize=8, Off_t='long long', lseeksize=8
alignbytes=8, prototype=define
Linker and Libraries:
ld='g++', ldflags ='-s -L"C:\strawberry163\perl\lib\CORE" -L"C:\strawberry163\c\lib"'
libpth=C:\strawberry163\c\lib C:\strawberry163\c\i686-w64-mingw32\lib
libs=-lmoldname -lkernel32 -luser32 -lgdi32 -lwinspool -lcomdlg32 -ladvapi32 -lshell32 -lole32 -loleaut32 -lnetapi32 -luuid -lws2_32 -lmpr -lwinmm -lversion -lodbc32 -lodbccp32 -lcomctl32
perllibs=-lmoldname -lkernel32 -luser32 -lgdi32 -lwinspool -lcomdlg32 -ladvapi32 -lshell32 -lole32 -loleaut32 -lnetapi32 -luuid -lws2_32 -lmpr -lwinmm -lversion -lodbc32 -lodbccp32 -lcomctl32
libc=, so=dll, useshrplib=true, libperl=libperl516.a
gnulibc_version=''
Dynamic Linking:
dlsrc=dl_win32.xs, dlext=dll, d_dlsymun=undef, ccdlflags=' '
cccdlflags=' ', lddlflags='-mdll -s -L"C:\strawberry163\perl\lib\CORE" -L"C:\strawberry163\c\lib"'
Characteristics of this binary (from libperl):
Compile-time options: HAS_TIMES HAVE_INTERP_INTERN MULTIPLICITY
PERLIO_LAYERS PERL_DONT_CREATE_GVSV
PERL_IMPLICIT_CONTEXT PERL_IMPLICIT_SYS
PERL_MALLOC_WRAP PERL_PRESERVE_IVUV PL_OP_SLAB_ALLOC
USE_ITHREADS USE_LARGE_FILES USE_LOCALE
USE_LOCALE_COLLATE USE_LOCALE_CTYPE
USE_LOCALE_NUMERIC USE_PERLIO USE_PERL_ATOF
Built under MSWin32
Compiled at Mar 12 2013 14:01:07
%ENV:
PERL5LIB="C:\strawberry163\cpan\build\Catalyst-Plugin-Session-PerUser-0.05-NRri1j/blib/arch;C:\strawberry163\cpan\build\Catalyst-Plugin-Session-PerUser-0.05-NRri1j/blib/lib"
PERL5_CPANPLUS_IS_RUNNING="248"
PERL5_CPAN_IS_RUNNING="248"
PERL5_CPAN_IS_RUNNING_IN_RECURSION="1692,248"
PERL_CR_SMOKER_CURRENT="Catalyst-Authentication-Credential-Twitter-2.0.4"
PERL_EXTUTILS_AUTOINSTALL="--defaultdeps"
PERL_MM_USE_DEFAULT="1"
@INC:
C:\strawberry163\cpan\build\Catalyst-Plugin-Session-PerUser-0.05-NRri1j/blib/arch
C:\strawberry163\cpan\build\Catalyst-Plugin-Session-PerUser-0.05-NRri1j/blib/lib
C:/strawberry163/perl/site/lib
C:/strawberry163/perl/vendor/lib
C:/strawberry163/perl/lib
.