Report for Sys-Syslog-0.29

Back
From: metabase:user:323dcade-2aae-11df-837a-5e0a49663a4f
Subject: PASS Sys-Syslog-0.29 v5.14.0 Mac OS X
Date: 2011-05-28T07:26:22Z

This distribution has been tested as part of the CPAN Testers
project, supporting the Perl programming language.  See
http://wiki.cpantesters.org/ for more information or email
questions to cpan-testers-discuss@perl.org


--
Dear Sebastien Aperghis-Tramoni,

This is a computer-generated report for Sys-Syslog-0.29
on perl 5.14.0, created by CPAN-Reporter-1.1902.

Thank you for uploading your work to CPAN.  Congratulations!
All tests were successful.

Sections of this report:

    * Tester comments
    * Program output
    * Prerequisites
    * Environment and other context

------------------------------
TESTER COMMENTS
------------------------------

Additional comments from tester:

none provided

------------------------------
PROGRAM OUTPUT
------------------------------

Output from '/usr/bin/make test':

PERL_DL_NONLAZY=1 /usr/local/bin/perl5.14.0d-m "-MExtUtils::Command::MM" "-e" "test_harness(0, 'blib/lib', 'blib/arch')" t/*.t
# Testing Sys::Syslog 0.29, Perl 5.014000, /usr/local/bin/perl5.14.0d-m
t/00-load.t .......... ok
t/constants.t ........ ok
t/data-validation.t .. skipped: POE is not available
t/distchk.t .......... skipped: Test::Distribution required for checking distribution
t/pod.t .............. ok
t/podcover.t ......... ok
t/podspell.t ......... skipped: Pod spelling: for maintainer only
t/portfs.t ........... skipped: Test::Portability::Files required for testing filenames portability
t/syslog.t ........... ok
All tests successful.
Files=9, Tests=312,  3 wallclock secs ( 0.23 usr  0.04 sys +  1.59 cusr  0.11 csys =  1.97 CPU)
Result: PASS

------------------------------
PREREQUISITES
------------------------------

Prerequisite modules loaded:

requires:

    Module              Need Have   
    ------------------- ---- -------
    Carp                0    1.20   
    Fcntl               0    1.11   
    File::Basename      0    2.82   
    File::Spec          0    3.33   
    POSIX               0    1.24   
    Socket              0    1.94   
    Test::More          0    0.98   
    XSLoader            0    0.15   

build_requires:

    Module              Need Have   
    ------------------- ---- -------
    ExtUtils::MakeMaker 0    6.57_05

configure_requires:

    Module              Need Have   
    ------------------- ---- -------
    ExtUtils::MakeMaker 0    6.57_05


------------------------------
ENVIRONMENT AND OTHER CONTEXT
------------------------------

Environment variables:

    LANG = en_US.UTF-8
    LC_COLLATE = de_AT.utf-8
    LC_CTYPE = en_US.UTF-8
    LC_MESSAGES = de_AT.utf-8
    LC_MONETARY = de_AT.utf-8
    LC_NUMERIC = de_AT.utf-8
    LC_TIME = de_AT.utf-8
    PATH = /opt/local/bin:/opt/local/sbin:/usr/bin:/bin:/usr/sbin:/sbin:/usr/local/bin:/usr/X11/bin:/Users/rurban/bin
    PERL5LIB = 
    PERL5OPT = 
    PERL5_CPANPLUS_IS_RUNNING = 9313
    PERL5_CPAN_IS_RUNNING = 9313
    SHELL = /bin/bash
    TERM = xterm
    TMPDIR = /var/folders/Yu/YuMCqKeSFma5w4rE+2pCb++++TI/-Tmp-/

Perl special variables (and OS-specific diagnostics, for MSWin32):

    $^X = /usr/local/bin/perl5.14.0d-m
    $UID/$EUID = 501 / 501
    $GID = 20 20 204 100 98 81 80 79 61 12 401 402
    $EGID = 20 20 204 100 98 81 80 79 61 12 401 402

Perl module toolchain versions installed:

    Module              Have    
    ------------------- --------
    CPAN                1.9600  
    Cwd                 3.36    
    ExtUtils::CBuilder  0.280203
    ExtUtils::Command   1.17    
    ExtUtils::Install   1.56    
    ExtUtils::MakeMaker 6.57_05 
    ExtUtils::Manifest  1.58    
    ExtUtils::ParseXS   2.2210  
    File::Spec          3.33    
    Module::Build       0.3800  
    Module::Signature   0.68    
    Test::Harness       3.23    
    Test::More          0.98    
    YAML                0.73    
    YAML::Syck          n/a     
    version             0.88    


--

Summary of my perl5 (revision 5 version 14 subversion 0) configuration:
  Commit id: 19bfff0f437aaac271c0658c51d56954ab685688
  Platform:
    osname=darwin, osvers=10.7.0, archname=darwin-multi-debug
    uname='darwin air.lan 10.7.0 darwin kernel version 10.7.0: sat jan 29 15:17:16 pst 2011; root:xnu-1504.9.37~1release_i386 i386 i386 '
    config_args='-de -Dmksymlinks -Dusemultiplicity -Dusedtrace -DEBUGGING -Doptimize=-g3'
    hint=recommended, useposix=true, d_sigaction=define
    useithreads=undef, usemultiplicity=define
    useperlio=define, d_sfio=undef, uselargefiles=define, usesocks=undef
    use64bitint=define, use64bitall=define, uselongdouble=undef
    usemymalloc=n, bincompat5005=undef
  Compiler:
    cc='cc', ccflags ='-m64 -fno-common -DPERL_DARWIN -DDEBUGGING -fno-strict-aliasing -pipe -fstack-protector -I/opt/local/include',
    optimize='-g3',
    cppflags='-fno-common -DPERL_DARWIN -DDEBUGGING -fno-strict-aliasing -pipe -fstack-protector -I/opt/local/include'
    ccversion='', gccversion='4.2.1 (Apple Inc. build 5666) (dot 3)', gccosandvers=''
    intsize=4, longsize=8, ptrsize=8, doublesize=8, byteorder=12345678
    d_longlong=define, longlongsize=8, d_longdbl=define, longdblsize=16
    ivtype='long', ivsize=8, nvtype='double', nvsize=8, Off_t='off_t', lseeksize=8
    alignbytes=8, prototype=define
  Linker and Libraries:
    ld='env MACOSX_DEPLOYMENT_TARGET=10.3 cc', ldflags =' -fstack-protector -L/opt/local/lib'
    libpth=/opt/local/lib /usr/lib
    libs=-lgdbm -ldbm -ldl -lm -lutil -lc
    perllibs=-ldl -lm -lutil -lc
    libc=/usr/lib/libc.dylib, so=dylib, useshrplib=false, libperl=libperl.a
    gnulibc_version=''
  Dynamic Linking:
    dlsrc=dl_dlopen.xs, dlext=bundle, d_dlsymun=undef, ccdlflags=' '
    cccdlflags=' ', lddlflags=' -bundle -undefined dynamic_lookup -L/opt/local/lib -fstack-protector'


Characteristics of this binary (from libperl): 
  Compile-time options: DEBUGGING MULTIPLICITY PERL_DONT_CREATE_GVSV
                        PERL_IMPLICIT_CONTEXT PERL_MALLOC_WRAP
                        PERL_PRESERVE_IVUV PERL_TRACK_MEMPOOL PERL_USE_DEVEL
                        USE_64_BIT_ALL USE_64_BIT_INT USE_LARGE_FILES
                        USE_PERLIO USE_PERL_ATOF
  Built under darwin
  Compiled at May  9 2011 23:24:56
  %ENV:
    PERL5LIB=""
    PERL5OPT=""
    PERL5_CPANPLUS_IS_RUNNING="9313"
    PERL5_CPAN_IS_RUNNING="9313"
  @INC:
    /usr/local/lib/perl5/site_perl/5.14.0/darwin-multi-debug
    /usr/local/lib/perl5/site_perl/5.14.0
    /usr/local/lib/perl5/5.14.0/darwin-multi-debug
    /usr/local/lib/perl5/5.14.0
    .