HTTP-Cache-Transparent v1.4 Perl 5 v5.31.5 i686-linux-thread-multi
- Status
- Pass
- From
- Nigel Horne
- Dist
-
HTTP-Cache-Transparent v1.4
- Platform
- Perl 5 v5.31.5 i686-linux-thread-multi
- Date
- 2020-02-17 17:13:17
- ID
- c9f2715a-51a8-11ea-81c3-df7a5855e463
This distribution has been tested as part of the CPAN Testers
project, supporting the Perl programming language. See
http://wiki.cpantesters.org/ for more information or email
questions to cpan-testers-discuss@perl.org
--
Dear Mattias Holmlund,
This is a computer-generated report for HTTP-Cache-Transparent-1.4
on perl 5.31.5, created by CPAN-Reporter-1.2018.
Thank you for uploading your work to CPAN. Congratulations!
All tests were successful.
Sections of this report:
* Tester comments
* Program output
* Prerequisites
* Environment and other context
------------------------------
TESTER COMMENTS
------------------------------
Additional comments from tester:
none provided
------------------------------
PROGRAM OUTPUT
------------------------------
Output from '/usr/bin/make test':
PERL_DL_NONLAZY=1 "/home/njh/perl5/perlbrew/perls/perl-5.31.5-thread/bin/perl5.31.5" "-MExtUtils::Command::MM" "-MTest::Harness" "-e" "undef *Test::Harness::Switches; test_harness(0, 'blib/lib', 'blib/arch')" t/*.t
t/cache.t ................... ok
t/HTTP-Cache-Transparent.t .. ok
t/pod-coverage.t ............ skipped: Test::Pod::Coverage 1.00 required for testing POD coverage
t/pod.t ..................... ok
All tests successful.
Files=4, Tests=10, 13 wallclock secs ( 0.08 usr 0.00 sys + 1.15 cusr 0.09 csys = 1.32 CPU)
Result: PASS
------------------------------
PREREQUISITES
------------------------------
Prerequisite modules loaded:
requires:
Module Need Have
------------------- ---- ----
LWP 0 6.43
build_requires:
Module Need Have
------------------- ---- ----
ExtUtils::MakeMaker 0 7.42
configure_requires:
Module Need Have
------------------- ---- ----
ExtUtils::MakeMaker 0 7.42
------------------------------
ENVIRONMENT AND OTHER CONTEXT
------------------------------
Environment variables:
LANG = en_GB.UTF-8
LANGUAGE = en_GB:en
NONINTERACTIVE_TESTING = 1
PATH = /home/njh/perl5/perlbrew/bin:/home/njh/perl5/perlbrew/perls/perl-5.31.5-thread/bin:/home/njh/perl5/perlbrew/bin:/usr/bin:/bin:/home/njh/src/njh/smoker/bin
PERL5LIB =
PERL5OPT =
PERL5_CPANPLUS_IS_RUNNING = 15941
PERL5_CPAN_IS_RUNNING = 15941
PERL5_CPAN_IS_RUNNING_IN_RECURSION = 15939,15941
PERLBREW_LIB =
PERLBREW_MANPATH = /home/njh/perl5/perlbrew/perls/perl-5.31.5-thread/man
PERLBREW_PATH = /home/njh/perl5/perlbrew/bin:/home/njh/perl5/perlbrew/perls/perl-5.31.5-thread/bin
PERLBREW_PERL = perl-5.31.5-thread
PERLBREW_ROOT = /home/njh/perl5/perlbrew
PERLBREW_SHELLRC_VERSION = 0.86
PERLBREW_VERSION = 0.86
PERL_LOCAL_LIB_ROOT =
PERL_MM_USE_DEFAULT = 1
PERL_USE_UNSAFE_INC = 1
SHELL = /bin/sh
TEMP = /tmp/user/1000
TMPDIR = /tmp/user/1000
Perl special variables (and OS-specific diagnostics, for MSWin32):
$^X = /home/njh/perl5/perlbrew/perls/perl-5.31.5-thread/bin/perl5.31.5
$UID/$EUID = 1000 / 1000
$GID = 1000 4 24 25 29 30 44 46 103 107 108 1000
$EGID = 1000 4 24 25 29 30 44 46 103 107 108 1000
Perl module toolchain versions installed:
Module Have
------------------- --------
CPAN 2.27
CPAN::Meta 2.150010
Cwd 3.78
ExtUtils::CBuilder 0.280233
ExtUtils::Command 7.42
ExtUtils::Install 2.14
ExtUtils::MakeMaker 7.42
ExtUtils::Manifest 1.72
ExtUtils::ParseXS 3.40
File::Spec 3.78
JSON 4.02
JSON::PP 4.04
Module::Build 0.4229
Module::Signature n/a
Parse::CPAN::Meta 2.150010
Test::Harness 3.42
Test::More 1.302168
YAML n/a
YAML::Syck n/a
version 0.9924
--
Summary of my perl5 (revision 5 version 31 subversion 5) configuration:
Platform:
osname=linux
osvers=5.3.0-2-686-pae
archname=i686-linux-thread-multi
uname='linux philips 5.3.0-2-686-pae #1 smp debian 5.3.9-2 (2019-11-12) i686 gnulinux '
config_args='-de -Dprefix=/home/njh/perl5/perlbrew/perls/perl-5.31.5-thread -Dusedevel -Dusethreads -Dusedevel -Accflags= -Aeval:scriptdir=/home/njh/perl5/perlbrew/perls/perl-5.31.5-thread/bin'
hint=recommended
useposix=true
d_sigaction=define
useithreads=define
usemultiplicity=define
use64bitint=undef
use64bitall=undef
uselongdouble=undef
usemymalloc=n
default_inc_excludes_dot=define
bincompat5005=undef
Compiler:
cc='cc'
ccflags ='-D_REENTRANT -D_GNU_SOURCE -fwrapv -fno-strict-aliasing -pipe -fstack-protector-strong -I/usr/local/include -D_LARGEFILE_SOURCE -D_FILE_OFFSET_BITS=64 -D_FORTIFY_SOURCE=2'
optimize='-O2'
cppflags='-D_REENTRANT -D_GNU_SOURCE -fwrapv -fno-strict-aliasing -pipe -fstack-protector-strong -I/usr/local/include'
ccversion=''
gccversion='9.2.1 20191109'
gccosandvers=''
intsize=4
longsize=4
ptrsize=4
doublesize=8
byteorder=1234
doublekind=3
d_longlong=define
longlongsize=8
d_longdbl=define
longdblsize=12
longdblkind=3
ivtype='long'
ivsize=4
nvtype='double'
nvsize=8
Off_t='off_t'
lseeksize=8
alignbytes=4
prototype=define
Linker and Libraries:
ld='cc'
ldflags =' -fstack-protector-strong -L/usr/local/lib'
libpth=/usr/local/lib /usr/lib/gcc/i686-linux-gnu/9/include-fixed /usr/include/i386-linux-gnu /usr/lib /lib/i386-linux-gnu /lib/../lib /usr/lib/i386-linux-gnu /usr/lib/../lib /lib /lib64 /usr/lib64
libs=-lpthread -lnsl -lgdbm -ldb -ldl -lm -lcrypt -lutil -lc
perllibs=-lpthread -lnsl -ldl -lm -lcrypt -lutil -lc
libc=libc-2.29.so
so=so
useshrplib=false
libperl=libperl.a
gnulibc_version='2.29'
Dynamic Linking:
dlsrc=dl_dlopen.xs
dlext=so
d_dlsymun=undef
ccdlflags='-Wl,-E'
cccdlflags='-fPIC'
lddlflags='-shared -O2 -L/usr/local/lib -fstack-protector-strong'
Characteristics of this binary (from libperl):
Compile-time options:
HAS_TIMES
MULTIPLICITY
PERLIO_LAYERS
PERL_COPY_ON_WRITE
PERL_DONT_CREATE_GVSV
PERL_IMPLICIT_CONTEXT
PERL_MALLOC_WRAP
PERL_OP_PARENT
PERL_PRESERVE_IVUV
PERL_USE_DEVEL
USE_ITHREADS
USE_LARGE_FILES
USE_LOCALE
USE_LOCALE_COLLATE
USE_LOCALE_CTYPE
USE_LOCALE_NUMERIC
USE_LOCALE_TIME
USE_PERLIO
USE_PERL_ATOF
USE_REENTRANT_API
USE_THREAD_SAFE_LOCALE
Built under linux
Compiled at Dec 27 2019 09:27:12
%ENV:
PERL5LIB=""
PERL5OPT=""
PERL5_CPANPLUS_IS_RUNNING="15941"
PERL5_CPAN_IS_RUNNING="15941"
PERL5_CPAN_IS_RUNNING_IN_RECURSION="15939,15941"
PERLBREW_LIB=""
PERLBREW_MANPATH="/home/njh/perl5/perlbrew/perls/perl-5.31.5-thread/man"
PERLBREW_PATH="/home/njh/perl5/perlbrew/bin:/home/njh/perl5/perlbrew/perls/perl-5.31.5-thread/bin"
PERLBREW_PERL="perl-5.31.5-thread"
PERLBREW_ROOT="/home/njh/perl5/perlbrew"
PERLBREW_SHELLRC_VERSION="0.86"
PERLBREW_VERSION="0.86"
PERL_LOCAL_LIB_ROOT=""
PERL_MM_USE_DEFAULT="1"
PERL_USE_UNSAFE_INC="1"
@INC:
/home/njh/perl5/perlbrew/perls/perl-5.31.5-thread/lib/site_perl/5.31.5/i686-linux-thread-multi
/home/njh/perl5/perlbrew/perls/perl-5.31.5-thread/lib/site_perl/5.31.5
/home/njh/perl5/perlbrew/perls/perl-5.31.5-thread/lib/5.31.5/i686-linux-thread-multi
/home/njh/perl5/perlbrew/perls/perl-5.31.5-thread/lib/5.31.5
.