Expect v1.38 Perl 5 v5.26.2 x86_64-linux-thread-multi-ld
- Status
- Pass
- From
- Andreas J. König (ANDK)
- Dist
-
Expect v1.38
- Platform
- Perl 5 v5.26.2 x86_64-linux-thread-multi-ld
- Date
- 2024-03-16 10:05:59
- ID
- c9f982aa-e37c-11ee-a1f7-7acf8552eee8
This distribution has been tested as part of the CPAN Testers
project, supporting the Perl programming language. See
http://wiki.cpantesters.org/ for more information or email
questions to cpan-testers-discuss@perl.org
--
Dear Dave Jacoby,
This is a computer-generated report for Expect-1.38
on perl 5.26.2, created by CPAN-Reporter-1.2018.
Thank you for uploading your work to CPAN. Congratulations!
All tests were successful.
Sections of this report:
* Tester comments
* Program output
* Prerequisites
* Environment and other context
------------------------------
TESTER COMMENTS
------------------------------
Additional comments from tester:
this report is from an automated smoke testing program
and was not reviewed by a human for accuracy
------------------------------
PROGRAM OUTPUT
------------------------------
Output from '/usr/bin/make test':
PERL_DL_NONLAZY=1 "/home/sand/src/perl/repoperls/installed-perls/host/k93msid/v5.26.2/8854/bin/perl" "-MExtUtils::Command::MM" "-MTest::Harness" "-e" "undef *Test::Harness::Switches; test_harness(0, 'blib/lib', 'blib/arch')" t/*.t
# Testing Expect version 1.38 under Perl 5.026002, /home/sand/src/perl/repoperls/installed-perls/host/k93msid/v5.26.2/8854/bin/perl
# Using Expect 1.38
# Using Carp 1.50
# Using Errno 1.28
# Using Exporter 5.74
# Using Fcntl 1.13
# Using IO::Handle 1.51
# Using IO::Pty 1.16
# Using IO::Tty 1.16
# Using POSIX 1.76
# Using Test::More 1.302195
t/00-load.t ....... ok
# Basic tests...
# Testing exec failure...
# Testing exp_continue...
# number of timeout calls in 5 sec: 4
# timeout shouldn't destroy accum contents
# Testing -notransfer...
# Testing raw reversing...
# isatty($exp): YES
# Called: 3
# Elapsed time: 6 delay by expect: 4.5
# Elapsed time: 6 delay by expect: 3.9
# Elapsed time: 5 delay by expect: 4.3
# Called: 3
# Check if the raw pty can handle large chunks of text at once
# ------------------------------------------------------------------------------
# The following tests check system-dependend behaviour, so even if some fail,
# Expect might still be perfectly usable for you!
# ------------------------------------------------------------------------------
# Length: 512
# Good, your raw pty can handle lines of at least 512 bytes at a time.
# Status: match
# Check if the default pty can handle large chunks of text at once
# ------------------------------------------------------------------------------
# The following tests check system-dependend behaviour, so even if some fail,
# Expect might still be perfectly usable for you!
# ------------------------------------------------------------------------------
# Length: 164
# Good, your default pty can handle lines of at least 164 bytes at a time.
# Status: match
# Testing controlling terminal...
# Checking if exit status is returned correctly...
# soft_close: 0x2A00
# Checking if signal exit status is returned correctly...
# soft_close: 0x8F00
#
# Checking if EOF on pty slave is correctly reported to master...
# (this fails on about 50% of the supported systems, so don't panic!
# Expect will work anyway!)
#
t/01-test.t ....... ok
t/02-bc.t ......... skipped: See https://rt.cpan.org/Ticket/Display.html?id=98495
# Test created for https://rt.cpan.org/Ticket/Display.html?id=62359 related to clear_accum
t/03-log.t ........ ok
t/04-multiline.t .. ok
t/10-internal.t ... ok
t/11-calc.t ....... ok
t/timeout.t ....... ok
All tests successful.
Files=8, Tests=101, 72 wallclock secs ( 0.03 usr 0.04 sys + 0.73 cusr 0.23 csys = 1.03 CPU)
Result: PASS
------------------------------
PREREQUISITES
------------------------------
Prerequisite modules loaded:
requires:
Module Need Have
------------------- -------- --------
Carp 0 1.50
Errno 0 1.28
Exporter 0 5.74
Fcntl 0 1.13
IO::Handle 0 1.51
IO::Pty 1.11 1.16
IO::Tty 1.11 1.16
perl 5.006000 5.026002
POSIX 0 1.76
build_requires:
Module Need Have
------------------- -------- --------
File::Temp 0 0.2311
Test::More 1.00 1.302195
configure_requires:
Module Need Have
------------------- -------- --------
ExtUtils::MakeMaker 6.64 7.70
------------------------------
ENVIRONMENT AND OTHER CONTEXT
------------------------------
Environment variables:
AUTOMATED_TESTING = 1
LANG = en_US.UTF-8
LANGUAGE = en_US:en
PATH = /home/sand/bin:/usr/local/bin:/usr/bin:/bin:/usr/games:/usr/local/perl/bin:/usr/X11/bin:/sbin:/usr/sbin
PERL5LIB =
PERL5OPT =
PERL5_CPANPLUS_IS_RUNNING = 3981796
PERL5_CPAN_IS_RUNNING = 3981796
PERL_CANARY_STABILITY_NOPROMPT = 1
PERL_MM_USE_DEFAULT = 1
PERL_USE_UNSAFE_INC = 1
SHELL = /usr/bin/zsh
TERM = screen
Perl special variables (and OS-specific diagnostics, for MSWin32):
$^X = /home/sand/src/perl/repoperls/installed-perls/host/k93msid/v5.26.2/8854/bin/perl
$UID/$EUID = 1005 / 1005
$GID = 1005 1005
$EGID = 1005 1005
Perl module toolchain versions installed:
Module Have
------------------- --------
CPAN 2.34
CPAN::Meta 2.150010
Cwd 3.75
ExtUtils::CBuilder 0.280236
ExtUtils::Command 7.70
ExtUtils::Install 2.20
ExtUtils::MakeMaker 7.70
ExtUtils::Manifest 1.75
ExtUtils::ParseXS 3.51
File::Spec 3.75
JSON 4.10
JSON::PP 4.11
Module::Build 0.4231
Module::Signature 0.88
Parse::CPAN::Meta 2.150010
Test::Harness 3.43_04
Test::More 1.302195
YAML 1.30
YAML::Syck 1.34
version 0.9930
--
Summary of my perl5 (revision 5 version 26 subversion 2) configuration:
Derived from: c5b1997939178730653db9e80f90cd53d722fe8d
Platform:
osname=linux
osvers=5.16.0-5-amd64
archname=x86_64-linux-thread-multi-ld
uname='linux k93msid 5.16.0-5-amd64 #1 smp preempt debian 5.16.14-1 (2022-03-15) x86_64 gnulinux '
config_args='-Dprefix=/home/sand/src/perl/repoperls/installed-perls/host/k93msid/v5.26.2/8854 -Dmyhostname=k93msid -Dinstallusrbinperl=n -Uversiononly -Dusedevel -des -Ui_db -Dlibswanted=cl pthread socket inet nsl gdbm dbm malloc dl ld sun m crypt sec util c cposix posix ucb BSD gdbm_compat -Duseithreads -Duselongdouble -DEBUGGING=-g'
hint=recommended
useposix=true
d_sigaction=define
useithreads=define
usemultiplicity=define
use64bitint=define
use64bitall=define
uselongdouble=define
usemymalloc=n
default_inc_excludes_dot=define
bincompat5005=undef
Compiler:
cc='cc'
ccflags ='-D_REENTRANT -D_GNU_SOURCE -fwrapv -fno-strict-aliasing -pipe -fstack-protector-strong -I/usr/local/include -D_LARGEFILE_SOURCE -D_FILE_OFFSET_BITS=64 -D_FORTIFY_SOURCE=2'
optimize='-O2 -g'
cppflags='-D_REENTRANT -D_GNU_SOURCE -fwrapv -fno-strict-aliasing -pipe -fstack-protector-strong -I/usr/local/include'
ccversion=''
gccversion='11.2.0'
gccosandvers=''
intsize=4
longsize=8
ptrsize=8
doublesize=8
byteorder=12345678
doublekind=3
d_longlong=define
longlongsize=8
d_longdbl=define
longdblsize=16
longdblkind=3
ivtype='long'
ivsize=8
nvtype='long double'
nvsize=16
Off_t='off_t'
lseeksize=8
alignbytes=16
prototype=define
Linker and Libraries:
ld='cc'
ldflags =' -fstack-protector-strong -L/usr/local/lib'
libpth=/usr/local/lib /usr/include/x86_64-linux-gnu /usr/lib /lib/x86_64-linux-gnu /lib/../lib /usr/lib/x86_64-linux-gnu /usr/lib/../lib /lib
libs=-lpthread -lnsl -ldl -lm -lcrypt -lutil -lc
perllibs=-lpthread -lnsl -ldl -lm -lcrypt -lutil -lc
libc=libc-2.33.so
so=so
useshrplib=false
libperl=libperl.a
gnulibc_version='2.33'
Dynamic Linking:
dlsrc=dl_dlopen.xs
dlext=so
d_dlsymun=undef
ccdlflags='-Wl,-E'
cccdlflags='-fPIC'
lddlflags='-shared -O2 -g -L/usr/local/lib -fstack-protector-strong'
Characteristics of this binary (from libperl):
Compile-time options:
HAS_TIMES
MULTIPLICITY
PERLIO_LAYERS
PERL_COPY_ON_WRITE
PERL_DONT_CREATE_GVSV
PERL_IMPLICIT_CONTEXT
PERL_MALLOC_WRAP
PERL_OP_PARENT
PERL_PRESERVE_IVUV
PERL_USE_DEVEL
USE_64_BIT_ALL
USE_64_BIT_INT
USE_ITHREADS
USE_LARGE_FILES
USE_LOCALE
USE_LOCALE_COLLATE
USE_LOCALE_CTYPE
USE_LOCALE_NUMERIC
USE_LOCALE_TIME
USE_LONG_DOUBLE
USE_PERLIO
USE_PERL_ATOF
USE_REENTRANT_API
Locally applied patches:
uncommitted-changes
Built under linux
Compiled at Mar 18 2022 10:49:53
%ENV:
PERL5LIB=""
PERL5OPT=""
PERL5_CPANPLUS_IS_RUNNING="3981796"
PERL5_CPAN_IS_RUNNING="3981796"
PERL_CANARY_STABILITY_NOPROMPT="1"
PERL_MM_USE_DEFAULT="1"
PERL_USE_UNSAFE_INC="1"
@INC:
/home/sand/src/perl/repoperls/installed-perls/host/k93msid/v5.26.2/8854/lib/site_perl/5.26.2/x86_64-linux-thread-multi-ld
/home/sand/src/perl/repoperls/installed-perls/host/k93msid/v5.26.2/8854/lib/site_perl/5.26.2
/home/sand/src/perl/repoperls/installed-perls/host/k93msid/v5.26.2/8854/lib/5.26.2/x86_64-linux-thread-multi-ld
/home/sand/src/perl/repoperls/installed-perls/host/k93msid/v5.26.2/8854/lib/5.26.2
.