XML-Parser v2.44 Perl 5 v5.29.4 x86_64-linux-debug

Status
Pass
From
Reini Urban (RURBAN)
Dist
XML-Parser v2.44
Platform
Perl 5 v5.29.4 x86_64-linux-debug
Date
2018-10-23 10:52:52
ID
ca13259e-d6b1-11e8-9c04-724e87c30d0e
This distribution has been tested as part of the CPAN Testers
project, supporting the Perl programming language.  See
http://wiki.cpantesters.org/ for more information or email
questions to cpan-testers-discuss@perl.org


--
Dear Todd Rinaldo,

This is a computer-generated report for XML-Parser-2.44
on perl 5.29.4, created by CPAN-Reporter-1.2018.

Thank you for uploading your work to CPAN.  Congratulations!
All tests were successful.

Sections of this report:

    * Tester comments
    * Program output
    * Prerequisites
    * Environment and other context

------------------------------
TESTER COMMENTS
------------------------------

Additional comments from tester:

this report is from an automated smoke testing program
and was not reviewed by a human for accuracy

------------------------------
PROGRAM OUTPUT
------------------------------

Output from '/usr/bin/make test':

make[1]: Entering directory '/home/rurban/Perl/.cpan-build/XML-Parser-2.44-0/Expat'
"/usr/local/bin/perl5.29.4d-nt" -MExtUtils::Command::MM -e 'cp_nonempty' -- Expat.bs ../blib/arch/auto/XML/Parser/Expat/Expat.bs 644
Manifying 1 pod document
make[1]: Leaving directory '/home/rurban/Perl/.cpan-build/XML-Parser-2.44-0/Expat'
PERL_DL_NONLAZY=1 "/usr/local/bin/perl5.29.4d-nt" "-MExtUtils::Command::MM" "-MTest::Harness" "-e" "undef *Test::Harness::Switches; test_harness(0, 'blib/lib', 'blib/arch')" t/*.t
t/astress.t ........... ok
t/cdata.t ............. ok
t/decl.t .............. ok
t/defaulted.t ......... ok
t/encoding.t .......... ok
t/external_ent.t ...... ok
t/file.t .............. ok
t/file_open_scalar.t .. ok
t/finish.t ............ ok
t/namespaces.t ........ ok
t/parament.t .......... ok
t/partial.t ........... ok
t/skip.t .............. ok
t/stream.t ............ ok
t/styles.t ............ ok
All tests successful.
Files=15, Tests=141,  2 wallclock secs ( 0.09 usr  0.01 sys +  1.48 cusr  0.08 csys =  1.66 CPU)
Result: PASS

------------------------------
PREREQUISITES
------------------------------

Prerequisite modules loaded:

requires:

    Module              Need    Have    
    ------------------- ------- --------
    LWP::UserAgent      0       6.36    
    perl                5.00405 5.029004

build_requires:

    Module              Need    Have    
    ------------------- ------- --------
    Test::More          0       1.302140

configure_requires:

    Module              Need    Have    
    ------------------- ------- --------
    ExtUtils::MakeMaker 0       7.34    


------------------------------
ENVIRONMENT AND OTHER CONTEXT
------------------------------

Environment variables:

    AUTOMATED_TESTING = 1
    LANG = en_US.utf8
    NONINTERACTIVE_TESTING = 1
    PATH = /home/rurban/bin:/usr/local/bin:/usr/bin:/bin:/usr/local/games:/usr/games:/home/rurban/go/bin:/home/rurban/.cargo/bin
    PERL5LIB = 
    PERL5OPT = 
    PERL5_CPANPLUS_IS_RUNNING = 29615
    PERL5_CPAN_IS_RUNNING = 29615
    PERL_MM_USE_DEFAULT = 1
    PERL_USE_UNSAFE_INC = 1
    SHELL = /bin/bash
    TERM = xterm-256color

Perl special variables (and OS-specific diagnostics, for MSWin32):

    $^X = /usr/local/bin/perl5.29.4d-nt
    $UID/$EUID = 1000 / 1000
    $GID = 1000 27 124 157 1000 1001
    $EGID = 1000 27 124 157 1000 1001

Perl module toolchain versions installed:

    Module              Have    
    ------------------- --------
    CPAN                2.21    
    CPAN::Meta          2.150010
    Cwd                 3.75    
    ExtUtils::CBuilder  0.280230
    ExtUtils::Command   7.34    
    ExtUtils::Install   2.14    
    ExtUtils::MakeMaker 7.34    
    ExtUtils::Manifest  1.71    
    ExtUtils::ParseXS   3.39    
    File::Spec          3.75    
    JSON                2.97001 
    JSON::PP            2.97001 
    Module::Build       0.4224  
    Module::Signature   0.83    
    Parse::CPAN::Meta   2.150010
    Test::Harness       3.42    
    Test::More          1.302140
    YAML                1.26    
    YAML::Syck          n/a     
    version             0.9924  


--

Summary of my perl5 (revision 5 version 29 subversion 4) configuration:
   
  Platform:
    osname=linux
    osvers=4.18.0-2-amd64
    archname=x86_64-linux-debug
    uname='linux reini 4.18.0-2-amd64 #1 smp debian 4.18.10-2 (2018-10-07) x86_64 gnulinux '
    config_args='-de -Dusedevel -Uversiononly -Dinstallman1dir=none -Dinstallman3dir=none -Dinstallsiteman1dir=none -Dinstallsiteman3dir=none -DEBUGGING -Doptimize='-g3' -Uuseithreads -Accflags='''''-msse4.2''''''
    hint=recommended
    useposix=true
    d_sigaction=define
    useithreads=undef
    usemultiplicity=undef
    use64bitint=define
    use64bitall=define
    uselongdouble=undef
    usemymalloc=n
    default_inc_excludes_dot=define
    bincompat5005=undef
  Compiler:
    cc='cc'
    ccflags ='-msse4.2 -fwrapv -DDEBUGGING -fno-strict-aliasing -pipe -fstack-protector-strong -I/usr/local/include -D_LARGEFILE_SOURCE -D_FILE_OFFSET_BITS=64'
    optimize='-g3'
    cppflags='-msse4.2 -fwrapv -DDEBUGGING -fno-strict-aliasing -pipe -fstack-protector-strong -I/usr/local/include'
    ccversion=''
    gccversion='8.2.0'
    gccosandvers=''
    intsize=4
    longsize=8
    ptrsize=8
    doublesize=8
    byteorder=12345678
    doublekind=3
    d_longlong=define
    longlongsize=8
    d_longdbl=define
    longdblsize=16
    longdblkind=3
    ivtype='long'
    ivsize=8
    nvtype='double'
    nvsize=8
    Off_t='off_t'
    lseeksize=8
    alignbytes=8
    prototype=define
  Linker and Libraries:
    ld='cc'
    ldflags =' -fstack-protector-strong -L/usr/local/lib -L/opt/local/lib'
    libpth=/usr/local/lib /usr/lib/gcc/x86_64-linux-gnu/8/include-fixed /usr/include/x86_64-linux-gnu /usr/lib /opt/local/lib /lib/x86_64-linux-gnu /lib/../lib /usr/lib/x86_64-linux-gnu /usr/lib/../lib /lib /lib64 /usr/lib64 /usr/local/lib64
    libs=-lpthread -lnsl -lgdbm -ldb -ldl -lm -lcrypt -lutil -lc
    perllibs=-lpthread -lnsl -ldl -lm -lcrypt -lutil -lc
    libc=libc-2.27.so
    so=so
    useshrplib=false
    libperl=libperl.a
    gnulibc_version='2.27'
  Dynamic Linking:
    dlsrc=dl_dlopen.xs
    dlext=so
    d_dlsymun=undef
    ccdlflags='-Wl,-E'
    cccdlflags='-fPIC'
    lddlflags='-shared -g3 -L/usr/local/lib -L/opt/local/lib -fstack-protector-strong'


Characteristics of this binary (from libperl): 
  Compile-time options:
    DEBUGGING
    HAS_TIMES
    PERLIO_LAYERS
    PERL_COPY_ON_WRITE
    PERL_DONT_CREATE_GVSV
    PERL_MALLOC_WRAP
    PERL_OP_PARENT
    PERL_PRESERVE_IVUV
    PERL_USE_DEVEL
    USE_64_BIT_ALL
    USE_64_BIT_INT
    USE_LARGE_FILES
    USE_LOCALE
    USE_LOCALE_COLLATE
    USE_LOCALE_CTYPE
    USE_LOCALE_NUMERIC
    USE_LOCALE_TIME
    USE_PERLIO
    USE_PERL_ATOF
  Built under linux
  Compiled at Oct 23 2018 12:03:55
  %ENV:
    PERL5LIB=""
    PERL5OPT=""
    PERL5_CPANPLUS_IS_RUNNING="29615"
    PERL5_CPAN_IS_RUNNING="29615"
    PERL_MM_USE_DEFAULT="1"
    PERL_USE_UNSAFE_INC="1"
  @INC:
    /usr/local/lib/perl5/site_perl/5.29.4/x86_64-linux-debug
    /usr/local/lib/perl5/site_perl/5.29.4
    /usr/local/lib/perl5/5.29.4/x86_64-linux-debug
    /usr/local/lib/perl5/5.29.4
    /usr/local/lib/perl5/site_perl/5.28.0
    /usr/local/lib/perl5/site_perl/5.27.5
    /usr/local/lib/perl5/site_perl/5.27.4
    /usr/local/lib/perl5/site_perl/5.27.3
    /usr/local/lib/perl5/site_perl/5.27.2
    /usr/local/lib/perl5/site_perl/5.27.1
    /usr/local/lib/perl5/site_perl/5.27.0
    /usr/local/lib/perl5/site_perl/5.26.2
    /usr/local/lib/perl5/site_perl/5.26.1
    /usr/local/lib/perl5/site_perl/5.26.0
    /usr/local/lib/perl5/site_perl/5.25.3
    /usr/local/lib/perl5/site_perl/5.24.3
    /usr/local/lib/perl5/site_perl/5.24.2
    /usr/local/lib/perl5/site_perl/5.24.1
    /usr/local/lib/perl5/site_perl/5.24.0
    /usr/local/lib/perl5/site_perl/5.23.8
    /usr/local/lib/perl5/site_perl/5.23.0
    /usr/local/lib/perl5/site_perl/5.22.3
    /usr/local/lib/perl5/site_perl/5.22.2
    /usr/local/lib/perl5/site_perl/5.22.1
    /usr/local/lib/perl5/site_perl/5.22.0
    /usr/local/lib/perl5/site_perl/5.21.11
    /usr/local/lib/perl5/site_perl/5.21.10
    /usr/local/lib/perl5/site_perl/5.21.9
    /usr/local/lib/perl5/site_perl/5.21.8
    /usr/local/lib/perl5/site_perl/5.21.7
    /usr/local/lib/perl5/site_perl/5.21.4
    /usr/local/lib/perl5/site_perl/5.20.3
    /usr/local/lib/perl5/site_perl/5.20.2
    /usr/local/lib/perl5/site_perl/5.20.1
    /usr/local/lib/perl5/site_perl/5.18.4
    /usr/local/lib/perl5/site_perl/5.16.3
    /usr/local/lib/perl5/site_perl/5.14.4
    /usr/local/lib/perl5/site_perl/5.14.3
    /usr/local/lib/perl5/site_perl/5.12.5
    /usr/local/lib/perl5/site_perl/5.10.1
    /usr/local/lib/perl5/site_perl/5.10.0
    /usr/local/lib/perl5/site_perl/5.8.9
    /usr/local/lib/perl5/site_perl/5.8.5
    /usr/local/lib/perl5/site_perl/5.6.2
    /usr/local/lib/perl5/site_perl
    .