Report for Data-Section-0.200006

Back
From: metabase:user:30f4dfbe-2aae-11df-837a-5e0a49663a4f
Subject: PASS Data-Section-0.200006 v5.10.0 GNU/Linux
Date: 2016-07-31T06:12:42Z

This distribution has been tested as part of the CPAN Testers
project, supporting the Perl programming language.  See
http://wiki.cpantesters.org/ for more information or email
questions to cpan-testers-discuss@perl.org


--
Dear Ricardo SIGNES,

This is a computer-generated report for Data-Section-0.200006
on perl 5.10.0, created by CPAN-Reporter-1.2018.

Thank you for uploading your work to CPAN.  Congratulations!
All tests were successful.

Sections of this report:

    * Tester comments
    * Program output
    * Prerequisites
    * Environment and other context

------------------------------
TESTER COMMENTS
------------------------------

Additional comments from tester:

none provided

------------------------------
PROGRAM OUTPUT
------------------------------

Output from '/usr/bin/make test':

PERL_DL_NONLAZY=1 "/home/njh/perl5/perlbrew/perls/perl-5.10.0/bin/perl5.10.0" "-MExtUtils::Command::MM" "-MTest::Harness" "-e" "undef *Test::Harness::Switches; test_harness(0, 'blib/lib', 'blib/arch')" t/*.t
# 
# 
# Generated by Dist::Zilla::Plugin::ReportVersions::Tiny v1.10
# perl: 5.010000 (wanted any version) on linux from /home/njh/perl5/perlbrew/perls/perl-5.10.0/bin/perl5.10.0
# 
# Encode                                        => 2.84       (want any version)
# ExtUtils::MakeMaker                           => 7.18       (want 6.30)   
# MRO::Compat                                   => 0.12       (want 0.09)   
# Sub::Exporter                                 => 0.987      (want 0.979)  
# Test::FailWarnings                            => 0.008      (want any version)
# Test::More                                    => 1.302049   (want 0.96)   
# base                                          => 2.23       (want any version)
# lib                                           => 0.63       (want any version)
# strict                                        => 1.04       (want any version)
# utf8                                          => 1.07       (want any version)
# warnings                                      => 1.06       (want any version)
# 
# Thanks for using my code.  I hope it works for you.
# If not, please try and include this output in the bug report.
# That will help me reproduce the issue and solve your problem.
# 
t/000-report-versions-tiny.t .. ok
t/basic.t ..................... ok
t/encodings.t ................. ok
All tests successful.
Files=3, Tests=40,  7 wallclock secs ( 0.35 usr  0.04 sys +  6.03 cusr  0.09 csys =  6.51 CPU)
Result: PASS

------------------------------
PREREQUISITES
------------------------------

Prerequisite modules loaded:

requires:

    Module              Need  Have    
    ------------------- ----- --------
    Encode              0     2.84    
    MRO::Compat         0.09  0.12    
    strict              0     1.04    
    Sub::Exporter       0.979 0.987   
    warnings            0     1.06    

build_requires:

    Module              Need  Have    
    ------------------- ----- --------
    base                0     2.23    
    lib                 0     0.63    
    Test::FailWarnings  0     0.008   
    Test::More          0.96  1.302049
    utf8                0     1.07    

configure_requires:

    Module              Need  Have    
    ------------------- ----- --------
    ExtUtils::MakeMaker 6.30  7.18    


------------------------------
ENVIRONMENT AND OTHER CONTEXT
------------------------------

Environment variables:

    LANG = 
    NONINTERACTIVE_TESTING = 1
    PATH = /home/njh/perl5/perlbrew/bin:/home/njh/perl5/perlbrew/perls/perl-5.10.0/bin:/usr/bin:/bin:/usr/perl5/bin
    PERL5LIB = 
    PERL5OPT = 
    PERL5_CPANPLUS_IS_RUNNING = 509
    PERL5_CPAN_IS_RUNNING = 509
    PERLBREW_BASHRC_VERSION = 0.59
    PERLBREW_HOME = /home/njh/.perlbrew
    PERLBREW_MANPATH = /home/njh/perl5/perlbrew/perls/perl-5.10.0/man
    PERLBREW_PATH = /home/njh/perl5/perlbrew/bin:/home/njh/perl5/perlbrew/perls/perl-5.10.0/bin
    PERLBREW_PERL = perl-5.10.0
    PERLBREW_ROOT = /home/njh/perl5/perlbrew
    PERLBREW_VERSION = 0.59
    PERL_MM_USE_DEFAULT = 1
    SHELL = /bin/sh
    TMPDIR = /tmp

Perl special variables (and OS-specific diagnostics, for MSWin32):

    $^X = /home/njh/perl5/perlbrew/perls/perl-5.10.0/bin/perl5.10.0
    $UID/$EUID = 1000 / 1000
    $GID = 1000 4 24 25 29 30 44 46 200 1000
    $EGID = 1000 4 24 25 29 30 44 46 200 1000

Perl module toolchain versions installed:

    Module              Have    
    ------------------- --------
    CPAN                2.14    
    CPAN::Meta          2.150005
    Cwd                 3.62    
    ExtUtils::CBuilder  0.280224
    ExtUtils::Command   7.18    
    ExtUtils::Install   2.04    
    ExtUtils::MakeMaker 7.18    
    ExtUtils::Manifest  1.70    
    ExtUtils::ParseXS   3.30    
    File::Spec          3.62    
    JSON                n/a     
    JSON::PP            2.27400 
    Module::Build       0.4218  
    Module::Signature   n/a     
    Parse::CPAN::Meta   1.4422  
    Test::Harness       3.36    
    Test::More          1.302049
    YAML                1.18    
    YAML::Syck          1.29    
    version             0.9917  


--

Summary of my perl5 (revision 5 version 10 subversion 0) configuration:
  Platform:
    osname=linux, osvers=2.6.32-5-4kc-malta, archname=mips-linux-thread-multi
    uname='linux qemu-mips.bandsman.co.uk 2.6.32-5-4kc-malta #1 mon feb 25 05:49:22 utc 2013 mips gnulinux '
    config_args='-de -Dprefix=/home/njh/perl5/perlbrew/perls/perl-5.10.0 -Duseithreads -Dusemultiplicity -Dusedevel -Accflags= -Aeval:scriptdir=/home/njh/perl5/perlbrew/perls/perl-5.10.0/bin'
    hint=recommended, useposix=true, d_sigaction=define
    useithreads=define, usemultiplicity=define
    useperlio=define, d_sfio=undef, uselargefiles=define, usesocks=undef
    use64bitint=undef, use64bitall=undef, uselongdouble=undef
    usemymalloc=n, bincompat5005=undef
  Compiler:
    cc='cc', ccflags ='-D_REENTRANT -D_GNU_SOURCE -fno-strict-aliasing -pipe -I/usr/local/include -D_LARGEFILE_SOURCE -D_FILE_OFFSET_BITS=64',
    optimize='-O2',
    cppflags='-D_REENTRANT -D_GNU_SOURCE -fno-strict-aliasing -pipe -I/usr/local/include'
    ccversion='', gccversion='4.4.5', gccosandvers=''
    intsize=4, longsize=4, ptrsize=4, doublesize=8, byteorder=4321
    d_longlong=define, longlongsize=8, d_longdbl=define, longdblsize=8
    ivtype='long', ivsize=4, nvtype='double', nvsize=8, Off_t='off_t', lseeksize=8
    alignbytes=8, prototype=define
  Linker and Libraries:
    ld='cc', ldflags =' -L/usr/local/lib'
    libpth=/usr/local/lib /lib/../lib /usr/lib/../lib /lib /usr/lib
    libs=-lnsl -lgdbm -ldb -ldl -lm -lcrypt -lutil -lpthread -lc -lgdbm_compat
    perllibs=-lnsl -ldl -lm -lcrypt -lutil -lpthread -lc -lgdbm_compat
    libc=/lib/libc-2.11.3.so, so=so, useshrplib=false, libperl=libperl.a
    gnulibc_version='2.11.3'
  Dynamic Linking:
    dlsrc=dl_dlopen.xs, dlext=so, d_dlsymun=undef, ccdlflags='-Wl,-E'
    cccdlflags='-fPIC', lddlflags='-shared -O2 -L/usr/local/lib'


Characteristics of this binary (from libperl): 
  Compile-time options: MULTIPLICITY PERL_DONT_CREATE_GVSV
                        PERL_IMPLICIT_CONTEXT PERL_MALLOC_WRAP USE_ITHREADS
                        USE_LARGE_FILES USE_PERLIO USE_REENTRANT_API
  Built under linux
  Compiled at Feb 23 2016 16:02:57
  %ENV:
    PERL5LIB=""
    PERL5OPT=""
    PERL5_CPANPLUS_IS_RUNNING="509"
    PERL5_CPAN_IS_RUNNING="509"
    PERLBREW_BASHRC_VERSION="0.59"
    PERLBREW_HOME="/home/njh/.perlbrew"
    PERLBREW_MANPATH="/home/njh/perl5/perlbrew/perls/perl-5.10.0/man"
    PERLBREW_PATH="/home/njh/perl5/perlbrew/bin:/home/njh/perl5/perlbrew/perls/perl-5.10.0/bin"
    PERLBREW_PERL="perl-5.10.0"
    PERLBREW_ROOT="/home/njh/perl5/perlbrew"
    PERLBREW_VERSION="0.59"
    PERL_MM_USE_DEFAULT="1"
  @INC:
    /home/njh/perl5/perlbrew/perls/perl-5.10.0/lib/5.10.0/mips-linux-thread-multi
    /home/njh/perl5/perlbrew/perls/perl-5.10.0/lib/5.10.0
    /home/njh/perl5/perlbrew/perls/perl-5.10.0/lib/site_perl/5.10.0/mips-linux-thread-multi
    /home/njh/perl5/perlbrew/perls/perl-5.10.0/lib/site_perl/5.10.0
    .