Report for PostScript-Graph-1.02

Back
From: metabase:user:30ae4450-2aae-11df-837a-5e0a49663a4f
Subject: PASS PostScript-Graph-1.02 v5.16.2 GNU/Linux
Date: 2013-01-23T20:30:56Z

This distribution has been tested as part of the CPAN Testers
project, supporting the Perl programming language.  See
http://wiki.cpantesters.org/ for more information or email
questions to cpan-testers-discuss@perl.org


--
Dear Christopher Willmot,

This is a computer-generated report for PostScript-Graph-1.02
on perl 5.16.2, created by CPAN-Reporter-1.2009.

Thank you for uploading your work to CPAN.  Congratulations!
All tests were successful.

Sections of this report:

    * Tester comments
    * Program output
    * Prerequisites
    * Environment and other context

------------------------------
TESTER COMMENTS
------------------------------

Additional comments from tester:

this report is from an automated smoke testing program
and was not reviewed by a human for accuracy

------------------------------
PROGRAM OUTPUT
------------------------------

Output from '/usr/bin/make test':

PERL_DL_NONLAZY=1 /home/c/perl5/perlbrew/perls/perl-5.16.2/bin/perl "-MExtUtils::Command::MM" "-e" "test_harness(0, 'blib/lib', 'blib/arch')" t/*.t
Use of uninitialized value in numeric eq (==) at t/01pa-simple.t line 34.
Use ghostview or similar to inspect results file:
/home/c/.cpan/build/PostScript-Graph-1.02-ZmmeWh/t/01pa-simple.ps
t/01pa-simple.t .... ok
t/02pa-defaults.t .. ok
Use of uninitialized value in numeric eq (==) at t/03pa-barchart.t line 121.
Use ghostview or similar to inspect results file:
/home/c/.cpan/build/PostScript-Graph-1.02-ZmmeWh/t/03pa-barchart.ps
t/03pa-barchart.t .. ok
Use of uninitialized value in numeric eq (==) at t/04pa-twobars.t line 61.
Use ghostview or similar to inspect results file:
/home/c/.cpan/build/PostScript-Graph-1.02-ZmmeWh/t/04pa-twobars.ps
t/04pa-twobars.t ... ok
Use of uninitialized value in numeric eq (==) at t/10ke-simple.t line 58.
Use ghostview or similar to inspect results file:
/home/c/.cpan/build/PostScript-Graph-1.02-ZmmeWh/t/10ke-simple.ps
t/10ke-simple.t .... ok
Use of uninitialized value in numeric eq (==) at t/21st-simple.t line 53.
Use ghostview or similar to inspect results file:
/home/c/.cpan/build/PostScript-Graph-1.02-ZmmeWh/t/21st-simple.ps
t/21st-simple.t .... ok
Use of uninitialized value in numeric eq (==) at t/22st-styles.t line 72.
Use ghostview or similar to inspect results file:
/home/c/.cpan/build/PostScript-Graph-1.02-ZmmeWh/t/22st-styles.ps
t/22st-styles.t .... ok
Use of uninitialized value in numeric eq (==) at t/23st-const.t line 56.
Use ghostview or similar to inspect results file:
/home/c/.cpan/build/PostScript-Graph-1.02-ZmmeWh/t/23st-const.ps
t/23st-const.t ..... ok
Use of uninitialized value in numeric eq (==) at t/24st-colour.t line 54.
Use ghostview or similar to inspect results file:
/home/c/.cpan/build/PostScript-Graph-1.02-ZmmeWh/t/24st-colour.ps
t/24st-colour.t .... ok
Use of uninitialized value in numeric eq (==) at t/31ba-default.t line 45.
Use ghostview or similar to inspect results file:
/home/c/.cpan/build/PostScript-Graph-1.02-ZmmeWh/t/31ba-default.ps
t/31ba-default.t ... ok
Use of uninitialized value in numeric eq (==) at t/32ba-arrays.t line 67.
Use ghostview or similar to inspect results file:
/home/c/.cpan/build/PostScript-Graph-1.02-ZmmeWh/t/32ba-arrays.ps
t/32ba-arrays.t .... ok
Use of uninitialized value in numeric eq (==) at t/33ba-minus.t line 55.
Use ghostview or similar to inspect results file:
/home/c/.cpan/build/PostScript-Graph-1.02-ZmmeWh/t/33ba-minus.ps
t/33ba-minus.t ..... ok
Use of uninitialized value in numeric eq (==) at t/34ba-multi.t line 52.
Use ghostview or similar to inspect results file:
/home/c/.cpan/build/PostScript-Graph-1.02-ZmmeWh/t/34ba-multi.ps
t/34ba-multi.t ..... ok
Use of uninitialized value in numeric eq (==) at t/35ba-single.t line 57.
Use ghostview or similar to inspect results file:
/home/c/.cpan/build/PostScript-Graph-1.02-ZmmeWh/t/35ba-single.ps
t/35ba-single.t .... ok
Use of uninitialized value in numeric eq (==) at t/36ba-extra.t line 84.
Use ghostview or similar to inspect results file:
/home/c/.cpan/build/PostScript-Graph-1.02-ZmmeWh/t/36ba-extra.ps
t/36ba-extra.t ..... ok
Use of uninitialized value in numeric eq (==) at t/37ba-lines.t line 74.
Use ghostview or similar to inspect results file:
/home/c/.cpan/build/PostScript-Graph-1.02-ZmmeWh/t/37ba-lines.ps
t/37ba-lines.t ..... ok
Use of uninitialized value in numeric eq (==) at t/41xy-ohms.t line 42.
Use ghostview or similar to inspect results file:
/home/c/.cpan/build/PostScript-Graph-1.02-ZmmeWh/t/41xy-ohms.ps
t/41xy-ohms.t ...... ok
Use of uninitialized value in numeric eq (==) at t/42xy-lines.t line 106.
Use ghostview or similar to inspect results file:
/home/c/.cpan/build/PostScript-Graph-1.02-ZmmeWh/t/42xy-lines.ps
t/42xy-lines.t ..... ok
Use of uninitialized value in numeric eq (==) at t/43xy-styles.t line 82.
Use ghostview or similar to inspect results file:
/home/c/.cpan/build/PostScript-Graph-1.02-ZmmeWh/t/43xy-styles.ps
t/43xy-styles.t .... ok
All tests successful.
Files=19, Tests=261,  5 wallclock secs ( 0.03 usr  0.13 sys +  4.86 cusr  0.38 csys =  5.40 CPU)
Result: PASS

------------------------------
PREREQUISITES
------------------------------

Prerequisite modules loaded:

requires:

    Module              Need Have   
    ------------------- ---- -------
    Carp                0    1.26   
    Exporter            0    5.66   
    PostScript::File    1.01 2.20   
    Test::More          0    0.98   
    Text::CSV_XS        0    0.94   

build_requires:

    Module              Need Have   
    ------------------- ---- -------
    ExtUtils::MakeMaker 0    6.63_02


------------------------------
ENVIRONMENT AND OTHER CONTEXT
------------------------------

Environment variables:

    AUTOMATED_TESTING = 1
    LANG = ru_RU.utf8
    PATH = /home/c/perl5/perlbrew/bin:/home/c/perl5/perlbrew/perls/perl-5.16.2/bin:/usr/local/bin:/usr/bin:/bin:/usr/local/games:/usr/games
    PERL5LIB = /home/c/.cpan/build/PostScript-File-2.20-7fmyiH/blib/arch:/home/c/.cpan/build/PostScript-File-2.20-7fmyiH/blib/lib
    PERL5OPT = 
    PERL5_CPANPLUS_IS_RUNNING = 7511
    PERL5_CPAN_IS_RUNNING = 7511
    PERL5_CPAN_IS_RUNNING_IN_RECURSION = 5993,7511
    PERLBREW_MANPATH = /home/c/perl5/perlbrew/perls/perl-5.16.2/man
    PERLBREW_PATH = /home/c/perl5/perlbrew/bin:/home/c/perl5/perlbrew/perls/perl-5.16.2/bin
    PERLBREW_PERL = perl-5.16.2
    PERLBREW_ROOT = /home/c/perl5/perlbrew
    PERLBREW_SKIP_INIT = 1
    PERLBREW_VERSION = 0.58
    PERL_CR_SMOKER_CURRENT = PostScript-Graph-1.02
    PERL_EXTUTILS_AUTOINSTALL = --defaultdeps
    PERL_MM_USE_DEFAULT = 1
    SHELL = /bin/bash
    TERM = xterm

Perl special variables (and OS-specific diagnostics, for MSWin32):

    $^X = /home/c/perl5/perlbrew/perls/perl-5.16.2/bin/perl
    $UID/$EUID = 1000 / 1000
    $GID = 1000 24 25 27 29 30 44 46 108 109 115 1000
    $EGID = 1000 24 25 27 29 30 44 46 108 109 115 1000

Perl module toolchain versions installed:

    Module              Have    
    ------------------- --------
    CPAN                1.9800  
    CPAN::Meta          2.120921
    Cwd                 3.39_02 
    ExtUtils::CBuilder  0.280206
    ExtUtils::Command   1.17    
    ExtUtils::Install   1.58    
    ExtUtils::MakeMaker 6.63_02 
    ExtUtils::Manifest  1.61    
    ExtUtils::ParseXS   3.16    
    File::Spec          3.39_02 
    JSON                2.53    
    JSON::PP            2.27200 
    Module::Build       0.4003  
    Module::Signature   0.70    
    Parse::CPAN::Meta   1.4404  
    Test::Harness       3.23    
    Test::More          0.98    
    YAML                0.84    
    YAML::Syck          1.22    
    version             0.9901  


--

Summary of my perl5 (revision 5 version 16 subversion 2) configuration:
   
  Platform:
    osname=linux, osvers=2.6.32-5-686, archname=i686-linux
    uname='linux deb1 2.6.32-5-686 #1 smp sun sep 23 09:49:36 utc 2012 i686 gnulinux '
    config_args='-de -Dprefix=/home/c/perl5/perlbrew/perls/perl-5.16.2 -Aeval:scriptdir=/home/c/perl5/perlbrew/perls/perl-5.16.2/bin'
    hint=recommended, useposix=true, d_sigaction=define
    useithreads=undef, usemultiplicity=undef
    useperlio=define, d_sfio=undef, uselargefiles=define, usesocks=undef
    use64bitint=undef, use64bitall=undef, uselongdouble=undef
    usemymalloc=n, bincompat5005=undef
  Compiler:
    cc='cc', ccflags ='-fno-strict-aliasing -pipe -fstack-protector -I/usr/local/include -D_LARGEFILE_SOURCE -D_FILE_OFFSET_BITS=64',
    optimize='-O2',
    cppflags='-fno-strict-aliasing -pipe -fstack-protector -I/usr/local/include'
    ccversion='', gccversion='4.4.5', gccosandvers=''
    intsize=4, longsize=4, ptrsize=4, doublesize=8, byteorder=1234
    d_longlong=define, longlongsize=8, d_longdbl=define, longdblsize=12
    ivtype='long', ivsize=4, nvtype='double', nvsize=8, Off_t='off_t', lseeksize=8
    alignbytes=4, prototype=define
  Linker and Libraries:
    ld='cc', ldflags =' -fstack-protector -L/usr/local/lib'
    libpth=/usr/local/lib /lib/../lib /usr/lib/../lib /lib /usr/lib /usr/lib/i486-linux-gnu /usr/lib64
    libs=-lnsl -ldl -lm -lcrypt -lutil -lc
    perllibs=-lnsl -ldl -lm -lcrypt -lutil -lc
    libc=/lib/libc-2.11.3.so, so=so, useshrplib=false, libperl=libperl.a
    gnulibc_version='2.11.3'
  Dynamic Linking:
    dlsrc=dl_dlopen.xs, dlext=so, d_dlsymun=undef, ccdlflags='-Wl,-E'
    cccdlflags='-fPIC', lddlflags='-shared -O2 -L/usr/local/lib -fstack-protector'


Characteristics of this binary (from libperl): 
  Compile-time options: HAS_TIMES PERLIO_LAYERS PERL_DONT_CREATE_GVSV
                        PERL_MALLOC_WRAP PERL_PRESERVE_IVUV USE_LARGE_FILES
                        USE_LOCALE USE_LOCALE_COLLATE USE_LOCALE_CTYPE
                        USE_LOCALE_NUMERIC USE_PERLIO USE_PERL_ATOF
  Built under linux
  Compiled at Jan  4 2013 21:20:12
  %ENV:
    PERL5LIB="/home/c/.cpan/build/PostScript-File-2.20-7fmyiH/blib/arch:/home/c/.cpan/build/PostScript-File-2.20-7fmyiH/blib/lib"
    PERL5OPT=""
    PERL5_CPANPLUS_IS_RUNNING="7511"
    PERL5_CPAN_IS_RUNNING="7511"
    PERL5_CPAN_IS_RUNNING_IN_RECURSION="5993,7511"
    PERLBREW_MANPATH="/home/c/perl5/perlbrew/perls/perl-5.16.2/man"
    PERLBREW_PATH="/home/c/perl5/perlbrew/bin:/home/c/perl5/perlbrew/perls/perl-5.16.2/bin"
    PERLBREW_PERL="perl-5.16.2"
    PERLBREW_ROOT="/home/c/perl5/perlbrew"
    PERLBREW_SKIP_INIT="1"
    PERLBREW_VERSION="0.58"
    PERL_CR_SMOKER_CURRENT="PostScript-Graph-1.02"
    PERL_EXTUTILS_AUTOINSTALL="--defaultdeps"
    PERL_MM_USE_DEFAULT="1"
  @INC:
    /home/c/.cpan/build/PostScript-File-2.20-7fmyiH/blib/arch
    /home/c/.cpan/build/PostScript-File-2.20-7fmyiH/blib/lib
    /home/c/perl5/perlbrew/perls/perl-5.16.2/lib/site_perl/5.16.2/i686-linux
    /home/c/perl5/perlbrew/perls/perl-5.16.2/lib/site_perl/5.16.2
    /home/c/perl5/perlbrew/perls/perl-5.16.2/lib/5.16.2/i686-linux
    /home/c/perl5/perlbrew/perls/perl-5.16.2/lib/5.16.2
    .