Back
From: metabase:user:30977d10-2aae-11df-837a-5e0a49663a4f
Subject: PASS MooseX-SimpleConfig-0.11 v5.16.3 GNU/Linux
Date: 2015-07-19T19:31:45Z
This distribution has been tested as part of the CPAN Testers
project, supporting the Perl programming language. See
http://wiki.cpantesters.org/ for more information or email
questions to cpan-testers-discuss@perl.org
--
Dear Karen Etheridge,
This is a computer-generated report for MooseX-SimpleConfig-0.11
on perl 5.16.3, created by CPAN-Reporter-1.2014.
Thank you for uploading your work to CPAN. Congratulations!
All tests were successful.
Sections of this report:
* Tester comments
* Program output
* Prerequisites
* Environment and other context
------------------------------
TESTER COMMENTS
------------------------------
Additional comments from tester:
this report is from an automated smoke testing program
and was not reviewed by a human for accuracy
------------------------------
PROGRAM OUTPUT
------------------------------
Output from '/usr/bin/make test':
PERL_DL_NONLAZY=1 "/home/stro/perl/5.16.3m/bin/perl" "-MExtUtils::Command::MM" "-MTest::Harness" "-e" "undef *Test::Harness::Switches; test_harness(0, 'blib/lib', 'blib/arch')" t/*.t
#
# Versions for all modules listed in MYMETA.json (including optional ones):
#
# === Configure Requires ===
#
# Module Want Have
# ------------------- ----- -----
# Module::Build::Tiny 0.039 0.039
#
# === Build Requires ===
#
# Module Want Have
# ------------------- ---- ----
# ExtUtils::MakeMaker any 7.04
#
# === Test Requires ===
#
# Module Want Have
# --------------------- ---- --------
# ExtUtils::MakeMaker any 7.04
# File::Spec any 3.47
# File::Spec::Functions any 3.47
# File::Temp any 0.2304
# Moose any 2.1405
# Test::Fatal any 0.014
# Test::More 0.88 1.001014
# lib any 0.63
# strict any 1.07
# warnings any 1.13
#
# === Test Recommends ===
#
# Module Want Have
# ---------- -------- --------
# CPAN::Meta 2.120900 2.150005
#
# === Runtime Requires ===
#
# Module Want Have
# ---------------------- ---- ------
# Config::Any 0.13 0.26
# Moose::Role any 2.1405
# MooseX::ConfigFromFile any 0.13
#
# === Other Modules ===
#
# Module Want Have
# -------------------- ---- ----
# Dist::CheckConflicts any 0.11
#
t/00-report-prereqs.t .. ok
t/01use.t .............. ok
t/10simple.t ........... ok
t/11default.t .......... ok
t/12config_any_args.t .. ok
t/multiple.t ........... ok
t/zzz-check-breaks.t ... ok
All tests successful.
Files=7, Tests=31, 3 wallclock secs ( 0.02 usr 0.00 sys + 2.35 cusr 0.08 csys = 2.45 CPU)
Result: PASS
------------------------------
PREREQUISITES
------------------------------
Prerequisite modules loaded:
requires:
Module Need Have
---------------------- ----- --------
Config::Any 0.13 0.26
Moose::Role 0 2.1405
MooseX::ConfigFromFile 0 0.13
perl 5.006 5.016003
build_requires:
Module Need Have
---------------------- ----- --------
ExtUtils::MakeMaker 0 7.04
File::Spec 0 3.47
File::Spec::Functions 0 3.47
File::Temp 0 0.2304
lib 0 0.63
Moose 0 2.1405
strict 0 1.07
Test::Fatal 0 0.014
Test::More 0.88 1.001014
warnings 0 1.13
configure_requires:
Module Need Have
---------------------- ----- --------
Module::Build::Tiny 0.039 0.039
perl 5.004 5.016003
------------------------------
ENVIRONMENT AND OTHER CONTEXT
------------------------------
Environment variables:
AUTOMATED_TESTING = 1
LANG = en_US.UTF-8
PATH = /usr/local/bin:/usr/bin:/bin:/usr/local/games:/usr/games
PERL5LIB =
PERL5OPT =
PERL5_CPANPLUS_IS_RUNNING = 14985
PERL5_CPAN_IS_RUNNING = 14985
PERL5_CPAN_IS_RUNNING_IN_RECURSION = 24195,14985
PERL_CR_SMOKER_CURRENT = App-Software-License-0.04
PERL_EXTUTILS_AUTOINSTALL = --defaultdeps
PERL_MM_USE_DEFAULT = 1
SHELL = /bin/bash
TERM = xterm
Perl special variables (and OS-specific diagnostics, for MSWin32):
$^X = /home/stro/perl/5.16.3m/bin/perl
$UID/$EUID = 1000 / 1000
$GID = 1000 24 25 29 30 44 46 108 114 1000
$EGID = 1000 24 25 29 30 44 46 108 114 1000
Perl module toolchain versions installed:
Module Have
------------------- --------
CPAN 1.9800
CPAN::Meta 2.150005
Cwd 3.47
ExtUtils::CBuilder 0.280206
ExtUtils::Command 1.17
ExtUtils::Install 1.58
ExtUtils::MakeMaker 7.04
ExtUtils::Manifest 1.70
ExtUtils::ParseXS 3.24
File::Spec 3.47
JSON 2.90
JSON::PP 2.27203
Module::Build 0.4214
Module::Signature n/a
Parse::CPAN::Meta 1.4417
Test::Harness 3.35
Test::More 1.001014
YAML 1.15
YAML::Syck 1.29
version 0.9912
--
Summary of my perl5 (revision 5 version 16 subversion 3) configuration:
Platform:
osname=linux, osvers=3.16.0-4-amd64, archname=x86_64-linux-multi
uname='linux vm-debian-001 3.16.0-4-amd64 #1 smp debian 3.16.7-ckt11-1 (2015-05-24) x86_64 gnulinux '
config_args=''
hint=recommended, useposix=true, d_sigaction=define
useithreads=undef, usemultiplicity=define
useperlio=define, d_sfio=undef, uselargefiles=define, usesocks=undef
use64bitint=define, use64bitall=define, uselongdouble=undef
usemymalloc=n, bincompat5005=undef
Compiler:
cc='cc', ccflags ='-fno-strict-aliasing -pipe -fstack-protector -I/usr/local/include -D_LARGEFILE_SOURCE -D_FILE_OFFSET_BITS=64',
optimize='-O2',
cppflags='-fno-strict-aliasing -pipe -fstack-protector -I/usr/local/include'
ccversion='', gccversion='4.9.2', gccosandvers=''
intsize=4, longsize=8, ptrsize=8, doublesize=8, byteorder=12345678
d_longlong=define, longlongsize=8, d_longdbl=define, longdblsize=16
ivtype='long', ivsize=8, nvtype='double', nvsize=8, Off_t='off_t', lseeksize=8
alignbytes=8, prototype=define
Linker and Libraries:
ld='cc', ldflags =' -fstack-protector -L/usr/local/lib'
libpth=/usr/local/lib /lib/x86_64-linux-gnu /lib/../lib /usr/lib/x86_64-linux-gnu /usr/lib/../lib /lib /usr/lib
libs=-lnsl -ldl -lm -lcrypt -lutil -lc
perllibs=-lnsl -ldl -lm -lcrypt -lutil -lc
libc=, so=so, useshrplib=false, libperl=libperl.a
gnulibc_version='2.19'
Dynamic Linking:
dlsrc=dl_dlopen.xs, dlext=so, d_dlsymun=undef, ccdlflags='-Wl,-E'
cccdlflags='-fPIC', lddlflags='-shared -O2 -L/usr/local/lib -fstack-protector'
Characteristics of this binary (from libperl):
Compile-time options: HAS_TIMES MULTIPLICITY PERLIO_LAYERS
PERL_DONT_CREATE_GVSV PERL_IMPLICIT_CONTEXT
PERL_MALLOC_WRAP PERL_PRESERVE_IVUV USE_64_BIT_ALL
USE_64_BIT_INT USE_LARGE_FILES USE_LOCALE
USE_LOCALE_COLLATE USE_LOCALE_CTYPE
USE_LOCALE_NUMERIC USE_PERLIO USE_PERL_ATOF
Built under linux
Compiled at Jul 11 2015 00:22:44
%ENV:
PERL5LIB=""
PERL5OPT=""
PERL5_CPANPLUS_IS_RUNNING="14985"
PERL5_CPAN_IS_RUNNING="14985"
PERL5_CPAN_IS_RUNNING_IN_RECURSION="24195,14985"
PERL_CR_SMOKER_CURRENT="App-Software-License-0.04"
PERL_EXTUTILS_AUTOINSTALL="--defaultdeps"
PERL_MM_USE_DEFAULT="1"
@INC:
/home/stro/perl/5.16.3m/lib/site_perl/5.16.3/x86_64-linux-multi
/home/stro/perl/5.16.3m/lib/site_perl/5.16.3
/home/stro/perl/5.16.3m/lib/5.16.3/x86_64-linux-multi
/home/stro/perl/5.16.3m/lib/5.16.3
.