File-Binary v1.7 Perl 5 v5.34.1 x86_64-linux

Status
Pass
From
Dist
File-Binary v1.7
Platform
Perl 5 v5.34.1 x86_64-linux
Date
2022-04-03 12:58:43
ID
ca5ab25c-b34d-11ec-a56e-92b37f3540e6
This distribution has been tested as part of the CPAN Testers
project, supporting the Perl programming language.  See
http://wiki.cpantesters.org/ for more information or email
questions to cpan-testers-discuss@perl.org


--
Dear Simon Wistow,

This is a computer-generated report for File-Binary-1.7
on perl 5.34.1, created by CPAN-Reporter-1.2022.

Thank you for uploading your work to CPAN.  Congratulations!
All tests were successful.

Sections of this report:

    * Tester comments
    * Program output
    * Prerequisites
    * Environment and other context

------------------------------
TESTER COMMENTS
------------------------------

Additional comments from tester:

none provided

------------------------------
PROGRAM OUTPUT
------------------------------

Output from '/usr/bin/make test':

PERL_DL_NONLAZY=1 "/home/cavac/bin/CavacPerl-5.34.1/bin/perl" "-MExtUtils::Command::MM" "-MTest::Harness" "-e" "undef *Test::Harness::Switches; test_harness(0, 'blib/lib', 'blib/arch')" t/*.t
t/00seek.t ................... ok
t/01power3.n8.ints.be.t ...... ok
t/01power3.n8.ints.le.t ...... ok
t/02power3.n16.ints.be.t ..... ok
t/02power3.n16.ints.le.t ..... ok
t/03power3.u32.ints.be.t ..... ok
t/03power3.u32.ints.le.t ..... ok
t/04power3.p16.ints.be.t ..... ok
t/04power3.p16.ints.le.t ..... ok
t/05power3.u16.ints.be.t ..... ok
t/05power3.u16.ints.le.t ..... ok
t/06power3.u8.ints.be.t ...... ok
t/06power3.u8.ints.le.t ...... ok
t/07power3.p8.ints.be.t ...... ok
t/07power3.p8.ints.le.t ...... ok
t/08power3.n32.ints.be.t ..... ok
t/08power3.n32.ints.le.t ..... ok
t/09power3.p32.ints.be.t ..... ok
t/09power3.p32.ints.le.t ..... ok
t/10power10.n8.ints.be.t ..... ok
t/10power10.n8.ints.le.t ..... ok
t/11power10.n16.ints.be.t .... ok
t/11power10.n16.ints.le.t .... ok
t/12power10.u32.ints.be.t .... ok
t/12power10.u32.ints.le.t .... ok
t/13power10.p16.ints.be.t .... ok
t/13power10.p16.ints.le.t .... ok
t/14power10.u16.ints.be.t .... ok
t/14power10.u16.ints.le.t .... ok
t/15power10.u8.ints.be.t ..... ok
t/15power10.u8.ints.le.t ..... ok
t/16power10.p8.ints.be.t ..... ok
t/16power10.p8.ints.le.t ..... ok
t/17power10.n32.ints.be.t .... ok
t/17power10.n32.ints.le.t .... ok
t/18power10.p32.ints.be.t .... ok
t/18power10.p32.ints.le.t .... ok
t/19factorial.n8.ints.be.t ... ok
t/19factorial.n8.ints.le.t ... ok
t/20factorial.n16.ints.be.t .. ok
t/20factorial.n16.ints.le.t .. ok
t/21factorial.u32.ints.be.t .. ok
t/21factorial.u32.ints.le.t .. ok
t/22factorial.p16.ints.be.t .. ok
t/22factorial.p16.ints.le.t .. ok
t/23factorial.u16.ints.be.t .. ok
t/23factorial.u16.ints.le.t .. ok
t/24factorial.u8.ints.be.t ... ok
t/24factorial.u8.ints.le.t ... ok
t/25factorial.p8.ints.be.t ... ok
t/25factorial.p8.ints.le.t ... ok
t/26factorial.n32.ints.be.t .. ok
t/26factorial.n32.ints.le.t .. ok
t/27factorial.p32.ints.be.t .. ok
t/27factorial.p32.ints.le.t .. ok
t/28fibonacci.n8.ints.be.t ... ok
t/28fibonacci.n8.ints.le.t ... ok
t/29fibonacci.n16.ints.be.t .. ok
t/29fibonacci.n16.ints.le.t .. ok
t/30fibonacci.u32.ints.be.t .. ok
t/30fibonacci.u32.ints.le.t .. ok
t/31fibonacci.p16.ints.be.t .. ok
t/31fibonacci.p16.ints.le.t .. ok
t/32fibonacci.u16.ints.be.t .. ok
t/32fibonacci.u16.ints.le.t .. ok
t/33fibonacci.u8.ints.be.t ... ok
t/33fibonacci.u8.ints.le.t ... ok
t/34fibonacci.p8.ints.be.t ... ok
t/34fibonacci.p8.ints.le.t ... ok
t/35fibonacci.n32.ints.be.t .. ok
t/35fibonacci.n32.ints.le.t .. ok
t/36fibonacci.p32.ints.be.t .. ok
t/36fibonacci.p32.ints.le.t .. ok
All tests successful.
Files=73, Tests=3842,  7 wallclock secs ( 0.49 usr  0.08 sys +  5.80 cusr  0.77 csys =  7.14 CPU)
Result: PASS

------------------------------
PREREQUISITES
------------------------------

Prerequisite modules loaded:

requires:

    Module              Need  Have    
    ------------------- ----- --------
    IO::File            1.14  1.48    
    IO::Scalar          1.126 2.113   
    Test::More          0     1.302190

build_requires:

    Module              Need  Have    
    ------------------- ----- --------
    ExtUtils::MakeMaker 0     7.64    


------------------------------
ENVIRONMENT AND OTHER CONTEXT
------------------------------

Environment variables:

    LANG = en_US.UTF-8
    LANGUAGE = en_US:en
    LC_ADDRESS = de_AT.UTF-8
    LC_IDENTIFICATION = de_AT.UTF-8
    LC_MEASUREMENT = de_AT.UTF-8
    LC_MONETARY = de_AT.UTF-8
    LC_NAME = de_AT.UTF-8
    LC_NUMERIC = de_AT.UTF-8
    LC_PAPER = de_AT.UTF-8
    LC_TELEPHONE = de_AT.UTF-8
    LC_TIME = de_AT.UTF-8
    PATH = /home/cavac/bin:/home/cavac/src/emsdk:/home/cavac/src/emsdk/upstream/emscripten:/home/cavac/src/emsdk/node/14.15.5_64bit/bin:/home/cavac/src/monero/monero/build/Linux/master/release/bin:/home/cavac/bin/scripts:/home/cavac/bin/CavacPerl-5.34.1/bin:/home/cavac/bin/3ware:/usr/local/sbin:/usr/local/bin:/usr/sbin:/usr/bin:/sbin:/bin:/usr/games:/usr/local/games:/snap/bin:/usr/lib/jvm/java-8-oracle/bin:/usr/lib/jvm/java-8-oracle/db/bin:/usr/lib/jvm/java-8-oracle/jre/bin
    PERL5LIB = 
    PERL5OPT = 
    PERL5_CPANPLUS_IS_RUNNING = 1884019
    PERL5_CPAN_IS_RUNNING = 1884019
    PERL_USE_UNSAFE_INC = 1
    SHELL = /bin/bash
    TERM = xterm-256color

Perl special variables (and OS-specific diagnostics, for MSWin32):

    $^X = /home/cavac/bin/CavacPerl-5.34.1/bin/perl
    $UID/$EUID = 1000 / 1000
    $GID = 1000 4 20 24 46 117 119 124 125 130 1000 1005
    $EGID = 1000 4 20 24 46 117 119 124 125 130 1000 1005

Perl module toolchain versions installed:

    Module              Have    
    ------------------- --------
    CPAN                2.33    
    CPAN::Meta          2.150010
    Cwd                 3.80    
    ExtUtils::CBuilder  0.280236
    ExtUtils::Command   7.64    
    ExtUtils::Install   2.20    
    ExtUtils::MakeMaker 7.64    
    ExtUtils::Manifest  1.73    
    ExtUtils::ParseXS   3.44    
    File::Spec          3.80    
    JSON                n/a     
    JSON::PP            4.07    
    Module::Build       0.4231  
    Module::Signature   n/a     
    Parse::CPAN::Meta   2.150010
    Test::Harness       3.43    
    Test::More          1.302190
    YAML                1.30    
    YAML::Syck          1.34    
    version             0.9929  


--

Summary of my perl5 (revision 5 version 34 subversion 1) configuration:
   
  Platform:
    osname=linux
    osvers=5.13.0-39-generic
    archname=x86_64-linux
    uname='linux cables 5.13.0-39-generic #44~20.04.1-ubuntu smp thu mar 24 16:43:35 utc 2022 x86_64 x86_64 x86_64 gnulinux '
    config_args='-des -Dprefix=/home/cavac/bin/CavacPerl-5.34.1'
    hint=recommended
    useposix=true
    d_sigaction=define
    useithreads=undef
    usemultiplicity=undef
    use64bitint=define
    use64bitall=define
    uselongdouble=undef
    usemymalloc=n
    default_inc_excludes_dot=define
  Compiler:
    cc='cc'
    ccflags ='-fwrapv -fno-strict-aliasing -pipe -fstack-protector-strong -I/usr/local/include -D_LARGEFILE_SOURCE -D_FILE_OFFSET_BITS=64'
    optimize='-O2'
    cppflags='-fwrapv -fno-strict-aliasing -pipe -fstack-protector-strong -I/usr/local/include'
    ccversion=''
    gccversion='9.4.0'
    gccosandvers=''
    intsize=4
    longsize=8
    ptrsize=8
    doublesize=8
    byteorder=12345678
    doublekind=3
    d_longlong=define
    longlongsize=8
    d_longdbl=define
    longdblsize=16
    longdblkind=3
    ivtype='long'
    ivsize=8
    nvtype='double'
    nvsize=8
    Off_t='off_t'
    lseeksize=8
    alignbytes=8
    prototype=define
  Linker and Libraries:
    ld='cc'
    ldflags =' -fstack-protector-strong -L/usr/local/lib'
    libpth=/usr/local/lib /usr/lib/x86_64-linux-gnu /usr/lib /lib/x86_64-linux-gnu /lib
    libs=-lpthread -lnsl -ldb -ldl -lm -lcrypt -lutil -lc
    perllibs=-lpthread -lnsl -ldl -lm -lcrypt -lutil -lc
    libc=libc-2.31.so
    so=so
    useshrplib=false
    libperl=libperl.a
    gnulibc_version='2.31'
  Dynamic Linking:
    dlsrc=dl_dlopen.xs
    dlext=so
    d_dlsymun=undef
    ccdlflags='-Wl,-E'
    cccdlflags='-fPIC'
    lddlflags='-shared -O2 -L/usr/local/lib -fstack-protector-strong'


Characteristics of this binary (from libperl): 
  Compile-time options:
    HAS_TIMES
    PERLIO_LAYERS
    PERL_COPY_ON_WRITE
    PERL_DONT_CREATE_GVSV
    PERL_MALLOC_WRAP
    PERL_OP_PARENT
    PERL_PRESERVE_IVUV
    USE_64_BIT_ALL
    USE_64_BIT_INT
    USE_LARGE_FILES
    USE_LOCALE
    USE_LOCALE_COLLATE
    USE_LOCALE_CTYPE
    USE_LOCALE_NUMERIC
    USE_LOCALE_TIME
    USE_PERLIO
    USE_PERL_ATOF
  Built under linux
  Compiled at Apr  3 2022 11:17:32
  %ENV:
    PERL5LIB=""
    PERL5OPT=""
    PERL5_CPANPLUS_IS_RUNNING="1884019"
    PERL5_CPAN_IS_RUNNING="1884019"
    PERL_USE_UNSAFE_INC="1"
  @INC:
    /home/cavac/bin/CavacPerl-5.34.1/lib/perl5/site_perl/5.34.1/x86_64-linux
    /home/cavac/bin/CavacPerl-5.34.1/lib/perl5/site_perl/5.34.1
    /home/cavac/bin/CavacPerl-5.34.1/lib/perl5/5.34.1/x86_64-linux
    /home/cavac/bin/CavacPerl-5.34.1/lib/perl5/5.34.1
    .