Back
From: metabase:user:ea87d472-eaa6-11e5-bf02-ac50a308a42d
Subject: PASS autodie-2.29 v5.20.1 GNU/Linux
Date: 2017-02-18T09:36:57Z
This distribution has been tested as part of the CPAN Testers
project, supporting the Perl programming language. See
http://wiki.cpantesters.org/ for more information or email
questions to cpan-testers-discuss@perl.org
--
Dear PJF,
This is a computer-generated report for autodie-2.29
on perl 5.20.1, created by App::cpanminus::reporter 0.17 (1.7030).
Thank you for uploading your work to CPAN. Congratulations!
All tests were successful.
Sections of this report:
* Tester comments
* Program output
* Prerequisites
* Environment and other context
------------------------------
TESTER COMMENTS
------------------------------
Additional comments from tester:
none provided
------------------------------
PROGRAM OUTPUT
------------------------------
Output from '':
Building and testing autodie-2.29
cp lib/autodie/exception.pm blib/lib/autodie/exception.pm
cp lib/autodie.pm blib/lib/autodie.pm
cp lib/autodie/hints.pm blib/lib/autodie/hints.pm
cp lib/Fatal.pm blib/lib/Fatal.pm
cp lib/autodie/Scope/Guard.pm blib/lib/autodie/Scope/Guard.pm
cp lib/autodie/Scope/GuardStack.pm blib/lib/autodie/Scope/GuardStack.pm
cp lib/autodie/Util.pm blib/lib/autodie/Util.pm
cp lib/autodie/exception/system.pm blib/lib/autodie/exception/system.pm
cp lib/autodie/skip.pm blib/lib/autodie/skip.pm
Manifying 9 pod documents
PERL_DL_NONLAZY=1 "/home/julien/perl5/perlbrew/perls/perl-5.20.1/bin/perl" "-MExtUtils::Command::MM" "-MTest::Harness" "-e" "undef *Test::Harness::Switches; test_harness(0, 'blib/lib', 'blib/arch')" t/*.t
t/00-load.t ...................... ok
t/args.t ......................... ok
t/author-critic.t ................ skipped: these tests are for testing by the author
t/autodie.t ...................... ok
t/backcompat.t ................... ok
t/basic_exceptions.t ............. ok
t/binmode.t ...................... ok
t/blog_hints.t ................... ok
t/caller.t ....................... ok
t/chmod.t ........................ ok
t/chown.t ........................ ok
t/context.t ...................... ok
t/context_lexical.t .............. ok
t/core-trampoline-slurp.t ........ ok
t/crickey.t ...................... ok
t/critic.t ....................... skipped: Author test. Set $ENV{AUTHOR_TESTING} to true to run.
t/dbmopen.t ...................... ok
t/eval_error.t ................... ok
t/exception_class.t .............. ok
t/exceptions.t ................... ok
t/exec.t ......................... ok
t/Fatal.t ........................ ok
t/filehandles.t .................. ok
t/fileno.t ....................... ok
t/flock.t ........................ ok
t/fork.t ......................... skipped: BSD::Resource required to test fork()
t/format-clobber.t ............... ok
# Sub::Identify is loaded
t/hints.t ........................ ok
t/hints_insist.t ................. ok
t/hints_pod_examples.t ........... ok
t/hints_provider_does.t .......... ok
t/hints_provider_easy_does_it.t .. ok
t/hints_provider_isa.t ........... ok
t/import-into.t .................. ok
t/internal-backcompat.t .......... ok
t/internal.t ..................... ok
t/kill.t ......................... ok
t/kwalitee.t ..................... skipped: Author test. Set $ENV{RELEASE_TESTING} to true to run.
t/lethal.t ....................... ok
t/lex58.t ........................ ok
t/mkdir.t ........................ ok
t/no_carp.t ...................... ok
t/open.t ......................... ok
t/pod-coverage.t ................. skipped: Author test. Set $ENV{AUTHOR_TESTING} to true to run.
t/pod.t .......................... skipped: Author test. Set $ENV{AUTHOR_TESTING} to true to run.
t/read.t ......................... ok
t/recv.t ......................... ok
t/release-pod-coverage.t ......... skipped: these tests are for release candidate testing
t/release-pod-syntax.t ........... skipped: these tests are for release candidate testing
t/repeat.t ....................... ok
t/rt-74246.t ..................... ok
t/scope_leak.t ................... ok
t/skip.t ......................... ok
t/socket.t ....................... skipped: Author test. Set $ENV{AUTHOR_TESTING} to true to run.
t/string-eval-basic.t ............ ok
t/string-eval-leak.t ............. ok
t/sysopen.t ...................... ok
t/system.t ....................... ok
t/truncate.t ..................... ok
t/unlink.t ....................... ok
t/user-context.t ................. ok
t/usersub.t ...................... ok
t/utf8_open.t .................... ok
t/utime.t ........................ ok
t/version.t ...................... skipped: Release test. Set $ENV{RELEASE_TESTING} to true to run.
t/version_tag.t .................. ok
All tests successful.
Files=66, Tests=510, 3 wallclock secs ( 0.17 usr 0.04 sys + 2.45 cusr 0.28 csys = 2.94 CPU)
Result: PASS
------------------------------
PREREQUISITES
------------------------------
Prerequisite modules loaded:
No requirements found
------------------------------
ENVIRONMENT AND OTHER CONTEXT
------------------------------
Environment variables:
LANG = en_US.UTF-8
LANGUAGE = en_US
LC_ADDRESS = en_US.UTF-8
LC_IDENTIFICATION = en_US.UTF-8
LC_MEASUREMENT = en_US.UTF-8
LC_MONETARY = en_US.UTF-8
LC_NAME = en_US.UTF-8
LC_NUMERIC = en_US.UTF-8
LC_PAPER = en_US.UTF-8
LC_TELEPHONE = en_US.UTF-8
LC_TIME = en_US.UTF-8
PATH = /home/julien/perl5/perlbrew/bin:/home/julien/perl5/perlbrew/perls/perl-5.20.1/bin:/usr/local/sbin:/usr/local/bin:/usr/sbin:/usr/bin:/sbin:/bin:/usr/games:/usr/local/games:/snap/bin
PERL5LIB = /home/julien/code/StratoPro/lib:/home/julien/code/ProductDB/lib:/home/julien/code/StoreFront/lib:/home/julien/code/StoreFrontDatabases/lib:/home/julien/code/ProductDB/API/lib:/home/julien/code/RZBankdataDE/lib:/home/julien/code/Ordering-WFC/lib
PERLBREW_BASHRC_VERSION = 0.76
PERLBREW_HOME = /home/julien/.perlbrew
PERLBREW_MANPATH = /home/julien/perl5/perlbrew/perls/perl-5.20.1/man
PERLBREW_PATH = /home/julien/perl5/perlbrew/bin:/home/julien/perl5/perlbrew/perls/perl-5.20.1/bin
PERLBREW_PERL = perl-5.20.1
PERLBREW_ROOT = /home/julien/perl5/perlbrew
PERLBREW_VERSION = 0.76
SHELL = /bin/bash
TERM = xterm
Perl special variables (and OS-specific diagnostics, for MSWin32):
EGID = 1000 4 24 27 30 46 109 125 1000
EUID = 1000
EXECUTABLE_NAME = /home/julien/perl5/perlbrew/perls/perl-5.20.1/bin/perl
GID = 1000 4 24 27 30 46 109 125 1000
UID = 1000
Perl module toolchain versions installed:
Module Have
------------------- --------
CPAN 2.16
CPAN::Meta 2.150010
Cwd 3.62
ExtUtils::CBuilder 0.280224
ExtUtils::Command 7.24
ExtUtils::Install 2.04
ExtUtils::MakeMaker 7.24
ExtUtils::Manifest 1.70
ExtUtils::ParseXS 3.30
File::Spec 3.62
JSON 2.90
JSON::PP 2.27400
Module::Build 0.4220
Module::Signature n/a
Parse::CPAN::Meta 2.150010
Test::Harness 3.36
Test::More 1.302075
YAML 1.22
YAML::Syck n/a
version 0.9917
--
Summary of my perl5 (revision 5 version 20 subversion 1) configuration:
Platform:
osname=linux, osvers=3.16.0-34-generic, archname=x86_64-linux
uname='linux horst 3.16.0-34-generic #47-ubuntu smp fri apr 10 18:02:58 utc 2015 x86_64 x86_64 x86_64 gnulinux '
config_args='-de -Dprefix=/home/julien/perl5/perlbrew/perls/perl-5.20.1 -Aeval:scriptdir=/home/julien/perl5/perlbrew/perls/perl-5.20.1/bin'
hint=recommended, useposix=true, d_sigaction=define
useithreads=undef, usemultiplicity=undef
use64bitint=define, use64bitall=define, uselongdouble=undef
usemymalloc=n, bincompat5005=undef
Compiler:
cc='cc', ccflags ='-fwrapv -fno-strict-aliasing -pipe -fstack-protector -I/usr/local/include -D_LARGEFILE_SOURCE -D_FILE_OFFSET_BITS=64',
optimize='-O2',
cppflags='-fwrapv -fno-strict-aliasing -pipe -fstack-protector -I/usr/local/include'
ccversion='', gccversion='4.9.1', gccosandvers=''
intsize=4, longsize=8, ptrsize=8, doublesize=8, byteorder=12345678
d_longlong=define, longlongsize=8, d_longdbl=define, longdblsize=16
ivtype='long', ivsize=8, nvtype='double', nvsize=8, Off_t='off_t', lseeksize=8
alignbytes=8, prototype=define
Linker and Libraries:
ld='cc', ldflags =' -fstack-protector -L/usr/local/lib'
libpth=/usr/local/lib /usr/lib/gcc/x86_64-linux-gnu/4.9/include-fixed /usr/include/x86_64-linux-gnu /usr/lib /lib/x86_64-linux-gnu /lib/../lib /usr/lib/x86_64-linux-gnu /usr/lib/../lib /lib
libs=-lnsl -ldl -lm -lcrypt -lutil -lc
perllibs=-lnsl -ldl -lm -lcrypt -lutil -lc
libc=libc-2.19.so, so=so, useshrplib=false, libperl=libperl.a
gnulibc_version='2.19'
Dynamic Linking:
dlsrc=dl_dlopen.xs, dlext=so, d_dlsymun=undef, ccdlflags='-Wl,-E'
cccdlflags='-fPIC', lddlflags='-shared -O2 -L/usr/local/lib -fstack-protector'
Characteristics of this binary (from libperl):
Compile-time options: HAS_TIMES PERLIO_LAYERS PERL_DONT_CREATE_GVSV
PERL_HASH_FUNC_ONE_AT_A_TIME_HARD PERL_MALLOC_WRAP
PERL_NEW_COPY_ON_WRITE PERL_PRESERVE_IVUV
USE_64_BIT_ALL USE_64_BIT_INT USE_LARGE_FILES
USE_LOCALE USE_LOCALE_COLLATE USE_LOCALE_CTYPE
USE_LOCALE_NUMERIC USE_PERLIO USE_PERL_ATOF
Locally applied patches:
Devel::PatchPerl 1.32
Built under linux
Compiled at Apr 20 2015 09:45:55
%ENV:
PERL5LIB="/home/julien/code/StratoPro/lib:/home/julien/code/ProductDB/lib:/home/julien/code/StoreFront/lib:/home/julien/code/StoreFrontDatabases/lib:/home/julien/code/ProductDB/API/lib:/home/julien/code/RZBankdataDE/lib:/home/julien/code/Ordering-WFC/lib"
PERLBREW_BASHRC_VERSION="0.76"
PERLBREW_HOME="/home/julien/.perlbrew"
PERLBREW_MANPATH="/home/julien/perl5/perlbrew/perls/perl-5.20.1/man"
PERLBREW_PATH="/home/julien/perl5/perlbrew/bin:/home/julien/perl5/perlbrew/perls/perl-5.20.1/bin"
PERLBREW_PERL="perl-5.20.1"
PERLBREW_ROOT="/home/julien/perl5/perlbrew"
PERLBREW_VERSION="0.76"
@INC:
/home/julien/code/StratoPro/lib
/home/julien/code/ProductDB/lib
/home/julien/code/StoreFront/lib
/home/julien/code/StoreFrontDatabases/lib
/home/julien/code/ProductDB/API/lib
/home/julien/code/RZBankdataDE/lib
/home/julien/code/Ordering-WFC/lib
/home/julien/perl5/perlbrew/perls/perl-5.20.1/lib/site_perl/5.20.1/x86_64-linux
/home/julien/perl5/perlbrew/perls/perl-5.20.1/lib/site_perl/5.20.1
/home/julien/perl5/perlbrew/perls/perl-5.20.1/lib/5.20.1/x86_64-linux
/home/julien/perl5/perlbrew/perls/perl-5.20.1/lib/5.20.1
.