Back
From: metabase:user:0d96120c-29e2-11e5-b049-ede3035d37de
Subject: PASS Module-Recursive-Require-0.04 v5.22.0 GNU/Linux
Date: 2015-07-19T20:00:23Z
This distribution has been tested as part of the CPAN Testers
project, supporting the Perl programming language.  See
http://wiki.cpantesters.org/ for more information or email
questions to cpan-testers-discuss@perl.org
--
Dear Masahiro Funakoshi,
This is a computer-generated report for Module-Recursive-Require-0.04
on perl 5.22.0, created by CPAN-Reporter-1.2014.
Thank you for uploading your work to CPAN.  Congratulations!
All tests were successful.
Sections of this report:
    * Tester comments
    * Program output
    * Prerequisites
    * Environment and other context
------------------------------
TESTER COMMENTS
------------------------------
Additional comments from tester:
this report is from an automated smoke testing program
and was not reviewed by a human for accuracy
------------------------------
PROGRAM OUTPUT
------------------------------
Output from '/usr/bin/make test':
PERL_DL_NONLAZY=1 "/data/perl5/perlbrew/perls/perl-5.22.0-thread-multi-ld/bin/perl" "-MExtUtils::Command::MM" "-MTest::Harness" "-e" "undef *Test::Harness::Switches; test_harness(0, 'blib/lib', 'blib/arch')" t/*.t
t/00-compile.t .. ok
t/01-require.t .. ok
t/99-pod.t ...... skipped: Test::Pod::Coverage 1.00 required for testing POD coverage
All tests successful.
Files=3, Tests=11,  0 wallclock secs ( 0.01 usr  0.00 sys +  0.08 cusr  0.02 csys =  0.11 CPU)
Result: PASS
------------------------------
PREREQUISITES
------------------------------
Prerequisite modules loaded:
requires:
    Module              Need Have   
    ------------------- ---- -------
    File::Spec          0    3.56   
    UNIVERSAL::require  0    0.18   
build_requires:
    Module              Need Have   
    ------------------- ---- -------
    ExtUtils::MakeMaker 0    7.04_01
------------------------------
ENVIRONMENT AND OTHER CONTEXT
------------------------------
Environment variables:
    AUTOMATED_TESTING = 1
    LANG = en_US.UTF-8
    NONINTERACTIVE_TESTING = 1
    PATH = /home/perltest/perl5/perlbrew/bin:/home/perltest/perl5/perlbrew/perls/perl-5.22.0-thread-multi-ld/bin:/home/perltest/perltest/bin:/home/perltest/perltest/bin:/home/perltest/perltest/bin:/home/perltest/perl5/perlbrew/bin:/home/perltest/perl5/perlbrew/perls/perl-5.23.0/bin:/usr/local/sbin:/usr/local/bin:/usr/sbin:/usr/bin:/sbin:/bin:/usr/games:/usr/local/games:/home/perltest/perltest/bin
    PERL5LIB = /home/perltest/.cpan/build/UNIVERSAL-require-0.18-OVueQa/blib/arch:/home/perltest/.cpan/build/UNIVERSAL-require-0.18-OVueQa/blib/lib:/home/perltest/.cpan/build/Catalyst-Action-RenderView-0.16-FSu1Sn/blib/arch:/home/perltest/.cpan/build/Catalyst-Action-RenderView-0.16-FSu1Sn/blib/lib:/home/perltest/.cpan/build/Data-Visitor-0.30-kBNwlX/blib/arch:/home/perltest/.cpan/build/Data-Visitor-0.30-kBNwlX/blib/lib:/home/perltest/.cpan/build/Tie-ToObject-0.03-eznIfw/blib/arch:/home/perltest/.cpan/build/Tie-ToObject-0.03-eznIfw/blib/lib:/home/perltest/.cpan/build/Catalyst-View-TT-0.42-rMq9Q7/blib/arch:/home/perltest/.cpan/build/Catalyst-View-TT-0.42-rMq9Q7/blib/lib:/home/perltest/.cpan/build/Template-Timer-1.00-zanvwT/blib/arch:/home/perltest/.cpan/build/Template-Timer-1.00-zanvwT/blib/lib:/home/perltest/.cpan/build/Template-Toolkit-2.26-B4cgxI/blib/arch:/home/perltest/.cpan/build/Template-Toolkit-2.26-B4cgxI/blib/lib:/home/perltest/.cpan/build/AppConfig-1.71-1mDuxe/blib/arch:/home/perltest/.cpan/build/AppConfig-1.71-1mDuxe/blib/lib:/home/perltest/.cpan/build/Test-Pod-1.51-lrMmgb/blib/arch:/home/perltest/.cpan/build/Test-Pod-1.51-lrMmgb/blib/lib
    PERL5OPT = 
    PERL5_CPANPLUS_IS_RUNNING = 13643
    PERL5_CPAN_IS_RUNNING = 13643
    PERL5_CPAN_IS_RUNNING_IN_RECURSION = 10770,13643
    PERLBREW_BASHRC_VERSION = 0.73
    PERLBREW_HOME = /home/perltest/.perlbrew
    PERLBREW_LIB = 
    PERLBREW_MANPATH = /home/perltest/perl5/perlbrew/perls/perl-5.22.0-thread-multi-ld/man
    PERLBREW_PATH = /home/perltest/perl5/perlbrew/bin:/home/perltest/perl5/perlbrew/perls/perl-5.22.0-thread-multi-ld/bin
    PERLBREW_PERL = perl-5.22.0-thread-multi-ld
    PERLBREW_ROOT = /home/perltest/perl5/perlbrew
    PERLBREW_VERSION = 0.73
    PERL_CR_SMOKER_CURRENT = Catalyst-View-TT-Filters-LazyLoader-0.07
    PERL_EXTUTILS_AUTOINSTALL = --defaultdeps
    PERL_LOCAL_LIB_ROOT = 
    PERL_MM_USE_DEFAULT = 1
    SHELL = /bin/bash
    TERM = screen
Perl special variables (and OS-specific diagnostics, for MSWin32):
    $^X = /data/perl5/perlbrew/perls/perl-5.22.0-thread-multi-ld/bin/perl
    $UID/$EUID = 2000 / 2000
    $GID = 2000 2000
    $EGID = 2000 2000
Perl module toolchain versions installed:
    Module              Have    
    ------------------- --------
    CPAN                2.11    
    CPAN::Meta          2.150001
    Cwd                 3.56    
    ExtUtils::CBuilder  0.280221
    ExtUtils::Command   1.20    
    ExtUtils::Install   2.04    
    ExtUtils::MakeMaker 7.04_01 
    ExtUtils::Manifest  1.70    
    ExtUtils::ParseXS   3.28    
    File::Spec          3.56    
    JSON                2.90    
    JSON::PP            2.27300 
    Module::Build       0.4214  
    Module::Signature   n/a     
    Parse::CPAN::Meta   1.4414  
    Test::Harness       3.35    
    Test::More          1.001014
    YAML                1.15    
    YAML::Syck          n/a     
    version             0.9909  
--
Summary of my perl5 (revision 5 version 22 subversion 0) configuration:
   
  Platform:
    osname=linux, osvers=3.19.0-18-generic, archname=x86_64-linux-thread-multi-ld
    uname='linux perltest.antelope.net 3.19.0-18-generic #18-ubuntu smp tue may 19 18:31:35 utc 2015 x86_64 x86_64 x86_64 gnulinux '
    config_args='-de -Dprefix=/home/perltest/perl5/perlbrew/perls/perl-5.22.0-thread-multi-ld -Dusethreads -Duselongdouble -Dusemultiplicity -Aeval:scriptdir=/home/perltest/perl5/perlbrew/perls/perl-5.22.0-thread-multi-ld/bin'
    hint=recommended, useposix=true, d_sigaction=define
    useithreads=define, usemultiplicity=define
    use64bitint=define, use64bitall=define, uselongdouble=define
    usemymalloc=n, bincompat5005=undef
  Compiler:
    cc='cc', ccflags ='-D_REENTRANT -D_GNU_SOURCE -fwrapv -fno-strict-aliasing -pipe -fstack-protector-strong -I/usr/local/include -D_LARGEFILE_SOURCE -D_FILE_OFFSET_BITS=64',
    optimize='-O2',
    cppflags='-D_REENTRANT -D_GNU_SOURCE -fwrapv -fno-strict-aliasing -pipe -fstack-protector-strong -I/usr/local/include'
    ccversion='', gccversion='4.9.2', gccosandvers=''
    intsize=4, longsize=8, ptrsize=8, doublesize=8, byteorder=12345678, doublekind=3
    d_longlong=define, longlongsize=8, d_longdbl=define, longdblsize=16, longdblkind=3
    ivtype='long', ivsize=8, nvtype='long double', nvsize=16, Off_t='off_t', lseeksize=8
    alignbytes=16, prototype=define
  Linker and Libraries:
    ld='cc', ldflags =' -fstack-protector-strong -L/usr/local/lib'
    libpth=/usr/local/lib /usr/lib/gcc/x86_64-linux-gnu/4.9/include-fixed /usr/include/x86_64-linux-gnu /usr/lib /lib/x86_64-linux-gnu /lib/../lib /usr/lib/x86_64-linux-gnu /usr/lib/../lib /lib
    libs=-lpthread -lnsl -ldb -ldl -lm -lcrypt -lutil -lc
    perllibs=-lpthread -lnsl -ldl -lm -lcrypt -lutil -lc
    libc=libc-2.21.so, so=so, useshrplib=false, libperl=libperl.a
    gnulibc_version='2.21'
  Dynamic Linking:
    dlsrc=dl_dlopen.xs, dlext=so, d_dlsymun=undef, ccdlflags='-Wl,-E'
    cccdlflags='-fPIC', lddlflags='-shared -O2 -L/usr/local/lib -fstack-protector-strong'
Characteristics of this binary (from libperl): 
  Compile-time options: HAS_TIMES MULTIPLICITY PERLIO_LAYERS
                        PERL_DONT_CREATE_GVSV
                        PERL_HASH_FUNC_ONE_AT_A_TIME_HARD
                        PERL_IMPLICIT_CONTEXT PERL_MALLOC_WRAP
                        PERL_NEW_COPY_ON_WRITE PERL_PRESERVE_IVUV
                        USE_64_BIT_ALL USE_64_BIT_INT USE_ITHREADS
                        USE_LARGE_FILES USE_LOCALE USE_LOCALE_COLLATE
                        USE_LOCALE_CTYPE USE_LOCALE_NUMERIC USE_LOCALE_TIME
                        USE_LONG_DOUBLE USE_PERLIO USE_PERL_ATOF
                        USE_REENTRANT_API
  Locally applied patches:
	Devel::PatchPerl 1.38
  Built under linux
  Compiled at Jul 15 2015 23:32:40
  %ENV:
    PERL5LIB="/home/perltest/.cpan/build/UNIVERSAL-require-0.18-OVueQa/blib/arch:/home/perltest/.cpan/build/UNIVERSAL-require-0.18-OVueQa/blib/lib:/home/perltest/.cpan/build/Catalyst-Action-RenderView-0.16-FSu1Sn/blib/arch:/home/perltest/.cpan/build/Catalyst-Action-RenderView-0.16-FSu1Sn/blib/lib:/home/perltest/.cpan/build/Data-Visitor-0.30-kBNwlX/blib/arch:/home/perltest/.cpan/build/Data-Visitor-0.30-kBNwlX/blib/lib:/home/perltest/.cpan/build/Tie-ToObject-0.03-eznIfw/blib/arch:/home/perltest/.cpan/build/Tie-ToObject-0.03-eznIfw/blib/lib:/home/perltest/.cpan/build/Catalyst-View-TT-0.42-rMq9Q7/blib/arch:/home/perltest/.cpan/build/Catalyst-View-TT-0.42-rMq9Q7/blib/lib:/home/perltest/.cpan/build/Template-Timer-1.00-zanvwT/blib/arch:/home/perltest/.cpan/build/Template-Timer-1.00-zanvwT/blib/lib:/home/perltest/.cpan/build/Template-Toolkit-2.26-B4cgxI/blib/arch:/home/perltest/.cpan/build/Template-Toolkit-2.26-B4cgxI/blib/lib:/home/perltest/.cpan/build/AppConfig-1.71-1mDuxe/blib/arch:/home/perltest/.cpan/build/AppConfig-1.71-1mDuxe/blib/lib:/home/perltest/.cpan/build/Test-Pod-1.51-lrMmgb/blib/arch:/home/perltest/.cpan/build/Test-Pod-1.51-lrMmgb/blib/lib"
    PERL5OPT=""
    PERL5_CPANPLUS_IS_RUNNING="13643"
    PERL5_CPAN_IS_RUNNING="13643"
    PERL5_CPAN_IS_RUNNING_IN_RECURSION="10770,13643"
    PERLBREW_BASHRC_VERSION="0.73"
    PERLBREW_HOME="/home/perltest/.perlbrew"
    PERLBREW_LIB=""
    PERLBREW_MANPATH="/home/perltest/perl5/perlbrew/perls/perl-5.22.0-thread-multi-ld/man"
    PERLBREW_PATH="/home/perltest/perl5/perlbrew/bin:/home/perltest/perl5/perlbrew/perls/perl-5.22.0-thread-multi-ld/bin"
    PERLBREW_PERL="perl-5.22.0-thread-multi-ld"
    PERLBREW_ROOT="/home/perltest/perl5/perlbrew"
    PERLBREW_VERSION="0.73"
    PERL_CR_SMOKER_CURRENT="Catalyst-View-TT-Filters-LazyLoader-0.07"
    PERL_EXTUTILS_AUTOINSTALL="--defaultdeps"
    PERL_LOCAL_LIB_ROOT=""
    PERL_MM_USE_DEFAULT="1"
  @INC:
    /home/perltest/.cpan/build/UNIVERSAL-require-0.18-OVueQa/blib/arch
    /home/perltest/.cpan/build/UNIVERSAL-require-0.18-OVueQa/blib/lib
    /home/perltest/.cpan/build/Catalyst-Action-RenderView-0.16-FSu1Sn/blib/arch
    /home/perltest/.cpan/build/Catalyst-Action-RenderView-0.16-FSu1Sn/blib/lib
    /home/perltest/.cpan/build/Data-Visitor-0.30-kBNwlX/blib/arch
    /home/perltest/.cpan/build/Data-Visitor-0.30-kBNwlX/blib/lib
    /home/perltest/.cpan/build/Tie-ToObject-0.03-eznIfw/blib/arch
    /home/perltest/.cpan/build/Tie-ToObject-0.03-eznIfw/blib/lib
    /home/perltest/.cpan/build/Catalyst-View-TT-0.42-rMq9Q7/blib/arch
    /home/perltest/.cpan/build/Catalyst-View-TT-0.42-rMq9Q7/blib/lib
    /home/perltest/.cpan/build/Template-Timer-1.00-zanvwT/blib/arch
    /home/perltest/.cpan/build/Template-Timer-1.00-zanvwT/blib/lib
    /home/perltest/.cpan/build/Template-Toolkit-2.26-B4cgxI/blib/arch
    /home/perltest/.cpan/build/Template-Toolkit-2.26-B4cgxI/blib/lib
    /home/perltest/.cpan/build/AppConfig-1.71-1mDuxe/blib/arch
    /home/perltest/.cpan/build/AppConfig-1.71-1mDuxe/blib/lib
    /home/perltest/.cpan/build/Test-Pod-1.51-lrMmgb/blib/arch
    /home/perltest/.cpan/build/Test-Pod-1.51-lrMmgb/blib/lib
    /home/perltest/perl5/perlbrew/perls/perl-5.22.0-thread-multi-ld/lib/site_perl/5.22.0/x86_64-linux-thread-multi-ld
    /home/perltest/perl5/perlbrew/perls/perl-5.22.0-thread-multi-ld/lib/site_perl/5.22.0
    /home/perltest/perl5/perlbrew/perls/perl-5.22.0-thread-multi-ld/lib/5.22.0/x86_64-linux-thread-multi-ld
    /home/perltest/perl5/perlbrew/perls/perl-5.22.0-thread-multi-ld/lib/5.22.0
    .