Date-Holidays-Super v0.04 Perl 5 v5.27.9 x86_64-dragonfly-thread-multi
- Status
- Pass
- From
- Nigel Horne
- Dist
-
Date-Holidays-Super v0.04
- Platform
- Perl 5 v5.27.9 x86_64-dragonfly-thread-multi
- Date
- 2018-04-04 16:11:11
- ID
- ca6d7f22-3822-11e8-91ce-d3e3deac0b3f
This distribution has been tested as part of the CPAN Testers
project, supporting the Perl programming language. See
http://wiki.cpantesters.org/ for more information or email
questions to cpan-testers-discuss@perl.org
--
Dear jonasbn,
This is a computer-generated report for Date-Holidays-Super-0.04
on perl 5.27.9, created by CPAN-Reporter-1.2018.
Thank you for uploading your work to CPAN. Congratulations!
All tests were successful.
Sections of this report:
* Tester comments
* Program output
* Prerequisites
* Environment and other context
------------------------------
TESTER COMMENTS
------------------------------
Additional comments from tester:
this report is from an automated smoke testing program
and was not reviewed by a human for accuracy
------------------------------
PROGRAM OUTPUT
------------------------------
Output from './Build test':
t/critic.t ........ skipped: Author test. Set $ENV{TEST_AUTHOR} to a true value to run.
t/00.load.t ....... ok
t/holidays.t ...... ok
t/is_holiday.t .... ok
t/pod-coverage.t .. skipped: set TEST_POD to enable this test
t/pod.t ........... skipped: set TEST_POD to enable this test
These tests should not be running unless AUTHOR_TESTING=1 and/or RELEASE_TESTING=1!
t/kwalitee.t ...... ok
All tests successful.
Files=7, Tests=29, 2 wallclock secs ( 0.04 usr 0.07 sys + 1.80 cusr 0.62 csys = 2.53 CPU)
Result: PASS
------------------------------
PREREQUISITES
------------------------------
Prerequisite modules loaded:
requires:
Module Need Have
------------------- ---- --------
Test::Harness 0 3.39
Test::More 0 1.302133
configure_requires:
Module Need Have
------------------- ---- --------
ExtUtils::MakeMaker 0 7.34
------------------------------
ENVIRONMENT AND OTHER CONTEXT
------------------------------
Environment variables:
AUTOMATED_TESTING = 1
HARNESS_OPTIONS = j2:c
PATH = /home/njh/perl5/perlbrew/bin:/home/njh/perl5/perlbrew/perls/perl-5.27.9-thread/bin:src/njh/smoker/bin:/sbin:/bin:/usr/sbin:/usr/bin:/usr/games:/usr/local/sbin:/usr/local/bin:/usr/pkg/sbin:/usr/pkg/bin:/home/njh/bin
PERL5LIB = /home/njh/.cpan/build/Mojo-Feed-0.16-4/blib/arch:/home/njh/.cpan/build/Mojo-Feed-0.16-4/blib/lib:/home/njh/.cpan/build/TimeDate-2.30-4/blib/arch:/home/njh/.cpan/build/TimeDate-2.30-4/blib/lib:/home/njh/.cpan/build/Mojolicious-7.72-4/blib/arch:/home/njh/.cpan/build/Mojolicious-7.72-4/blib/lib
PERL5OPT =
PERL5_CPANPLUS_IS_RUNNING = 856996
PERL5_CPAN_IS_RUNNING = 856996
PERLBREW_HOME = /home/njh/.perlbrew
PERLBREW_MANPATH = /home/njh/perl5/perlbrew/perls/perl-5.27.9-thread/man
PERLBREW_PATH = /home/njh/perl5/perlbrew/bin:/home/njh/perl5/perlbrew/perls/perl-5.27.9-thread/bin
PERLBREW_PERL = perl-5.27.9-thread
PERLBREW_ROOT = /home/njh/perl5/perlbrew
PERLBREW_SHELLRC_VERSION = 0.82
PERLBREW_VERSION = 0.82
PERL_USE_UNSAFE_INC = 1
SHELL = /usr/local/bin/bash
TERM = xterm-256color
Perl special variables (and OS-specific diagnostics, for MSWin32):
$^X = /home/njh/perl5/perlbrew/perls/perl-5.27.9-thread/bin/perl5.27.9
$UID/$EUID = 1001 / 1001
$GID = 1001 1001 0
$EGID = 1001 1001 0
Perl module toolchain versions installed:
Module Have
------------------- --------
CPAN 2.20
CPAN::Meta 2.150010
Cwd 3.74
ExtUtils::CBuilder 0.280230
ExtUtils::Command 7.34
ExtUtils::Install 2.14
ExtUtils::MakeMaker 7.34
ExtUtils::Manifest 1.70
ExtUtils::ParseXS 3.38
File::Spec 3.74
JSON 2.97001
JSON::PP 2.97001
Module::Build 0.4224
Module::Signature n/a
Parse::CPAN::Meta 2.150010
Test::Harness 3.39
Test::More 1.302133
YAML 1.24
YAML::Syck 1.30
version 0.9918
--
Summary of my perl5 (revision 5 version 27 subversion 9) configuration:
Platform:
osname=dragonfly
osvers=5.0-release
archname=x86_64-dragonfly-thread-multi
uname='dragonfly david.bandsman.co.uk 5.0-release dragonfly v5.0.2-release #4: sun dec 3 17:42:25 est 2017 root@www.shiningsilence.com:usrobjhomejustinrelease5_0sysx86_64_generic x86_64 '
config_args='-de -Dprefix=/home/njh/perl5/perlbrew/perls/perl-5.27.9-thread -Dusedevel -Dusethreads -Dusedevel -Accflags= -Aeval:scriptdir=/home/njh/perl5/perlbrew/perls/perl-5.27.9-thread/bin'
hint=recommended
useposix=true
d_sigaction=define
useithreads=define
usemultiplicity=define
use64bitint=define
use64bitall=define
uselongdouble=undef
usemymalloc=n
default_inc_excludes_dot=define
bincompat5005=undef
Compiler:
cc='cc'
ccflags ='-DHAS_FPSETMASK -DHAS_FLOATINGPOINT_H -fwrapv -fno-strict-aliasing -pipe -fstack-protector-strong -I/usr/local/include -D_FORTIFY_SOURCE=2'
optimize='-O'
cppflags='-DHAS_FPSETMASK -DHAS_FLOATINGPOINT_H -fwrapv -fno-strict-aliasing -pipe -fstack-protector-strong -I/usr/local/include'
ccversion=''
gccversion='5.4.1 [DragonFly] Release/2016-08-27'
gccosandvers=''
intsize=4
longsize=8
ptrsize=8
doublesize=8
byteorder=12345678
doublekind=3
d_longlong=define
longlongsize=8
d_longdbl=define
longdblsize=16
longdblkind=3
ivtype='long'
ivsize=8
nvtype='double'
nvsize=8
Off_t='off_t'
lseeksize=8
alignbytes=8
prototype=define
Linker and Libraries:
ld='cc'
ldflags ='-pthread -Wl,-E -fstack-protector-strong -L/usr/local/lib'
libpth=/usr/lib /usr/local/lib /usr/lib
libs=-lpthread -ldl -lm -lcrypt -lutil -lc
perllibs=-lpthread -ldl -lm -lcrypt -lutil -lc
libc=
so=so
useshrplib=false
libperl=libperl.a
gnulibc_version=''
Dynamic Linking:
dlsrc=dl_dlopen.xs
dlext=so
d_dlsymun=undef
ccdlflags=' '
cccdlflags='-DPIC -fPIC'
lddlflags='-shared -L/usr/local/lib -fstack-protector-strong'
Characteristics of this binary (from libperl):
Compile-time options:
HAS_TIMES
MULTIPLICITY
PERLIO_LAYERS
PERL_COPY_ON_WRITE
PERL_DONT_CREATE_GVSV
PERL_IMPLICIT_CONTEXT
PERL_MALLOC_WRAP
PERL_OP_PARENT
PERL_PRESERVE_IVUV
PERL_USE_DEVEL
USE_64_BIT_ALL
USE_64_BIT_INT
USE_ITHREADS
USE_LARGE_FILES
USE_LOCALE
USE_LOCALE_COLLATE
USE_LOCALE_CTYPE
USE_LOCALE_NUMERIC
USE_LOCALE_TIME
USE_PERLIO
USE_PERL_ATOF
USE_REENTRANT_API
Locally applied patches:
Devel::PatchPerl 1.48
Built under dragonfly
Compiled at Mar 28 2018 13:15:19
%ENV:
PERL5LIB="/home/njh/.cpan/build/Mojo-Feed-0.16-4/blib/arch:/home/njh/.cpan/build/Mojo-Feed-0.16-4/blib/lib:/home/njh/.cpan/build/TimeDate-2.30-4/blib/arch:/home/njh/.cpan/build/TimeDate-2.30-4/blib/lib:/home/njh/.cpan/build/Mojolicious-7.72-4/blib/arch:/home/njh/.cpan/build/Mojolicious-7.72-4/blib/lib"
PERL5OPT=""
PERL5_CPANPLUS_IS_RUNNING="856996"
PERL5_CPAN_IS_RUNNING="856996"
PERLBREW_HOME="/home/njh/.perlbrew"
PERLBREW_MANPATH="/home/njh/perl5/perlbrew/perls/perl-5.27.9-thread/man"
PERLBREW_PATH="/home/njh/perl5/perlbrew/bin:/home/njh/perl5/perlbrew/perls/perl-5.27.9-thread/bin"
PERLBREW_PERL="perl-5.27.9-thread"
PERLBREW_ROOT="/home/njh/perl5/perlbrew"
PERLBREW_SHELLRC_VERSION="0.82"
PERLBREW_VERSION="0.82"
PERL_USE_UNSAFE_INC="1"
@INC:
/home/njh/.cpan/build/Mojo-Feed-0.16-4/blib/arch
/home/njh/.cpan/build/Mojo-Feed-0.16-4/blib/lib
/home/njh/.cpan/build/TimeDate-2.30-4/blib/arch
/home/njh/.cpan/build/TimeDate-2.30-4/blib/lib
/home/njh/.cpan/build/Mojolicious-7.72-4/blib/arch
/home/njh/.cpan/build/Mojolicious-7.72-4/blib/lib
/home/njh/perl5/perlbrew/perls/perl-5.27.9-thread/lib/site_perl/5.27.9/x86_64-dragonfly-thread-multi
/home/njh/perl5/perlbrew/perls/perl-5.27.9-thread/lib/site_perl/5.27.9
/home/njh/perl5/perlbrew/perls/perl-5.27.9-thread/lib/5.27.9/x86_64-dragonfly-thread-multi
/home/njh/perl5/perlbrew/perls/perl-5.27.9-thread/lib/5.27.9
.