IO-Stringy v2.113 Perl 5 v5.20.3 x86_64-linux-multi
- Status
- Pass
- From
- Nigel Horne
- Dist
-
IO-Stringy v2.113
- Platform
- Perl 5 v5.20.3 x86_64-linux-multi
- Date
- 2020-03-27 12:52:18
- ID
- ca82bb8a-7029-11ea-b6f9-801ee38f2568
This distribution has been tested as part of the CPAN Testers
project, supporting the Perl programming language. See
http://wiki.cpantesters.org/ for more information or email
questions to cpan-testers-discuss@perl.org
--
Dear Chase Whitener,
This is a computer-generated report for IO-Stringy-2.113
on perl 5.20.3, created by CPAN-Reporter-1.2018.
Thank you for uploading your work to CPAN. Congratulations!
All tests were successful.
Sections of this report:
* Tester comments
* Program output
* Prerequisites
* Environment and other context
------------------------------
TESTER COMMENTS
------------------------------
Additional comments from tester:
none provided
------------------------------
PROGRAM OUTPUT
------------------------------
Output from '/usr/bin/make test':
PERL_DL_NONLAZY=1 "/home/smoker/perl5/perlbrew/perls/perl-5.20.3-multi/bin/perl5.20.3" "-MExtUtils::Command::MM" "-MTest::Harness" "-e" "undef *Test::Harness::Switches; test_harness(0, 'blib/lib', 'blib/arch')" t/*.t
t/IO_InnerFile.t ....... ok
t/IO_Lines.t ........... ok
#
# Versions for all modules listed in MYMETA.json (including optional ones):
#
# === Configure Requires ===
#
# Module Want Have
# ------------------- ---- ----
# ExtUtils::MakeMaker any 7.44
#
# === Build Requires ===
#
# Module Want Have
# ------------------- ---- ----
# ExtUtils::MakeMaker any 7.44
#
# === Test Requires ===
#
# Module Want Have
# ------------------- ---- --------
# ExtUtils::MakeMaker any 7.44
# File::Basename any 2.85
# File::Spec any 3.48_01
# File::Temp any 0.2304
# FileHandle any 2.02
# IO::File any 1.16
# IO::Handle any 1.35
# Symbol any 1.07
# Test::More 0.88 1.302172
# Test::Tester any 1.302172
# strict any 1.08
# warnings any 1.23
#
# === Test Recommends ===
#
# Module Want Have
# ---------- -------- --------
# CPAN::Meta 2.120900 2.150010
#
# === Runtime Requires ===
#
# Module Want Have
# ---------- ---- -------
# Carp any 1.3301
# Exporter 5.57 5.71
# File::Spec any 3.48_01
# FileHandle any 2.02
# IO::File any 1.16
# IO::Handle any 1.35
# Symbol any 1.07
# overload any 1.22
# parent any 0.228
# strict any 1.08
# warnings any 1.23
#
t/00-report-prereqs.t .. ok
t/IO_Scalar.t .......... ok
t/IO_ScalarArray.t ..... ok
t/IO_WrapTie.t ......... ok
t/two.t ................ ok
t/simple.t ............. ok
All tests successful.
Files=8, Tests=127, 1 wallclock secs ( 0.06 usr 0.01 sys + 0.82 cusr 0.12 csys = 1.01 CPU)
Result: PASS
------------------------------
PREREQUISITES
------------------------------
Prerequisite modules loaded:
requires:
Module Need Have
------------------- ---- --------
Carp 0 1.3301
Exporter 5.57 5.71
File::Spec 0 3.48_01
FileHandle 0 2.02
IO::File 0 1.16
IO::Handle 0 1.35
overload 0 1.22
parent 0 0.228
strict 0 1.08
Symbol 0 1.07
warnings 0 1.23
build_requires:
Module Need Have
------------------- ---- --------
ExtUtils::MakeMaker 0 7.44
File::Basename 0 2.85
File::Spec 0 3.48_01
File::Temp 0 0.2304
FileHandle 0 2.02
IO::File 0 1.16
IO::Handle 0 1.35
strict 0 1.08
Symbol 0 1.07
Test::More 0.88 1.302172
Test::Tester 0 1.302172
warnings 0 1.23
configure_requires:
Module Need Have
------------------- ---- --------
ExtUtils::MakeMaker 0 7.44
------------------------------
ENVIRONMENT AND OTHER CONTEXT
------------------------------
Environment variables:
HARNESS_OPTIONS = c:j2
NONINTERACTIVE_TESTING = 1
PATH = /home/smoker/perl5/perlbrew/bin:/home/smoker/perl5/perlbrew/perls/perl-5.20.3-multi/bin:/usr/local/sbin:/usr/local/bin:/usr/sbin:/usr/bin:/sbin:/bin
PERL5LIB =
PERL5OPT =
PERL5_CPANPLUS_IS_RUNNING = 51115
PERL5_CPAN_IS_RUNNING = 51115
PERLBREW_HOME = /home/smoker/.perlbrew
PERLBREW_MANPATH = /home/smoker/perl5/perlbrew/perls/perl-5.20.3-multi/man
PERLBREW_PATH = /home/smoker/perl5/perlbrew/bin:/home/smoker/perl5/perlbrew/perls/perl-5.20.3-multi/bin
PERLBREW_PERL = perl-5.20.3-multi
PERLBREW_ROOT = /home/smoker/perl5/perlbrew
PERLBREW_SHELLRC_VERSION = 0.88
PERLBREW_VERSION = 0.88
PERL_MM_USE_DEFAULT = 1
PERL_USE_UNSAFE_INC = 1
SHELL = /bin/bash
TMPDIR = /tmp
Perl special variables (and OS-specific diagnostics, for MSWin32):
$^X = /home/smoker/perl5/perlbrew/perls/perl-5.20.3-multi/bin/perl5.20.3
$UID/$EUID = 1000 / 1000
$GID = 1000
$EGID = 1000
Perl module toolchain versions installed:
Module Have
------------------- --------
CPAN 2.27
CPAN::Meta 2.150010
Cwd 3.48_01
ExtUtils::CBuilder 0.280217
ExtUtils::Command 7.44
ExtUtils::Install 2.06
ExtUtils::MakeMaker 7.44
ExtUtils::Manifest 1.70
ExtUtils::ParseXS 3.24
File::Spec 3.48_01
JSON n/a
JSON::PP 4.04
Module::Build 0.4231
Module::Signature n/a
Parse::CPAN::Meta 2.150010
Test::Harness 3.42
Test::More 1.302172
YAML 1.30
YAML::Syck 1.32
version 0.9909
--
Summary of my perl5 (revision 5 version 20 subversion 3) configuration:
Platform:
osname=linux, osvers=4.16.0-2-amd64, archname=x86_64-linux-multi
uname='linux e07649f040d1 4.16.0-2-amd64 #1 smp debian 4.16.16-2 (2018-06-22) x86_64 gnulinux '
config_args='-de -Dprefix=/home/smoker/perl5/perlbrew/perls/perl-5.20.3-multi -Dusedevel -Dusemultiplicity -Accflags=-O2 -pipe -Wall -Wextra -mtune=native -march=native -Aeval:scriptdir=/home/smoker/perl5/perlbrew/perls/perl-5.20.3-multi/bin'
hint=recommended, useposix=true, d_sigaction=define
useithreads=undef, usemultiplicity=define
use64bitint=define, use64bitall=define, uselongdouble=undef
usemymalloc=n, bincompat5005=undef
Compiler:
cc='cc', ccflags ='-O2 -pipe -Wall -Wextra -mtune=native -march=native -fwrapv -fno-strict-aliasing -fstack-protector -I/usr/local/include -D_LARGEFILE_SOURCE -D_FILE_OFFSET_BITS=64',
optimize='-O2',
cppflags='-O2 -pipe -Wall -Wextra -mtune=native -march=native -fwrapv -fno-strict-aliasing -fstack-protector -I/usr/local/include'
ccversion='', gccversion='6.3.0 20170516', gccosandvers=''
intsize=4, longsize=8, ptrsize=8, doublesize=8, byteorder=12345678
d_longlong=define, longlongsize=8, d_longdbl=define, longdblsize=16
ivtype='long', ivsize=8, nvtype='double', nvsize=8, Off_t='off_t', lseeksize=8
alignbytes=8, prototype=define
Linker and Libraries:
ld='cc', ldflags =' -fstack-protector -L/usr/local/lib'
libpth=/usr/local/lib /usr/lib/gcc/x86_64-linux-gnu/6/include-fixed /usr/include/x86_64-linux-gnu /usr/lib /lib/x86_64-linux-gnu /lib/../lib /usr/lib/x86_64-linux-gnu /usr/lib/../lib /lib
libs=-lpthread -lnsl -ldl -lm -lcrypt -lutil -lc
perllibs=-lpthread -lnsl -ldl -lm -lcrypt -lutil -lc
libc=libc-2.24.so, so=so, useshrplib=false, libperl=libperl.a
gnulibc_version='2.24'
Dynamic Linking:
dlsrc=dl_dlopen.xs, dlext=so, d_dlsymun=undef, ccdlflags='-Wl,-E'
cccdlflags='-fPIC', lddlflags='-shared -O2 -L/usr/local/lib -fstack-protector'
Characteristics of this binary (from libperl):
Compile-time options: HAS_TIMES MULTIPLICITY PERLIO_LAYERS
PERL_DONT_CREATE_GVSV
PERL_HASH_FUNC_ONE_AT_A_TIME_HARD
PERL_IMPLICIT_CONTEXT PERL_MALLOC_WRAP
PERL_NEW_COPY_ON_WRITE PERL_PRESERVE_IVUV
PERL_USE_DEVEL USE_64_BIT_ALL USE_64_BIT_INT
USE_LARGE_FILES USE_LOCALE USE_LOCALE_COLLATE
USE_LOCALE_CTYPE USE_LOCALE_NUMERIC USE_PERLIO
USE_PERL_ATOF
Locally applied patches:
Devel::PatchPerl 1.90
Built under linux
Compiled at Mar 27 2020 12:29:07
%ENV:
PERL5LIB=""
PERL5OPT=""
PERL5_CPANPLUS_IS_RUNNING="51115"
PERL5_CPAN_IS_RUNNING="51115"
PERLBREW_HOME="/home/smoker/.perlbrew"
PERLBREW_MANPATH="/home/smoker/perl5/perlbrew/perls/perl-5.20.3-multi/man"
PERLBREW_PATH="/home/smoker/perl5/perlbrew/bin:/home/smoker/perl5/perlbrew/perls/perl-5.20.3-multi/bin"
PERLBREW_PERL="perl-5.20.3-multi"
PERLBREW_ROOT="/home/smoker/perl5/perlbrew"
PERLBREW_SHELLRC_VERSION="0.88"
PERLBREW_VERSION="0.88"
PERL_MM_USE_DEFAULT="1"
PERL_USE_UNSAFE_INC="1"
@INC:
/home/smoker/perl5/perlbrew/perls/perl-5.20.3-multi/lib/site_perl/5.20.3/x86_64-linux-multi
/home/smoker/perl5/perlbrew/perls/perl-5.20.3-multi/lib/site_perl/5.20.3
/home/smoker/perl5/perlbrew/perls/perl-5.20.3-multi/lib/5.20.3/x86_64-linux-multi
/home/smoker/perl5/perlbrew/perls/perl-5.20.3-multi/lib/5.20.3
.