Net-HTTP v6.17 Perl 5 v5.27.11 OpenBSD.amd64-openbsd-thread-multi
- Status
- Pass
- From
- Carlos Guevara
- Dist
-
Net-HTTP v6.17
- Platform
- Perl 5 v5.27.11 OpenBSD.amd64-openbsd-thread-multi
- Date
- 2018-03-25 05:17:19
- ID
- ca91abd4-2feb-11e8-b17c-c76c11c5b90b
This distribution has been tested as part of the CPAN Testers
project, supporting the Perl programming language. See
http://wiki.cpantesters.org/ for more information or email
questions to cpan-testers-discuss@perl.org
--
Dear Olaf Alders,
This is a computer-generated report for Net-HTTP-6.17
on perl 5.27.11, created by CPAN-Reporter-1.2018.
Thank you for uploading your work to CPAN. Congratulations!
All tests were successful.
Sections of this report:
* Tester comments
* Program output
* Prerequisites
* Environment and other context
------------------------------
TESTER COMMENTS
------------------------------
Additional comments from tester:
none provided
------------------------------
PROGRAM OUTPUT
------------------------------
Output from '/usr/bin/make test':
PERL_DL_NONLAZY=1 "/home/cpan/bin/perl-blead/bin/perl5.27.11" "-MExtUtils::Command::MM" "-MTest::Harness" "-e" "undef *Test::Harness::Switches; test_harness(0, 'blib/lib', 'blib/arch')" t/*.t
#
# Versions for all modules listed in MYMETA.json (including optional ones):
#
# === Configure Requires ===
#
# Module Want Have
# ------------------- ---- ----
# ExtUtils::MakeMaker any 7.34
#
# === Configure Suggests ===
#
# Module Want Have
# -------- ------- -------
# JSON::PP 2.27300 2.97001
#
# === Build Requires ===
#
# Module Want Have
# ------------------- ---- ----
# ExtUtils::MakeMaker any 7.34
#
# === Test Requires ===
#
# Module Want Have
# ------------------- ---- --------
# Data::Dumper any 2.170
# ExtUtils::MakeMaker any 7.34
# File::Spec any 3.74
# IO::Select any 1.23
# Socket any 2.027
# Test::More any 1.302133
#
# === Test Recommends ===
#
# Module Want Have
# ---------- -------- --------
# CPAN::Meta 2.120900 2.150010
#
# === Runtime Requires ===
#
# Module Want Have
# ---------------------- ---- -----
# Carp any 1.49
# Compress::Raw::Zlib any 2.076
# IO::Socket::INET any 1.35
# IO::Uncompress::Gunzip any 2.074
# URI any 1.73
# base any 2.27
# strict any 1.11
# vars any 1.03
# warnings any 1.42
#
# === Runtime Suggests ===
#
# Module Want Have
# ----------------- ----- -------
# IO::Socket any 1.38
# IO::Socket::INET6 any missing
# IO::Socket::IP any 0.39
# IO::Socket::SSL 2.012 2.056
# Symbol any 1.08
#
t/00-report-prereqs.t .. ok
t/http-nb.t ............ ok
t/http.t ............... ok
t/live-https.t ......... ok
t/live.t ............... ok
t/rt-112313.t .......... ok
All tests successful.
Files=6, Tests=104, 30 wallclock secs ( 0.32 usr 0.49 sys + 2.27 cusr 1.99 csys = 5.07 CPU)
Result: PASS
------------------------------
PREREQUISITES
------------------------------
Prerequisite modules loaded:
requires:
Module Need Have
---------------------- -------- --------
base 0 2.27
Carp 0 1.49
Compress::Raw::Zlib 0 2.076
IO::Socket::INET 0 1.35
IO::Uncompress::Gunzip 0 2.074
perl 5.006002 5.027011
strict 0 1.11
URI 0 1.73
vars 0 1.03
warnings 0 1.42
build_requires:
Module Need Have
---------------------- -------- --------
Data::Dumper 0 2.170
ExtUtils::MakeMaker 0 7.34
File::Spec 0 3.74
IO::Select 0 1.23
Socket 0 2.027
Test::More 0 1.302133
configure_requires:
Module Need Have
---------------------- -------- --------
ExtUtils::MakeMaker 0 7.34
------------------------------
ENVIRONMENT AND OTHER CONTEXT
------------------------------
Environment variables:
LC_ALL = C
NONINTERACTIVE_TESTING = 1
PATH = /home/cpan/bin/perl-blead/bin:/home/cpan/bin/perl-blead/bin:/home/cpan/bin:/home/cpan/bin:/bin:/sbin:/usr/bin:/usr/sbin:/usr/X11R6/bin:/usr/local/bin:/usr/local/sbin:/usr/games:.
PERL5LIB =
PERL5OPT =
PERL5_CPANPLUS_IS_RUNNING = 88901
PERL5_CPAN_IS_RUNNING = 88901
PERL_MM_USE_DEFAULT = 1
PERL_USE_UNSAFE_INC = 1
PERL_VERSION = blead
SHELL = /usr/local/bin/bash
TERM = screen
TMPDIR = /home/cpan/tmp
Perl special variables (and OS-specific diagnostics, for MSWin32):
$^X = /home/cpan/bin/perl-blead/bin/perl5.27.11
$UID/$EUID = 1002 / 1002
$GID = 1002 1002
$EGID = 1002 1002
Perl module toolchain versions installed:
Module Have
------------------- --------
CPAN 2.20
CPAN::Meta 2.150010
Cwd 3.74
ExtUtils::CBuilder 0.280230
ExtUtils::Command 7.34
ExtUtils::Install 2.14
ExtUtils::MakeMaker 7.34
ExtUtils::Manifest 1.70
ExtUtils::ParseXS 3.39
File::Spec 3.74
JSON n/a
JSON::PP 2.97001
Module::Build 0.4224
Module::Signature n/a
Parse::CPAN::Meta 2.150010
Test::Harness 3.42
Test::More 1.302133
YAML n/a
YAML::Syck n/a
version 0.9918
--
Summary of my perl5 (revision 5 version 27 subversion 11) configuration:
Commit id: 811612a11efb1ebc131370e8238d3512779354f8
Platform:
osname=openbsd
osvers=6.2
archname=OpenBSD.amd64-openbsd-thread-multi
uname='openbsd cjg-openbsd6 6.2 generic#7 amd64 '
config_args='-des -Dprefix=~/bin/perl-blead -Dscriptdir=~/bin/perl-blead/bin -Dusedevel -Duse64bitall -Duseithreads'
hint=recommended
useposix=true
d_sigaction=define
useithreads=define
usemultiplicity=define
use64bitint=define
use64bitall=define
uselongdouble=undef
usemymalloc=n
default_inc_excludes_dot=define
bincompat5005=undef
Compiler:
cc='cc'
ccflags ='-pthread -fno-strict-aliasing -pipe -fstack-protector-strong -I/usr/local/include -D_FORTIFY_SOURCE=2'
optimize='-O2'
cppflags='-pthread -fno-strict-aliasing -pipe -fstack-protector-strong -I/usr/local/include'
ccversion=''
gccversion='4.2.1 Compatible OpenBSD Clang 4.0.0 (tags/RELEASE_400/final)'
gccosandvers=''
intsize=4
longsize=8
ptrsize=8
doublesize=8
byteorder=12345678
doublekind=3
d_longlong=define
longlongsize=8
d_longdbl=define
longdblsize=16
longdblkind=3
ivtype='long'
ivsize=8
nvtype='double'
nvsize=8
Off_t='off_t'
lseeksize=8
alignbytes=8
prototype=define
Linker and Libraries:
ld='cc'
ldflags ='-pthread -Wl,-E -fstack-protector-strong -L/usr/local/lib'
libpth=/usr/lib /usr/local/lib
libs=-lpthread -lm -lutil -lc
perllibs=-lpthread -lm -lutil -lc
libc=/usr/lib/libc.so.90.0
so=so
useshrplib=false
libperl=libperl.a
gnulibc_version=''
Dynamic Linking:
dlsrc=dl_dlopen.xs
dlext=so
d_dlsymun=undef
ccdlflags=' '
cccdlflags='-DPIC -fPIC '
lddlflags='-shared -fPIC -L/usr/local/lib -fstack-protector-strong'
Characteristics of this binary (from libperl):
Compile-time options:
HAS_TIMES
MULTIPLICITY
PERLIO_LAYERS
PERL_COPY_ON_WRITE
PERL_DONT_CREATE_GVSV
PERL_IMPLICIT_CONTEXT
PERL_MALLOC_WRAP
PERL_OP_PARENT
PERL_PRESERVE_IVUV
PERL_USE_DEVEL
USE_64_BIT_ALL
USE_64_BIT_INT
USE_ITHREADS
USE_LARGE_FILES
USE_LOCALE
USE_LOCALE_COLLATE
USE_LOCALE_CTYPE
USE_LOCALE_NUMERIC
USE_LOCALE_TIME
USE_PERLIO
USE_PERL_ATOF
USE_REENTRANT_API
Built under openbsd
Compiled at Mar 24 2018 17:58:23
%ENV:
PERL5LIB=""
PERL5OPT=""
PERL5_CPANPLUS_IS_RUNNING="88901"
PERL5_CPAN_IS_RUNNING="88901"
PERL_MM_USE_DEFAULT="1"
PERL_USE_UNSAFE_INC="1"
PERL_VERSION="blead"
@INC:
/home/cpan/bin/perl-blead/lib/site_perl/5.27.11/OpenBSD.amd64-openbsd-thread-multi
/home/cpan/bin/perl-blead/lib/site_perl/5.27.11
/home/cpan/bin/perl-blead/lib/5.27.11/OpenBSD.amd64-openbsd-thread-multi
/home/cpan/bin/perl-blead/lib/5.27.11
.