Back
From: metabase:user:0f13baa8-6c26-1014-a8ff-70f9d801d268
Subject: PASS Object-InsideOut-4.04 v5.14.4
Date: 2017-06-08T13:10:01Z
This distribution has been tested as part of the CPAN Testers
project, supporting the Perl programming language. See
http://wiki.cpantesters.org/ for more information or email
questions to cpan-testers-discuss@perl.org
--
Dear Jerry D. Hedden,
This is a computer-generated report for Object-InsideOut-4.04
on perl 5.14.4, created by CPAN-Reporter-1.2018.
Thank you for uploading your work to CPAN. Congratulations!
All tests were successful.
Sections of this report:
* Tester comments
* Program output
* Prerequisites
* Environment and other context
------------------------------
TESTER COMMENTS
------------------------------
Additional comments from tester:
none provided
------------------------------
PROGRAM OUTPUT
------------------------------
Output from 'C:\Strawberry\perl\bin\perl.exe ./Build test':
# Testing Object::InsideOut 4.04
t\00-load.t ................. ok
t\01-basic.t ................ ok
t\01a-basic.t ............... ok
t\02-auto.t ................. ok
t\03-threads.t .............. ok
t\03a-threads.t ............. ok
t\04-shared.t ............... ok
t\04a-shared.t .............. ok
t\05-require.t .............. ok
t\05a-require.t ............. ok
t\06-id.t ................... ok
t\07-dump.t ................. ok
t\07a-dump.t ................ ok
t\08-access.t ............... ok
t\09-chained.t .............. ok
t\09a-chained.t ............. ok
t\09b-chained.t ............. ok
t\10-cumulative.t ........... ok
t\10a-cumulative.t .......... ok
t\10b-cumulative.t .......... ok
t\11-coercion.t ............. ok
t\12-super.t ................ ok
t\13-pump.t ................. ok
t\14-auto_cc.t .............. ok
t\15-type.t ................. ok
t\15a-type.t ................ ok
t\16-return.t ............... ok
t\17-dynamic.t .............. ok
t\18-inherit.t .............. ok
t\18a-inherit.t ............. ok
t\19-storable.t ............. ok
t\20-clone.t ................ ok
t\21-import.t ............... ok
t\22-import.t ............... ok
t\23-weak.t ................. ok
t\24-preproc.t .............. ok
t\25-access.t ............... ok
t\26-preinit.t .............. ok
t\27-exception.t ............ ok
t\28-lvalue.t ............... ok
t\29-non_lvalue.t ........... ok
t\30-all.t .................. ok
t\31-attr.t ................. ok
t\32-meta.t ................. ok
t\33-hash_only.t ............ ok
t\34-secure.t ............... skipped: Math::Random::MT::Auto not available
t\34a-secure.t .............. skipped: Math::Random::MT::Auto not available
t\35-add_class.t ............ ok
t\36-require.t .............. ok
t\37-class_perm.t ........... ok
t\38-combined.t ............. ok
t\39-fork.t ................. ok
t\40-normalize.t ............ ok
t\41-def.t .................. ok
t\42-sh_obj.t ............... ok
t\43-overload.t ............. ok
t\44-data.t ................. ok
t\45-unused.t ............... ok
t\46-singleton.t ............ ok
t\46a-singleton.t ........... ok
t\47-sh_reuse.t ............. ok
t\48-not_shared.t ........... ok
t\49-delegators.t ........... ok
t\49a-delegators-non-OIO.t .. ok
t\50-active_defs.t .......... ok
t\51-readonly.t ............. ok
t\99-pod.t .................. skipped: Module maintainer tests
All tests successful.
Files=67, Tests=1267, 36 wallclock secs ( 0.84 usr + 0.36 sys = 1.20 CPU)
Result: PASS
------------------------------
PREREQUISITES
------------------------------
Prerequisite modules loaded:
requires:
Module Need Have
------------------- ------ --------
attributes 0 0.14
B 0 1.29
Config 0 0
Data::Dumper 0 2.161
Exception::Class 1.22 1.40
overload 0 1.13
perl v5.6.0 5.014004
Scalar::Util 1.47 1.47
strict 0 1.04
warnings 0 1.12
build_requires:
Module Need Have
------------------- ------ --------
Test::More 0.5 1.302085
configure_requires:
Module Need Have
------------------- ------ --------
ExtUtils::MakeMaker 0 7.29_01
------------------------------
ENVIRONMENT AND OTHER CONTEXT
------------------------------
Environment variables:
COMSPEC = C:\windows\system32\cmd.exe
NONINTERACTIVE_TESTING = 1
NUMBER_OF_PROCESSORS = 4
PATH = C:\home\heaven\perl5\bin;C:\windows\system32;C:\windows;C:\windows\System32\Wbem;C:\windows\System32\WindowsPowerShell\v1.0\;C:\Strawberry\c\bin;C:\Strawberry\perl\site\bin;C:\Strawberry\perl\bin
PERL5LIB = C:\home\heaven\perl5\lib\perl5
PERL5OPT =
PERL5_CPANPLUS_IS_RUNNING = 7940
PERL5_CPAN_IS_RUNNING = 7940
PERL_LOCAL_LIB_ROOT = C:\home\heaven\perl5
PERL_MB_OPT = --install_base "C:\\home\\heaven\\perl5"
PERL_MM_OPT = INSTALL_BASE=C:\\home\\heaven\\perl5
PERL_MM_USE_DEFAULT = 1
PROCESSOR_IDENTIFIER = x86 Family 6 Model 37 Stepping 5, GenuineIntel
TEMP = C:\Users\user\AppData\Local\Temp
TERM = dumb
Perl special variables (and OS-specific diagnostics, for MSWin32):
$^X = C:\Strawberry\perl\bin\perl.exe
$UID/$EUID = 0 / 0
$GID = 0
$EGID = 0
Win32::GetOSName = Win7
Win32::GetOSVersion = Service Pack 1, 6, 1, 7601, 2, 1, 0, 256, 1
Win32::FsType = NTFS
Win32::IsAdminUser = 0
Perl module toolchain versions installed:
Module Have
------------------- --------
CPAN 2.16
CPAN::Meta 2.143240
Cwd 3.40
ExtUtils::CBuilder 0.280205
ExtUtils::Command 7.29_01
ExtUtils::Install 2.14
ExtUtils::MakeMaker 7.29_01
ExtUtils::Manifest 1.70
ExtUtils::ParseXS 3.30
File::Spec 3.40
JSON 2.94
JSON::PP 2.94
Module::Build 0.4220
Module::Signature 0.70
Parse::CPAN::Meta 1.4414
Test::Harness 3.36
Test::More 1.302085
YAML 0.84
YAML::Syck 1.29
version 0.9918
--
Summary of my perl5 (revision 5 version 14 subversion 4) configuration:
Platform:
osname=MSWin32, osvers=4.0, archname=MSWin32-x86-multi-thread
uname='Win32 strawberry-perl 5.14.4.1 #1 Mon Mar 11 19:56:31 2013 i386'
config_args='undef'
hint=recommended, useposix=true, d_sigaction=undef
useithreads=define, usemultiplicity=define
useperlio=define, d_sfio=undef, uselargefiles=define, usesocks=undef
use64bitint=undef, use64bitall=undef, uselongdouble=undef
usemymalloc=n, bincompat5005=undef
Compiler:
cc='gcc', ccflags =' -s -O2 -DWIN32 -DPERL_TEXTMODE_SCRIPTS -DPERL_IMPLICIT_CONTEXT -DPERL_IMPLICIT_SYS -fno-strict-aliasing -mms-bitfields',
optimize='-s -O2',
cppflags='-DWIN32'
ccversion='', gccversion='4.6.3', gccosandvers=''
intsize=4, longsize=4, ptrsize=4, doublesize=8, byteorder=1234
d_longlong=undef, longlongsize=8, d_longdbl=define, longdblsize=12
ivtype='long', ivsize=4, nvtype='double', nvsize=8, Off_t='long long', lseeksize=8
alignbytes=8, prototype=define
Linker and Libraries:
ld='g++', ldflags ='-s -L"C:\Strawberry\perl\lib\CORE" -L"C:\Strawberry\c\lib"'
libpth=C:\Strawberry\c\lib C:\Strawberry\c\i686-w64-mingw32\lib
libs=-lmoldname -lkernel32 -luser32 -lgdi32 -lwinspool -lcomdlg32 -ladvapi32 -lshell32 -lole32 -loleaut32 -lnetapi32 -luuid -lws2_32 -lmpr -lwinmm -lversion -lodbc32 -lodbccp32 -lcomctl32
perllibs=-lmoldname -lkernel32 -luser32 -lgdi32 -lwinspool -lcomdlg32 -ladvapi32 -lshell32 -lole32 -loleaut32 -lnetapi32 -luuid -lws2_32 -lmpr -lwinmm -lversion -lodbc32 -lodbccp32 -lcomctl32
libc=, so=dll, useshrplib=true, libperl=libperl514.a
gnulibc_version=''
Dynamic Linking:
dlsrc=dl_win32.xs, dlext=dll, d_dlsymun=undef, ccdlflags=' '
cccdlflags=' ', lddlflags='-mdll -s -L"C:\Strawberry\perl\lib\CORE" -L"C:\Strawberry\c\lib"'
Characteristics of this binary (from libperl):
Compile-time options: MULTIPLICITY PERL_DONT_CREATE_GVSV
PERL_IMPLICIT_CONTEXT PERL_IMPLICIT_SYS
PERL_MALLOC_WRAP PERL_PRESERVE_IVUV PL_OP_SLAB_ALLOC
USE_ITHREADS USE_LARGE_FILES USE_PERLIO
USE_PERL_ATOF
Built under MSWin32
Compiled at Mar 11 2013 20:02:09
%ENV:
PERL5LIB="C:\home\heaven\perl5\lib\perl5"
PERL5_CPANPLUS_IS_RUNNING="7940"
PERL5_CPAN_IS_RUNNING="7940"
PERL_LOCAL_LIB_ROOT="C:\home\heaven\perl5"
PERL_MB_OPT="--install_base "C:\\home\\heaven\\perl5""
PERL_MM_OPT="INSTALL_BASE=C:\\home\\heaven\\perl5"
PERL_MM_USE_DEFAULT="1"
@INC:
C:\home\heaven\perl5\lib\perl5/MSWin32-x86-multi-thread
C:\home\heaven\perl5\lib\perl5
C:/Strawberry/perl/site/lib
C:/Strawberry/perl/vendor/lib
C:/Strawberry/perl/lib
.