Report for Data-Schema-Schema-CPANMeta-0.09

Back
From: metabase:user:d2c9f356-b46f-11df-9a90-20a83c0b7757
Subject: PASS Data-Schema-Schema-CPANMeta-0.09 v5.15.5 SunOS/Solaris
Date: 2011-12-09T14:26:32Z

This distribution has been tested as part of the CPAN Testers
project, supporting the Perl programming language.  See
http://wiki.cpantesters.org/ for more information or email
questions to cpan-testers-discuss@perl.org


--
Dear Steven Haryanto,

This is a computer-generated report for Data-Schema-Schema-CPANMeta-0.09
on perl 5.15.5, created by CPAN-Reporter-1.2002.

Thank you for uploading your work to CPAN.  Congratulations!
All tests were successful.

Sections of this report:

    * Tester comments
    * Program output
    * Prerequisites
    * Environment and other context

------------------------------
TESTER COMMENTS
------------------------------

Additional comments from tester:

this report is from an automated smoke testing program
and was not reviewed by a human for accuracy

------------------------------
PROGRAM OUTPUT
------------------------------

Output from './Build test':

Name "Exporter::BUILD" used only once: possible typo at /export/home/cpant4/perl5/lib/site_perl/5.15.5/Moo/_Utils.pm line 3.
t/00-load.t ............... ok
t/01-basics-1.4.t ......... ok
t/01-basics-2.t ........... ok
Name "Exporter::BUILD" used only once: possible typo at /export/home/cpant4/perl5/lib/site_perl/5.15.5/Moo/_Utils.pm line 3.
t/02-load_from_ds.t ....... ok
Name "Exporter::BUILD" used only once: possible typo at /export/home/cpant4/perl5/lib/site_perl/5.15.5/Moo/_Utils.pm line 3.
t/02-meta_spec_ok.t ....... ok
Name "Exporter::BUILD" used only once: possible typo at /export/home/cpant4/perl5/lib/site_perl/5.15.5/Moo/_Utils.pm line 3.
t/03-meta_yaml_ok.t ....... ok
Name "Exporter::BUILD" used only once: possible typo at /export/home/cpant4/perl5/lib/site_perl/5.15.5/Moo/_Utils.pm line 3.
t/04-meta_json_ok.t ....... ok
t/release-pod-coverage.t .. skipped: these tests are for release candidate testing
t/release-pod-syntax.t .... skipped: these tests are for release candidate testing
All tests successful.
Files=9, Tests=158,  9 wallclock secs ( 0.19 usr  0.11 sys +  7.19 cusr  1.11 csys =  8.60 CPU)
Result: PASS

------------------------------
PREREQUISITES
------------------------------

Prerequisite modules loaded:

requires:

    Module        Need     Have    
    ------------- -------- --------
    Data::Schema  0.13     0.133   
    File::Slurp   0        9999.19 
    FindBin       0        1.51    
    JSON          0        2.53    
    perl          5.010000 5.015005
    Storable      0        2.33    
    Test::More    0        0.98    
    YAML::Syck    0        1.19    

configure_requires:

    Module        Need     Have    
    ------------- -------- --------
    Module::Build 0.35     0.39_01 


------------------------------
ENVIRONMENT AND OTHER CONTEXT
------------------------------

Environment variables:

    AUTOMATED_TESTING = 1
    LANG = C
    LD_LIBRARY_PATH = /usr/local/lib:
    PATH = /export/home/cpant4/perl5/bin:/usr/local/bin:/usr/bin
    PERL5LIB = /export/home/cpant4/.cpan/build/Data-Schema-0.133-fLES_4/blib/arch:/export/home/cpant4/.cpan/build/Data-Schema-0.133-fLES_4/blib/lib:/export/home/cpant4/.cpan/build/Data-ModeMerge-0.27-oJgiQ2/blib/arch:/export/home/cpant4/.cpan/build/Data-ModeMerge-0.27-oJgiQ2/blib/lib:/export/home/cpant4/.cpan/build/Test-Aggregate-0.364-P0UT76/blib/arch:/export/home/cpant4/.cpan/build/Test-Aggregate-0.364-P0UT76/blib/lib:/export/home/cpant4/.cpan/build/Clone-Any-1.01-2biTk1/blib/arch:/export/home/cpant4/.cpan/build/Clone-Any-1.01-2biTk1/blib/lib:/export/home/cpant4/.cpan/build/Devel-UseAnyFunc-1-4TjIR3/blib/arch:/export/home/cpant4/.cpan/build/Devel-UseAnyFunc-1-4TjIR3/blib/lib
    PERL5OPT = 
    PERL5_CPANPLUS_IS_RUNNING = 21111
    PERL5_CPAN_IS_RUNNING = 21111
    PERL5_CPAN_IS_RUNNING_IN_RECURSION = 19504,21111
    PERL_CR_SMOKER_CURRENT = Data-Schema-Schema-CPANMeta-0.09
    PERL_EXTUTILS_AUTOINSTALL = --defaultdeps
    PERL_MM_USE_DEFAULT = 1
    SHELL = /bin/bash
    TERM = xterm

Perl special variables (and OS-specific diagnostics, for MSWin32):

    $^X = /export/home/cpant4/perl5/bin/perl5.15.5
    $UID/$EUID = 104 / 104
    $GID = 1 1
    $EGID = 1 1

Perl module toolchain versions installed:

    Module              Have    
    ------------------- --------
    CPAN                1.9800  
    CPAN::Meta          2.112621
    Cwd                 3.37    
    ExtUtils::CBuilder  0.280204
    ExtUtils::Command   1.17    
    ExtUtils::Install   1.57    
    ExtUtils::MakeMaker 6.63_02 
    ExtUtils::Manifest  1.60    
    ExtUtils::ParseXS   3.05    
    File::Spec          3.34    
    JSON                2.53    
    JSON::PP            2.27200 
    Module::Build       0.39_01 
    Module::Signature   n/a     
    Parse::CPAN::Meta   1.4401  
    Test::Harness       3.23    
    Test::More          0.98    
    YAML                0.77    
    YAML::Syck          1.19    
    version             0.95    


--

Summary of my perl5 (revision 5 version 15 subversion 5) configuration:
   
  Platform:
    osname=solaris, osvers=2.10, archname=i86pc-solaris-64int
    uname='sunos vmrz0046 5.10 generic_141445-09 i86pc i386 i86pc solaris '
    config_args='-Dcc=gcc -Dprefix=~/perl5 -Duse64bitint -Dusedevel -d'
    hint=recommended, useposix=true, d_sigaction=define
    useithreads=undef, usemultiplicity=undef
    useperlio=define, d_sfio=undef, uselargefiles=define, usesocks=undef
    use64bitint=define, use64bitall=undef, uselongdouble=undef
    usemymalloc=n, bincompat5005=undef
  Compiler:
    cc='gcc', ccflags ='-DPTR_IS_LONG -fno-strict-aliasing -pipe -I/usr/local/include -D_LARGEFILE_SOURCE -D_FILE_OFFSET_BITS=64 -DPERL_USE_SAFE_PUTENV',
    optimize='-O',
    cppflags='-DPTR_IS_LONG -fno-strict-aliasing -pipe -I/usr/local/include'
    ccversion='', gccversion='3.4.6', gccosandvers='solaris2.10'
    intsize=4, longsize=4, ptrsize=4, doublesize=8, byteorder=12345678
    d_longlong=define, longlongsize=8, d_longdbl=define, longdblsize=12
    ivtype='long long', ivsize=8, nvtype='double', nvsize=8, Off_t='off_t', lseeksize=8
    alignbytes=4, prototype=define
  Linker and Libraries:
    ld='gcc', ldflags =' -L/usr/local/lib '
    libpth=/usr/local/lib /usr/lib /usr/ccs/lib
    libs=-lsocket -lnsl -lgdbm -ldl -lm -lc
    perllibs=-lsocket -lnsl -ldl -lm -lc
    libc=/lib/libc.so, so=so, useshrplib=false, libperl=libperl.a
    gnulibc_version=''
  Dynamic Linking:
    dlsrc=dl_dlopen.xs, dlext=so, d_dlsymun=undef, ccdlflags=' '
    cccdlflags='-fPIC', lddlflags='-G -L/usr/local/lib'


Characteristics of this binary (from libperl): 
  Compile-time options: HAS_TIMES PERLIO_LAYERS PERL_DONT_CREATE_GVSV
                        PERL_MALLOC_WRAP PERL_PRESERVE_IVUV PERL_USE_DEVEL
                        PERL_USE_SAFE_PUTENV USE_64_BIT_INT USE_LARGE_FILES
                        USE_LOCALE USE_LOCALE_COLLATE USE_LOCALE_CTYPE
                        USE_LOCALE_NUMERIC USE_PERLIO USE_PERL_ATOF
  Built under solaris
  Compiled at Nov 28 2011 11:34:47
  %ENV:
    PERL5LIB="/export/home/cpant4/.cpan/build/Data-Schema-0.133-fLES_4/blib/arch:/export/home/cpant4/.cpan/build/Data-Schema-0.133-fLES_4/blib/lib:/export/home/cpant4/.cpan/build/Data-ModeMerge-0.27-oJgiQ2/blib/arch:/export/home/cpant4/.cpan/build/Data-ModeMerge-0.27-oJgiQ2/blib/lib:/export/home/cpant4/.cpan/build/Test-Aggregate-0.364-P0UT76/blib/arch:/export/home/cpant4/.cpan/build/Test-Aggregate-0.364-P0UT76/blib/lib:/export/home/cpant4/.cpan/build/Clone-Any-1.01-2biTk1/blib/arch:/export/home/cpant4/.cpan/build/Clone-Any-1.01-2biTk1/blib/lib:/export/home/cpant4/.cpan/build/Devel-UseAnyFunc-1-4TjIR3/blib/arch:/export/home/cpant4/.cpan/build/Devel-UseAnyFunc-1-4TjIR3/blib/lib"
    PERL5OPT=""
    PERL5_CPANPLUS_IS_RUNNING="21111"
    PERL5_CPAN_IS_RUNNING="21111"
    PERL5_CPAN_IS_RUNNING_IN_RECURSION="19504,21111"
    PERL_CR_SMOKER_CURRENT="Data-Schema-Schema-CPANMeta-0.09"
    PERL_EXTUTILS_AUTOINSTALL="--defaultdeps"
    PERL_MM_USE_DEFAULT="1"
  @INC:
    /export/home/cpant4/.cpan/build/Data-Schema-0.133-fLES_4/blib/arch
    /export/home/cpant4/.cpan/build/Data-Schema-0.133-fLES_4/blib/lib
    /export/home/cpant4/.cpan/build/Data-ModeMerge-0.27-oJgiQ2/blib/arch
    /export/home/cpant4/.cpan/build/Data-ModeMerge-0.27-oJgiQ2/blib/lib
    /export/home/cpant4/.cpan/build/Test-Aggregate-0.364-P0UT76/blib/arch
    /export/home/cpant4/.cpan/build/Test-Aggregate-0.364-P0UT76/blib/lib
    /export/home/cpant4/.cpan/build/Clone-Any-1.01-2biTk1/blib/arch
    /export/home/cpant4/.cpan/build/Clone-Any-1.01-2biTk1/blib/lib
    /export/home/cpant4/.cpan/build/Devel-UseAnyFunc-1-4TjIR3/blib/arch
    /export/home/cpant4/.cpan/build/Devel-UseAnyFunc-1-4TjIR3/blib/lib
    /export/home/cpant4/perl5/lib/site_perl/5.15.5/i86pc-solaris-64int
    /export/home/cpant4/perl5/lib/site_perl/5.15.5
    /export/home/cpant4/perl5/lib/5.15.5/i86pc-solaris-64int
    /export/home/cpant4/perl5/lib/5.15.5
    /export/home/cpant4/perl5/lib/site_perl
    .