SQL-Translator v1.62 Perl 5 v5.35.11 darwin-2level

Status
Pass
From
John SJ Anderson
Dist
SQL-Translator v1.62
Platform
Perl 5 v5.35.11 darwin-2level
Date
2022-05-04 15:35:14
ID
cae72c02-cbbf-11ec-940b-5e5c25e64d5c
This distribution has been tested as part of the CPAN Testers
project, supporting the Perl programming language.  See
http://wiki.cpantesters.org/ for more information or email
questions to cpan-testers-discuss@perl.org


--
Dear ILMARI,

This is a computer-generated report for SQL-Translator-1.62
on perl 5.35.11, created by App::cpanminus::reporter 0.17 (1.7046).

Thank you for uploading your work to CPAN.  Congratulations!
All tests were successful.

Sections of this report:

    * Tester comments
    * Program output
    * Prerequisites
    * Environment and other context

------------------------------
TESTER COMMENTS
------------------------------

Additional comments from tester:

none provided

------------------------------
PROGRAM OUTPUT
------------------------------

Output from '':

Building and testing SQL-Translator-1.62
cp share/DiaUml/uml-class-all.tt2 blib/lib/auto/share/dist/SQL-Translator/DiaUml/uml-class-all.tt2
cp share/DiaUml/diagram.tt2 blib/lib/auto/share/dist/SQL-Translator/DiaUml/diagram.tt2
cp share/DiaUml/uml-attribute.tt2 blib/lib/auto/share/dist/SQL-Translator/DiaUml/uml-attribute.tt2
cp share/DiaUml/schema.tt2 blib/lib/auto/share/dist/SQL-Translator/DiaUml/schema.tt2
cp share/DiaUml/uml-class-end.tt2 blib/lib/auto/share/dist/SQL-Translator/DiaUml/uml-class-end.tt2
cp share/PrecompiledParsers/Parse/RecDescent/DDL/SQLT/README blib/lib/auto/share/dist/SQL-Translator/PrecompiledParsers/Parse/RecDescent/DDL/SQLT/README
cp share/DiaUml/uml-class.tt2 blib/lib/auto/share/dist/SQL-Translator/DiaUml/uml-class.tt2
cp share/DiaUml/layer.tt2 blib/lib/auto/share/dist/SQL-Translator/DiaUml/layer.tt2
cp share/DiaUml/uml-class-start.tt2 blib/lib/auto/share/dist/SQL-Translator/DiaUml/uml-class-start.tt2
cp lib/SQL/Translator/Producer/TTSchema.pm blib/lib/SQL/Translator/Producer/TTSchema.pm
cp lib/SQL/Translator/Producer/POD.pm blib/lib/SQL/Translator/Producer/POD.pm
cp lib/SQL/Translator/Producer/SQLite.pm blib/lib/SQL/Translator/Producer/SQLite.pm
cp lib/SQL/Translator/Producer/SQLServer.pm blib/lib/SQL/Translator/Producer/SQLServer.pm
cp lib/SQL/Translator/Generator/DDL/MySQL.pm blib/lib/SQL/Translator/Generator/DDL/MySQL.pm
cp lib/SQL/Translator/Producer/TT/Base.pm blib/lib/SQL/Translator/Producer/TT/Base.pm
cp lib/SQL/Translator/Schema/Field.pm blib/lib/SQL/Translator/Schema/Field.pm
cp lib/SQL/Translator/Parser/DBI/Oracle.pm blib/lib/SQL/Translator/Parser/DBI/Oracle.pm
cp lib/SQL/Translator/Role/Debug.pm blib/lib/SQL/Translator/Role/Debug.pm
cp lib/SQL/Translator/Schema/Role/Compare.pm blib/lib/SQL/Translator/Schema/Role/Compare.pm
cp lib/SQL/Translator/Schema/Procedure.pm blib/lib/SQL/Translator/Schema/Procedure.pm
cp lib/SQL/Translator/Parser/DBI/SQLite.pm blib/lib/SQL/Translator/Parser/DBI/SQLite.pm
cp lib/SQL/Translator/Filter/DefaultExtra.pm blib/lib/SQL/Translator/Filter/DefaultExtra.pm
cp lib/SQL/Translator/Parser/DB2/Grammar.pm blib/lib/SQL/Translator/Parser/DB2/Grammar.pm
cp lib/SQL/Translator/Parser/DBI.pm blib/lib/SQL/Translator/Parser/DBI.pm
cp lib/SQL/Translator/Parser/Access.pm blib/lib/SQL/Translator/Parser/Access.pm
cp lib/SQL/Translator/Parser/PostgreSQL.pm blib/lib/SQL/Translator/Parser/PostgreSQL.pm
cp lib/SQL/Translator/Schema/View.pm blib/lib/SQL/Translator/Schema/View.pm
cp lib/SQL/Translator/Schema/Role/Extra.pm blib/lib/SQL/Translator/Schema/Role/Extra.pm
cp lib/SQL/Translator/Parser/JSON.pm blib/lib/SQL/Translator/Parser/JSON.pm
cp lib/SQL/Translator/Parser.pm blib/lib/SQL/Translator/Parser.pm
cp lib/SQL/Translator/Schema/Table.pm blib/lib/SQL/Translator/Schema/Table.pm
cp lib/SQL/Translator/Manual.pod blib/lib/SQL/Translator/Manual.pod
cp lib/SQL/Translator/Parser/DBI/Sybase.pm blib/lib/SQL/Translator/Parser/DBI/Sybase.pm
cp lib/SQL/Translator/Generator/Role/Quote.pm blib/lib/SQL/Translator/Generator/Role/Quote.pm
cp lib/SQL/Translator/Schema/Object.pm blib/lib/SQL/Translator/Schema/Object.pm
cp lib/SQL/Translator/Diff.pm blib/lib/SQL/Translator/Diff.pm
cp lib/SQL/Translator/Producer/Latex.pm blib/lib/SQL/Translator/Producer/Latex.pm
cp lib/SQL/Translator/Parser/xSV.pm blib/lib/SQL/Translator/Parser/xSV.pm
cp lib/SQL/Translator/Schema/Constraint.pm blib/lib/SQL/Translator/Schema/Constraint.pm
cp lib/SQL/Translator/Parser/Sybase.pm blib/lib/SQL/Translator/Parser/Sybase.pm
cp lib/SQL/Translator/Parser/Oracle.pm blib/lib/SQL/Translator/Parser/Oracle.pm
cp lib/SQL/Translator/Producer/Oracle.pm blib/lib/SQL/Translator/Producer/Oracle.pm
cp lib/SQL/Translator/Producer/GraphViz.pm blib/lib/SQL/Translator/Producer/GraphViz.pm
cp lib/SQL/Translator/Producer/MySQL.pm blib/lib/SQL/Translator/Producer/MySQL.pm
cp lib/SQL/Translator/Schema/Index.pm blib/lib/SQL/Translator/Schema/Index.pm
cp lib/SQL/Translator/Role/Error.pm blib/lib/SQL/Translator/Role/Error.pm
cp lib/SQL/Translator/Generator/DDL/SQLServer.pm blib/lib/SQL/Translator/Generator/DDL/SQLServer.pm
cp lib/SQL/Translator/Producer/YAML.pm blib/lib/SQL/Translator/Producer/YAML.pm
cp lib/SQL/Translator/Parser/MySQL.pm blib/lib/SQL/Translator/Parser/MySQL.pm
cp lib/SQL/Translator/Parser/XML/SQLFairy.pm blib/lib/SQL/Translator/Parser/XML/SQLFairy.pm
cp lib/SQL/Translator.pm blib/lib/SQL/Translator.pm
cp lib/SQL/Translator/Schema/Constants.pm blib/lib/SQL/Translator/Schema/Constants.pm
cp lib/SQL/Translator/Producer/DB2.pm blib/lib/SQL/Translator/Producer/DB2.pm
cp lib/SQL/Translator/Parser/DBI/PostgreSQL.pm blib/lib/SQL/Translator/Parser/DBI/PostgreSQL.pm
cp lib/SQL/Translator/Producer.pm blib/lib/SQL/Translator/Producer.pm
cp lib/SQL/Translator/Producer/Diagram.pm blib/lib/SQL/Translator/Producer/Diagram.pm
cp lib/SQL/Translator/Producer/DiaUml.pm blib/lib/SQL/Translator/Producer/DiaUml.pm
cp lib/SQL/Translator/Filter/Globals.pm blib/lib/SQL/Translator/Filter/Globals.pm
cp lib/SQL/Translator/Producer/ClassDBI.pm blib/lib/SQL/Translator/Producer/ClassDBI.pm
cp lib/SQL/Translator/Parser/DBI/MySQL.pm blib/lib/SQL/Translator/Parser/DBI/MySQL.pm
cp lib/SQL/Translator/Schema/Trigger.pm blib/lib/SQL/Translator/Schema/Trigger.pm
cp lib/SQL/Translator/Producer/Sybase.pm blib/lib/SQL/Translator/Producer/Sybase.pm
cp lib/SQL/Translator/Parser/DBI/SQLServer.pm blib/lib/SQL/Translator/Parser/DBI/SQLServer.pm
cp lib/SQL/Translator/Parser/DBI/DB2.pm blib/lib/SQL/Translator/Parser/DBI/DB2.pm
cp lib/SQL/Translator/Producer/Storable.pm blib/lib/SQL/Translator/Producer/Storable.pm
cp lib/SQL/Translator/Utils.pm blib/lib/SQL/Translator/Utils.pm
cp lib/Test/SQL/Translator.pm blib/lib/Test/SQL/Translator.pm
cp lib/SQL/Translator/Producer/XML.pm blib/lib/SQL/Translator/Producer/XML.pm
cp lib/SQL/Translator/Parser/DB2.pm blib/lib/SQL/Translator/Parser/DB2.pm
cp lib/SQL/Translator/Producer/PostgreSQL.pm blib/lib/SQL/Translator/Producer/PostgreSQL.pm
cp lib/SQL/Translator/Parser/XML.pm blib/lib/SQL/Translator/Parser/XML.pm
cp lib/SQL/Translator/Types.pm blib/lib/SQL/Translator/Types.pm
cp lib/SQL/Translator/Generator/DDL/SQLite.pm blib/lib/SQL/Translator/Generator/DDL/SQLite.pm
cp lib/SQL/Translator/Producer/JSON.pm blib/lib/SQL/Translator/Producer/JSON.pm
cp lib/SQL/Translator/Producer/Dumper.pm blib/lib/SQL/Translator/Producer/Dumper.pm
cp lib/SQL/Translator/Role/ListAttr.pm blib/lib/SQL/Translator/Role/ListAttr.pm
cp lib/SQL/Translator/Parser/YAML.pm blib/lib/SQL/Translator/Parser/YAML.pm
cp lib/SQL/Translator/Producer/HTML.pm blib/lib/SQL/Translator/Producer/HTML.pm
cp lib/SQL/Translator/Schema.pm blib/lib/SQL/Translator/Schema.pm
cp lib/SQL/Translator/Parser/Storable.pm blib/lib/SQL/Translator/Parser/Storable.pm
cp lib/SQL/Translator/Generator/Role/DDL.pm blib/lib/SQL/Translator/Generator/Role/DDL.pm
cp lib/SQL/Translator/Role/BuildArgs.pm blib/lib/SQL/Translator/Role/BuildArgs.pm
cp lib/SQL/Translator/Producer/TT/Table.pm blib/lib/SQL/Translator/Producer/TT/Table.pm
cp lib/SQL/Translator/Parser/Excel.pm blib/lib/SQL/Translator/Parser/Excel.pm
cp lib/SQL/Translator/Producer/XML/SQLFairy.pm blib/lib/SQL/Translator/Producer/XML/SQLFairy.pm
cp lib/SQL/Translator/Generator/DDL/PostgreSQL.pm blib/lib/SQL/Translator/Generator/DDL/PostgreSQL.pm
cp lib/SQL/Translator/Filter/Names.pm blib/lib/SQL/Translator/Filter/Names.pm
cp lib/SQL/Translator/Parser/SQLServer.pm blib/lib/SQL/Translator/Parser/SQLServer.pm
cp lib/SQL/Translator/Parser/SQLite.pm blib/lib/SQL/Translator/Parser/SQLite.pm
cp script/sqlt blib/script/sqlt
"/opt/plenv/versions/5.35.11/bin/perl5.35.11" -MExtUtils::MY -e 'MY->fixin(shift)' -- blib/script/sqlt
cp script/sqlt-diagram blib/script/sqlt-diagram
"/opt/plenv/versions/5.35.11/bin/perl5.35.11" -MExtUtils::MY -e 'MY->fixin(shift)' -- blib/script/sqlt-diagram
cp script/sqlt-diff blib/script/sqlt-diff
"/opt/plenv/versions/5.35.11/bin/perl5.35.11" -MExtUtils::MY -e 'MY->fixin(shift)' -- blib/script/sqlt-diff
cp script/sqlt-diff-old blib/script/sqlt-diff-old
"/opt/plenv/versions/5.35.11/bin/perl5.35.11" -MExtUtils::MY -e 'MY->fixin(shift)' -- blib/script/sqlt-diff-old
cp script/sqlt-dumper blib/script/sqlt-dumper
"/opt/plenv/versions/5.35.11/bin/perl5.35.11" -MExtUtils::MY -e 'MY->fixin(shift)' -- blib/script/sqlt-dumper
cp script/sqlt-graph blib/script/sqlt-graph
"/opt/plenv/versions/5.35.11/bin/perl5.35.11" -MExtUtils::MY -e 'MY->fixin(shift)' -- blib/script/sqlt-graph
Manifying 6 pod documents
Manifying 78 pod documents
Skip blib/lib/auto/share/dist/SQL-Translator/DiaUml/diagram.tt2 (unchanged)
Skip blib/lib/auto/share/dist/SQL-Translator/DiaUml/uml-class-start.tt2 (unchanged)
Skip blib/lib/auto/share/dist/SQL-Translator/DiaUml/uml-attribute.tt2 (unchanged)
Skip blib/lib/auto/share/dist/SQL-Translator/PrecompiledParsers/Parse/RecDescent/DDL/SQLT/README (unchanged)
Skip blib/lib/auto/share/dist/SQL-Translator/DiaUml/uml-class-end.tt2 (unchanged)
Skip blib/lib/auto/share/dist/SQL-Translator/DiaUml/schema.tt2 (unchanged)
Skip blib/lib/auto/share/dist/SQL-Translator/DiaUml/layer.tt2 (unchanged)
Skip blib/lib/auto/share/dist/SQL-Translator/DiaUml/uml-class.tt2 (unchanged)
Skip blib/lib/auto/share/dist/SQL-Translator/DiaUml/uml-class-all.tt2 (unchanged)
PERL_DL_NONLAZY=1 "/opt/plenv/versions/5.35.11/bin/perl5.35.11" "-MExtUtils::Command::MM" "-MTest::Harness" "-e" "undef *Test::Harness::Switches; test_harness(0, 'blib/lib', 'blib/arch')" t/*.t
t/02mysql-parser.t ...................... ok
t/03mysql-to-oracle.t ................... ok
t/04file,fh,string.t .................... ok
t/05bgep-re.t ........................... ok
t/06xsv.t ............................... skipped: Missing dependency: Text::RecordParser
t/07p_args.t ............................ ok
t/08postgres-to-mysql.t ................. ok
t/09sqlt-diagram.t ...................... skipped: Missing dependencies: GD, Graph::Directed, GD
t/10excel.t ............................. skipped: Missing dependency: Spreadsheet::ParseExcel
t/11normalize.t ......................... ok
t/12header_comment.t .................... ok
t/13schema.t ............................ ok
t/14postgres-parser.t ................... ok
t/15oracle-parser.t ..................... ok
t/16xml-parser.t ........................ ok
t/17sqlfxml-producer.t .................. ok
t/18ttschema-producer.t ................. ok
t/19sybase-parser.t ..................... ok
t/20format_X_name.t ..................... ok
t/23json.t .............................. ok
t/24yaml.t .............................. ok
t/25storable.t .......................... ok
t/26sybase.t ............................ ok
t/27sqlite-parser.t ..................... ok
t/29html.t .............................. ok
t/30sqlt-new-diff-mysql.t ............... ok
t/30sqlt-new-diff-pgsql.t ............... ok
t/30sqlt-new-diff-sqlite.t .............. ok
t/30sqlt-new-diff.t ..................... ok
t/31dumper.t ............................ ok
t/32schema-lookups.t .................... ok
t/33tt-table-producer.t ................. ok
t/34tt-base.t ........................... ok
t/35-access-parser.t .................... ok
t/36-filters.t .......................... ok
t/38-filter-names.t ..................... ok
t/38-mysql-producer.t ................... ok
t/39-filter-globals.t ................... ok
t/40oracle-parser-dbi.t ................. ok
t/43xml-to-db2.t ........................ ok
t/44-xml-to-db2-array.t ................. ok
t/45db2-producer.t ...................... ok
t/46xml-to-pg.t ......................... ok
t/47postgres-producer.t ................. ok
t/48xml-to-sqlite.t ..................... ok
t/49xml-to-pg-samefield.t ............... ok
t/50-sqlserver-parser.t ................. ok
t/51-xml-to-oracle.t .................... ok
t/51-xml-to-oracle_quoted.t ............. ok
t/52-oracle-options.t ................... ok
t/53-oracle-delay-constraints.t ......... ok
t/53-oracle-delay-constraints_quoted.t .. ok
t/54-oracle-alter-field.t ............... ok
t/55-oracle-add-field.t ................. ok
t/55-oracle-producer.t .................. ok
t/56-sqlite-producer.t .................. ok
t/57-class-dbi.t ........................ ok
t/60roundtrip.t ......................... ok
t/61translator_agnostic.t ............... ok
t/62roundtrip_datacheck.t ............... ok
t/63-spacial-pgsql.t .................... ok
t/64xml-to-mysql.t ...................... ok
t/66-postgres-dbi-parser.t .............. skipped: Set $ENV{DBICTEST_PG_DSN}, _USER and _PASS to run this test
t/70sqlt-diff_script.t .................. ok
t/70sqlt-diff_script_old.t .............. ok
t/71-generator-sql_server.t ............. ok
t/72-sqlite-add-drop-fields.t ........... ok
t/73-sqlite-respects-quote.t ............ ok
t/74-filename-arrayref.t ................ ok
t/mysql-sqlite-translate.t .............. ok
t/postgresql-rename-table-and-field.t ... skipped: Missing dependency: DBD::Pg
t/sqlite-rename-field.t ................. ok
All tests successful.

Test Summary Report
-------------------
t/60roundtrip.t                       (Wstat: 0 Tests: 91 Failed: 0)
  TODO passed:   83, 85, 89, 91
Files=72, Tests=1925, 28 wallclock secs ( 0.27 usr  0.13 sys + 26.28 cusr  1.86 csys = 28.54 CPU)
Result: PASS

------------------------------
PREREQUISITES
------------------------------

Prerequisite modules loaded:

    No requirements found

------------------------------
ENVIRONMENT AND OTHER CONTEXT
------------------------------

Environment variables:

    LANG = en_US.UTF-8
    LC_ALL = en_US.UTF-8
    LC_TERMINAL = iTerm2
    LC_TERMINAL_VERSION = 3.4.15
    PATH = /opt/plenv/versions/5.35.11/bin:/opt/plenv/libexec:/opt/plenv/plugins/perl-build/bin:/opt/plenv/shims:/opt/plenv/bin:/Users/johnanderson/bin:/usr/local/opt/texinfo/bin:/opt/nvm/versions/node/v14.17.6/bin:/opt/git/bin:/opt/local/bin:/usr/local/bin:/usr/local/sbin:/usr/bin:/bin:/usr/sbin:/sbin
    PERL_CPANM_OPT = --skip-installed --prompt
    SHELL = /bin/zsh
    TERM = screen-256color
    TMPDIR = /var/folders/t7/8nhnkmk561s448776gc2b68w0000gp/T/

Perl special variables (and OS-specific diagnostics, for MSWin32):

    EGID = 20 20 12 61 79 80 81 98 702 33 100 204 250 395 398 399 101
    EUID = 502
    EXECUTABLE_NAME = /opt/plenv/versions/5.35.11/bin/perl5.35.11
    GID = 20 20 12 61 79 80 81 98 702 33 100 204 250 395 398 399 101
    UID = 502

Perl module toolchain versions installed:

    Module              Have    
    ------------------- --------
    CPAN                2.33    
    CPAN::Meta          2.150010
    Cwd                 3.84    
    ExtUtils::CBuilder  0.280236
    ExtUtils::Command   7.64    
    ExtUtils::Install   2.20    
    ExtUtils::MakeMaker 7.64    
    ExtUtils::Manifest  1.73    
    ExtUtils::ParseXS   3.45    
    File::Spec          3.84    
    JSON                4.05    
    JSON::PP            4.07    
    Module::Build       0.4231  
    Module::Signature   n/a     
    Parse::CPAN::Meta   2.150010
    Test::Harness       3.44    
    Test::More          1.302190
    YAML                1.30    
    YAML::Syck          n/a     
    version             0.9929  


--

Summary of my perl5 (revision 5 version 35 subversion 11) configuration:
   
  Platform:
    osname=darwin
    osvers=21.4.0
    archname=darwin-2level
    uname='darwin mcclintock.home.genehack.org 21.4.0 darwin kernel version 21.4.0: fri mar 18 00:45:05 pdt 2022; root:xnu-8020.101.4~15release_x86_64 x86_64 i386 macbookpro16,2 darwin '
    config_args='-Dprefix=/opt/plenv/versions/5.35.11 -de -Dversiononly -Dusedevel -A'eval:scriptdir=/opt/plenv/versions/5.35.11/bin''
    hint=recommended
    useposix=true
    d_sigaction=define
    useithreads=undef
    usemultiplicity=undef
    use64bitint=define
    use64bitall=define
    uselongdouble=undef
    usemymalloc=n
    default_inc_excludes_dot=define
  Compiler:
    cc='cc'
    ccflags ='-fno-common -DPERL_DARWIN -mmacosx-version-min=12.3 -fno-strict-aliasing -pipe -fstack-protector-strong -I/usr/local/include -DPERL_USE_SAFE_PUTENV'
    optimize='-O3'
    cppflags='-fno-common -DPERL_DARWIN -mmacosx-version-min=12.3 -fno-strict-aliasing -pipe -fstack-protector-strong -I/usr/local/include'
    ccversion=''
    gccversion='Apple LLVM 13.1.6 (clang-1316.0.21.2)'
    gccosandvers=''
    intsize=4
    longsize=8
    ptrsize=8
    doublesize=8
    byteorder=12345678
    doublekind=3
    d_longlong=define
    longlongsize=8
    d_longdbl=define
    longdblsize=16
    longdblkind=3
    ivtype='long'
    ivsize=8
    nvtype='double'
    nvsize=8
    Off_t='off_t'
    lseeksize=8
    alignbytes=8
    prototype=define
  Linker and Libraries:
    ld='cc'
    ldflags =' -mmacosx-version-min=12.3 -fstack-protector-strong -L/usr/local/lib'
    libpth=/usr/local/lib /Library/Developer/CommandLineTools/usr/lib/clang/13.1.6/lib /Library/Developer/CommandLineTools/SDKs/MacOSX12.3.sdk/usr/lib /Library/Developer/CommandLineTools/usr/lib /usr/lib
    libs= 
    perllibs=
    libc=
    so=dylib
    useshrplib=false
    libperl=libperl.a
    gnulibc_version=''
  Dynamic Linking:
    dlsrc=dl_dlopen.xs
    dlext=bundle
    d_dlsymun=undef
    ccdlflags=' '
    cccdlflags=' '
    lddlflags=' -mmacosx-version-min=12.3 -bundle -undefined dynamic_lookup -L/usr/local/lib -fstack-protector-strong'


Characteristics of this binary (from libperl): 
  Compile-time options:
    HAS_TIMES
    PERLIO_LAYERS
    PERL_COPY_ON_WRITE
    PERL_DONT_CREATE_GVSV
    PERL_MALLOC_WRAP
    PERL_OP_PARENT
    PERL_PRESERVE_IVUV
    PERL_USE_DEVEL
    PERL_USE_SAFE_PUTENV
    USE_64_BIT_ALL
    USE_64_BIT_INT
    USE_LARGE_FILES
    USE_LOCALE
    USE_LOCALE_COLLATE
    USE_LOCALE_CTYPE
    USE_LOCALE_NUMERIC
    USE_LOCALE_TIME
    USE_PERLIO
    USE_PERL_ATOF
  Built under darwin
  Compiled at May  3 2022 16:46:58
  %ENV:
    PERL_CPANM_OPT="--skip-installed --prompt"
  @INC:
    /opt/plenv/versions/5.35.11/lib/perl5/site_perl/5.35.11/darwin-2level
    /opt/plenv/versions/5.35.11/lib/perl5/site_perl/5.35.11
    /opt/plenv/versions/5.35.11/lib/perl5/5.35.11/darwin-2level
    /opt/plenv/versions/5.35.11/lib/perl5/5.35.11