Report for VANAMBURG-SEMPROG-SimpleGraph-0.010

Back
From: metabase:user:320bfe00-2aae-11df-837a-5e0a49663a4f
Subject: PASS VANAMBURG-SEMPROG-SimpleGraph-0.010 v5.15.0 GNU/Linux
Date: 2011-06-21T06:14:59Z

This distribution has been tested as part of the CPAN Testers
project, supporting the Perl programming language.  See
http://wiki.cpantesters.org/ for more information or email
questions to cpan-testers-discuss@perl.org


--
Dear Gordon Van Amburg,

This is a computer-generated report for VANAMBURG-SEMPROG-SimpleGraph-0.010
on perl 5.15.0, created by CPAN-Reporter-1.1902.

Thank you for uploading your work to CPAN.  Congratulations!
All tests were successful.

Sections of this report:

    * Tester comments
    * Program output
    * Prerequisites
    * Environment and other context

------------------------------
TESTER COMMENTS
------------------------------

Additional comments from tester:

none provided

------------------------------
PROGRAM OUTPUT
------------------------------

Output from '/usr/bin/make test':

make[1]: Entering directory `/home/sand/.cpan/build/VANAMBURG-SEMPROG-SimpleGraph-0.010-8ALhGg'
PERL_DL_NONLAZY=1 /home/sand/src/perl/repoperls/installed-perls/perl/v5.14.0-576-g6693394/ba65/bin/perl "-MExtUtils::Command::MM" "-e" "test_harness(0, 'blib/lib', 'blib/arch')" t/*.t
# >>> t1 is gordon, add, triple1
# >>> gordon
# >>> gordon triples is 2
# >>> triple2 triples is 1
# >>> gordon triples is now 1
# >>> pot_belly_cost is cheap
t/00-load.t ......................... ok
t/pod-coverage.t .................... ok
# 
#    sub=San_Francisco_California
#    pred=population  obj=744042
#    pred=longitude  obj=-122.4183
#    pred=mayor  obj=Gavin Newsom
#    pred=latitude  obj=37.775
#    pred=name  obj=San Francisco
#    pred=inside  obj=California
#    sub=Fresno_California  obj=Alan Autry
#    sub=Chula_Vista_California  obj=Cheryl Cox
#    sub=Corona_California  obj=Jeff Miller
#    sub=Garden_Grove_California  obj=William Dalton
#    sub=Athens_Greece  obj=Dora Bakoyannis
#    sub=Portsmouth_New_Hampshire  obj=Thomas G. Ferrini
#    sub=San_Jose_California  obj=Norman Mineta
#    sub=Wasilla_Alaska  obj=Sarah Palin
#    sub=Anaheim_California  obj=Curt Pringle
#    sub=Fontana_California  obj=Acquanetta Warren
#    sub=San_Francisco_California  obj=Gavin Newsom
#    sub=Cleveland_Ohio  obj=Dennis Kucinich
#    sub=Detroit_Michigan  obj=Frank Murphy
#    sub=Adelanto_California  obj=Steven R. Baisden
#    sub=Fremont_California  obj=Bob Wasserman
#    sub=Adelanto_California  obj=Charley B. Glasper
#    sub=Chicago_Illinois  obj=Richard M. Daley
#    sub=Portsmouth_New_Hampshire  obj=John Blalock
#    sub=Aliso_Viejo_California  obj=Donald Garcia
#    sub=Cincinnati_Ohio  obj=Jerry Springer
#    sub=Aliso_Viejo_California  obj=William Phillips
#    sub=Alameda_California  obj=Beverly Johnson
#    sub=Glendale_California  obj=John Drayman
#    sub=Half_Moon_Bay_California  obj=Bonnie McClung
#    sub=New_York_New_York  obj=Michael Bloomberg
#    sub=Fremont_California  obj=Bill Harrison
#    sub=Cleveland_Ohio  obj=Frank G. Jackson
#    sub=Banning_California  obj=Debbie Franklin
#    sub=Philadelphia_Pennsylvania  obj=John F. Street
#    sub=Alameda_California  obj=Lena Tam
#    sub=Bakersfield_California  obj=Harvey Hall
#    sub=Corona_California  obj=Steve Nolan
#    sub=Edmonton_Canada  obj=Bill Smith
#    sub=Stuttgart_Germany  obj=Manfred Rommel
#    sub=Cleveland_Ohio  obj=Newton D. Baker
#    sub=Hillsdale_Michigan  obj=Michael Sessions
#    sub=Half_Moon_Bay_California  obj=John Muller
#    sub=Fontana_California  obj=Mark Nuaimi
#    sub=Banning_California  obj=Brenda Salas
#    sub=Garden_Grove_California  obj=Mark Rosen
# there are 30 cal cities
# mayor of Adelanto_California is Steven R. Baisden
# mayor of Adelanto_California is Charley B. Glasper
# mayor of Fontana_California is Acquanetta Warren
# mayor of Fontana_California is Mark Nuaimi
# mayor of Anaheim_California is Curt Pringle
# mayor of San_Jose_California is Norman Mineta
# mayor of San_Francisco_California is Gavin Newsom
# mayor of Glendale_California is John Drayman
# mayor of Half_Moon_Bay_California is Bonnie McClung
# mayor of Half_Moon_Bay_California is John Muller
# mayor of Alameda_California is Beverly Johnson
# mayor of Alameda_California is Lena Tam
# mayor of Corona_California is Steve Nolan
# mayor of Corona_California is Jeff Miller
# mayor of Chula_Vista_California is Cheryl Cox
# mayor of Aliso_Viejo_California is William Phillips
# mayor of Aliso_Viejo_California is Donald Garcia
# mayor of Garden_Grove_California is Mark Rosen
# mayor of Garden_Grove_California is William Dalton
# mayor of Bakersfield_California is Harvey Hall
# mayor of Fremont_California is Bill Harrison
# mayor of Fremont_California is Bob Wasserman
# mayor of Fresno_California is Alan Autry
# mayor of Banning_California is Debbie Franklin
# mayor of Banning_California is Brenda Salas
t/semprog_ch02_03_places.t .......... ok
# jt's partners
#     Justin Timberlake + Britney Spears
#     Alyssa Milano + Justin Timberlake
#     Justin Timberlake + Jessica Biel
#     Justin Timberlake + Cameron Diaz
#     Justin Timberlake + Cameron Diaz
#     Alyssa Milano + Justin Timberlake
#     Justin Timberlake + Jenna Dewan
#     Justin Timberlake + Britney Spears
#     Justin Timberlake + Jessica Biel
#     Justin Timberlake + Jenna Dewan
t/semprog_ch02_04_celebs.t .......... ok
# $VAR1 = 'PNSN';
# $VAR2 = 'CLMS';
# $VAR3 = 'BLK';
# $VAR4 = 'MS';
# $VAR5 = 'TRAD';
# $VAR6 = 'GBL';
# $VAR7 = 'LEH';
# $VAR8 = 'SCHW';
# $VAR9 = 'TWPG';
# $VAR10 = 'NITE';
# $VAR11 = 'MER';
# $VAR12 = 'OXPS';
# $VAR13 = 'DHIL';
# $VAR14 = 'GS';
# $VAR15 = 'LAB';
# $VAR16 = 'COWN';
# $VAR17 = 'MKTX';
# $VAR18 = 'LM';
# $VAR19 = 'JEF';
# $VAR20 = 'SF';
# $VAR21 = 'ITG';
# $VAR22 = 'WDR';
# $VAR23 = 'BSC';
t/semprog_ch02_05_business.t ........ ok
t/semprog_ch02_moviegraph.t ......... ok
# $VAR1 = {
#           'dollars' => '30700.0',
#           'cont' => 'contrib285',
#           'company' => 'BSC'
#         };
t/semprog_ch03_01_queries.t ......... ok
# triples before:
# $VAR1 = [
#           'White House',
#           'address',
#           '1600 Pennsylvania Avenue, Washington DC'
#         ];
# triples after:
# $VAR1 = [
#           'White House',
#           'longitude',
#           '38.898748'
#         ];
# $VAR2 = [
#           'White House',
#           'latitude',
#           '-77.037684'
#         ];
# $VAR3 = [
#           'White House',
#           'address',
#           '1600 Pennsylvania Avenue, Washington DC'
#         ];
t/semprog_ch03_02_inference.t ....... ok
# getting geo code data from internet -- could take a while...
# touristy triples:
# $VAR1 = [
#           'Pot Belly',
#           'is_a',
#           'touristy restaurant'
#         ];
t/semprog_ch03_03_chain_of_rules.t .. ok
# loading movie data...
# load done.  finding path
# path=Kevin Bacon, Wild Things, Neve Campbell, Blind Horizon, Val Kilmer
# path=Kevin Bacon, Tremors, Ariana Richards, Angus, Rita Moreno, Marlowe, Bruce Lee
# path=Kevin Bacon, The River Wild, Benjamin Bratt, Clear and Present Danger, Harrison Ford
t/semprog_ch03_04_shortest_path.t ... ok
t/semprog_ch03_05_join_graph.t ...... ok
All tests successful.
Files=11, Tests=42, 129 wallclock secs ( 0.05 usr  0.02 sys + 56.83 cusr  0.80 csys = 57.70 CPU)
Result: PASS
make[1]: Leaving directory `/home/sand/.cpan/build/VANAMBURG-SEMPROG-SimpleGraph-0.010-8ALhGg'

------------------------------
PREREQUISITES
------------------------------

Prerequisite modules loaded:

requires:

    Module              Need Have   
    ------------------- ---- -------
    File::Slurp         0    9999.19
    JSON                0    2.53   
    List::MoreUtils     0    0.32   
    LWP::Simple         0    6.00   
    Modern::Perl        1.03 1.03   
    Moose               0.93 2.0007 
    Moose::Role         0    2.0007 
    Set::Scalar         0    1.25   
    Test::More          0    0.98   
    Text::CSV_XS        0    0.82   
    URI::Escape         0    3.30   

build_requires:

    Module              Need Have   
    ------------------- ---- -------
    ExtUtils::MakeMaker 0    6.57_05

configure_requires:

    Module              Need Have   
    ------------------- ---- -------
    ExtUtils::MakeMaker 0    6.57_05


------------------------------
ENVIRONMENT AND OTHER CONTEXT
------------------------------

Environment variables:

    LANG = en_US.UTF-8
    LANGUAGE = en_US:en
    PATH = /usr/lib/ccache:/home/sand/bin:/usr/local/bin:/usr/bin:/bin:/usr/bin/X11:/usr/games:/usr/local/perl/bin:/usr/X11/bin:/sbin:/usr/sbin
    PERL5LIB = 
    PERL5OPT = 
    PERL5_CPANPLUS_IS_RUNNING = 20968
    PERL5_CPAN_IS_RUNNING = 20968
    SHELL = /usr/bin/zsh
    TERM = screen

Perl special variables (and OS-specific diagnostics, for MSWin32):

    $^X = /home/sand/src/perl/repoperls/installed-perls/perl/v5.14.0-576-g6693394/ba65/bin/perl
    $UID/$EUID = 1001 / 1001
    $GID = 1001 1001
    $EGID = 1001 1001

Perl module toolchain versions installed:

    Module              Have    
    ------------------- --------
    CPAN                1.9600  
    Cwd                 3.36    
    ExtUtils::CBuilder  0.280204
    ExtUtils::Command   1.17    
    ExtUtils::Install   1.56    
    ExtUtils::MakeMaker 6.57_05 
    ExtUtils::Manifest  1.58    
    ExtUtils::ParseXS   2.2210  
    File::Spec          3.33    
    Module::Build       0.3800  
    Module::Signature   0.68    
    Test::Harness       3.23    
    Test::More          0.98    
    YAML                0.73    
    YAML::Syck          1.17    
    version             0.88    


--

Summary of my perl5 (revision 5 version 15 subversion 0) configuration:
  Commit id: 6693394dc44f43f2a9c540e9e28782a02ea5fae9
  Platform:
    osname=linux, osvers=2.6.38-2-amd64, archname=x86_64-linux-thread-multi
    uname='linux k81 2.6.38-2-amd64 #1 smp sun may 8 13:51:57 utc 2011 x86_64 gnulinux '
    config_args='-Dprefix=/home/src/perl/repoperls/installed-perls/perl/v5.14.0-576-g6693394/ba65 -Dinstallusrbinperl=n -Uversiononly -Dusedevel -des -Ui_db -Duseithreads -Uuselongdouble -DDEBUGGING=-g'
    hint=recommended, useposix=true, d_sigaction=define
    useithreads=define, usemultiplicity=define
    useperlio=define, d_sfio=undef, uselargefiles=define, usesocks=undef
    use64bitint=define, use64bitall=define, uselongdouble=undef
    usemymalloc=n, bincompat5005=undef
  Compiler:
    cc='cc', ccflags ='-D_REENTRANT -D_GNU_SOURCE -fno-strict-aliasing -pipe -fstack-protector -I/usr/local/include -D_LARGEFILE_SOURCE -D_FILE_OFFSET_BITS=64',
    optimize='-O2 -g',
    cppflags='-D_REENTRANT -D_GNU_SOURCE -fno-strict-aliasing -pipe -fstack-protector -I/usr/local/include'
    ccversion='', gccversion='4.6.1 20110526 (prerelease)', gccosandvers=''
    intsize=4, longsize=8, ptrsize=8, doublesize=8, byteorder=12345678
    d_longlong=define, longlongsize=8, d_longdbl=define, longdblsize=16
    ivtype='long', ivsize=8, nvtype='double', nvsize=8, Off_t='off_t', lseeksize=8
    alignbytes=8, prototype=define
  Linker and Libraries:
    ld='cc', ldflags =' -fstack-protector -L/usr/local/lib'
    libpth=/usr/local/lib /lib/../lib /usr/lib/../lib /lib /usr/lib /usr/lib/x86_64-linux-gnu /lib64 /usr/lib64
    libs=-lnsl -ldb -ldl -lm -lcrypt -lutil -lpthread -lc
    perllibs=-lnsl -ldl -lm -lcrypt -lutil -lpthread -lc
    libc=/lib/libc-2.13.so, so=so, useshrplib=false, libperl=libperl.a
    gnulibc_version='2.13'
  Dynamic Linking:
    dlsrc=dl_dlopen.xs, dlext=so, d_dlsymun=undef, ccdlflags='-Wl,-E'
    cccdlflags='-fPIC', lddlflags='-shared -O2 -g -L/usr/local/lib -fstack-protector'


Characteristics of this binary (from libperl): 
  Compile-time options: MULTIPLICITY PERL_DONT_CREATE_GVSV
                        PERL_IMPLICIT_CONTEXT PERL_MALLOC_WRAP
                        PERL_PRESERVE_IVUV PERL_USE_DEVEL USE_64_BIT_ALL
                        USE_64_BIT_INT USE_ITHREADS USE_LARGE_FILES
                        USE_LOCALE USE_LOCALE_COLLATE USE_LOCALE_CTYPE
                        USE_LOCALE_NUMERIC USE_PERLIO USE_PERL_ATOF
                        USE_REENTRANT_API
  Built under linux
  Compiled at Jun 13 2011 06:04:47
  %ENV:
    PERL5LIB=""
    PERL5OPT=""
    PERL5_CPANPLUS_IS_RUNNING="20968"
    PERL5_CPAN_IS_RUNNING="20968"
  @INC:
    /home/src/perl/repoperls/installed-perls/perl/v5.14.0-576-g6693394/ba65/lib/site_perl/5.15.0/x86_64-linux-thread-multi
    /home/src/perl/repoperls/installed-perls/perl/v5.14.0-576-g6693394/ba65/lib/site_perl/5.15.0
    /home/src/perl/repoperls/installed-perls/perl/v5.14.0-576-g6693394/ba65/lib/5.15.0/x86_64-linux-thread-multi
    /home/src/perl/repoperls/installed-perls/perl/v5.14.0-576-g6693394/ba65/lib/5.15.0
    .