Report for MarpaX-Languages-IDL-AST-0.007

Back
From: metabase:user:314402c4-2aae-11df-837a-5e0a49663a4f
Subject: PASS MarpaX-Languages-IDL-AST-0.007 v5.20.0 FreeBSD
Date: 2017-04-12T19:18:21Z

This distribution has been tested as part of the CPAN Testers
project, supporting the Perl programming language.  See
http://wiki.cpantesters.org/ for more information or email
questions to cpan-testers-discuss@perl.org


--
Dear Jean-Damien Durand,

This is a computer-generated report for MarpaX-Languages-IDL-AST-0.007
on perl 5.20.0, created by CPAN-Reporter-1.2018.

Thank you for uploading your work to CPAN.  Congratulations!
All tests were successful.

Sections of this report:

    * Tester comments
    * Program output
    * Prerequisites
    * Environment and other context

------------------------------
TESTER COMMENTS
------------------------------

Additional comments from tester:

none provided

------------------------------
PROGRAM OUTPUT
------------------------------

Output from '/usr/bin/make test':

Skip blib/lib/auto/share/dist/MarpaX-Languages-IDL-AST/perl5/style/Moose/bottom.tt2 (unchanged)
Skip blib/lib/auto/share/dist/MarpaX-Languages-IDL-AST/perl5/style/Moose/top.tt2 (unchanged)
Skip blib/lib/auto/share/dist/MarpaX-Languages-IDL-AST/perl5/style/Moose/initNameSpace.tt2 (unchanged)
Skip blib/lib/auto/share/dist/MarpaX-Languages-IDL-AST/perl5/style/Moose/namespace.tt2 (unchanged)
Skip blib/lib/auto/share/dist/MarpaX-Languages-IDL-AST/perl5/style/Moose/useSpecializedType.tt2 (unchanged)
Skip blib/lib/auto/share/dist/MarpaX-Languages-IDL-AST/perl5.tt2 (unchanged)
Skip blib/lib/auto/share/dist/MarpaX-Languages-IDL-AST/perl5/style/Moose/import.tt2 (unchanged)
Skip blib/lib/auto/share/dist/MarpaX-Languages-IDL-AST/perl5/style/Moose/initGlobalVariables.tt2 (unchanged)
Skip blib/lib/auto/share/dist/MarpaX-Languages-IDL-AST/perl5/style/Moose/op.tt2 (unchanged)
Skip blib/lib/auto/share/dist/MarpaX-Languages-IDL-AST/perl5/style/Moose/useBaseTypes.tt2 (unchanged)
Skip blib/lib/auto/share/dist/MarpaX-Languages-IDL-AST/perl5/style/Moose/useClassAttribute.tt2 (unchanged)
Skip blib/lib/auto/share/dist/MarpaX-Languages-IDL-AST/perl5/style/Moose/posValidatedList.tt2 (unchanged)
Skip blib/lib/auto/share/dist/MarpaX-Languages-IDL-AST/perl5/style/Moose/token.tt2 (unchanged)
PERL_DL_NONLAZY=1 "/usr/perl5.20.0/bin/perl" "-MExtUtils::Command::MM" "-MTest::Harness" "-e" "undef *Test::Harness::Switches; test_harness(0, 'blib/lib', 'blib/arch')" t/*.t
t/00-compile.t ......... ok
# 
# Versions for all modules listed in MYMETA.json (including optional ones):
# 
# === Configure Requires ===
# 
#     Module                  Want Have
#     ----------------------- ---- ----
#     ExtUtils::MakeMaker      any 7.24
#     File::ShareDir::Install 0.06 0.11
# 
# === Build Requires ===
# 
#     Module              Want Have
#     ------------------- ---- ----
#     ExtUtils::MakeMaker  any 7.24
# 
# === Test Requires ===
# 
#     Module              Want     Have
#     ------------------- ---- --------
#     ExtUtils::MakeMaker  any     7.24
#     File::Spec           any     3.62
#     File::Temp           any   0.2304
#     IO::Handle           any     1.35
#     IPC::Open3           any     1.16
#     Test::More           any 1.302078
#     blib                1.01     1.06
# 
# === Test Recommends ===
# 
#     Module         Want     Have
#     ---------- -------- --------
#     CPAN::Meta 2.120900 2.150005
# 
# === Runtime Requires ===
# 
#     Module                       Want     Have
#     ---------------------------- ---- --------
#     Carp                          any     1.38
#     Data::Dumper                  any    2.161
#     Data::Scan                    any    0.008
#     Data::Scan::Role::Consumer    any    0.008
#     Encode                        any     2.88
#     File::BOM                     any     0.14
#     File::Basename                any     2.85
#     File::ShareDir                any    1.102
#     File::Spec::Functions         any     3.62
#     Getopt::Long                  any     2.49
#     IO::String                    any     1.08
#     MRO::Compat                   any     0.12
#     Marpa::R2                     any 3.000000
#     Math::BigFloat                any 1.999811
#     Moo                           any 2.003001
#     Moo::Role                     any 2.003001
#     MooX::Role::Logger            any    0.005
#     Moose                         any   2.1806
#     MooseX::ClassAttribute        any     0.29
#     MooseX::Params::Validate      any     0.21
#     MooseX::Types                 any     0.48
#     MooseX::Types::Moose          any     0.48
#     MooseX::Types::Structured     any     0.34
#     POSIX                         any  1.38_03
#     Pod::Usage                    any     1.69
#     Scalar::Util                  any     1.47
#     Template                      any     2.26
#     Template::Constants           any     2.75
#     Template::Plugin::PerlTidy    any     0.03
#     Template::Plugin::ScalarUtil  any 1.121160
#     Type::Library                 any 1.000006
#     Type::Utils                   any 1.000006
#     Types::Common::Numeric        any 1.000006
#     Types::Standard               any 1.000006
#     constant                      any     1.33
#     diagnostics                   any     1.34
#     namespace::sweep              any    0.006
#     strict                        any     1.08
#     warnings                      any     1.23
# 
t/00-report-prereqs.t .. ok
t/domLevel3.t .......... ok
All tests successful.
Files=3, Tests=13, 37 wallclock secs ( 0.16 usr  0.02 sys + 33.00 cusr  0.95 csys = 34.13 CPU)
Result: PASS

------------------------------
PREREQUISITES
------------------------------

Prerequisite modules loaded:

requires:

    Module                       Need  Have    
    ---------------------------- ----- --------
    Carp                         0     1.38    
    constant                     0     1.33    
    Data::Dumper                 0     2.161   
    Data::Scan                   0     0.008   
    Data::Scan::Role::Consumer   0     0.008   
    diagnostics                  0     1.34    
    Encode                       0     2.88    
    File::Basename               0     2.85    
    File::BOM                    0     0.14    
    File::ShareDir               0     1.102   
    File::Spec::Functions        0     3.62    
    Getopt::Long                 0     2.49    
    IO::String                   0     1.08    
    Marpa::R2                    0     3.000000
    Math::BigFloat               0     1.999811
    Moo                          0     2.003001
    Moo::Role                    0     2.003001
    Moose                        0     2.1806  
    MooseX::ClassAttribute       0     0.29    
    MooseX::Params::Validate     0     0.21    
    MooseX::Types                0     0.48    
    MooseX::Types::Moose         0     0.48    
    MooseX::Types::Structured    0     0.34    
    MooX::Role::Logger           0     0.005   
    MRO::Compat                  0     0.12    
    namespace::sweep             0     0.006   
    perl                         5.010 5.020000
    Pod::Usage                   0     1.69    
    POSIX                        0     1.38_03 
    Scalar::Util                 0     1.47    
    strict                       0     1.08    
    Template                     0     2.26    
    Template::Constants          0     2.75    
    Template::Plugin::PerlTidy   0     0.03    
    Template::Plugin::ScalarUtil 0     1.121160
    Type::Library                0     1.000006
    Type::Utils                  0     1.000006
    Types::Common::Numeric       0     1.000006
    Types::Standard              0     1.000006
    warnings                     0     1.23    

build_requires:

    Module                       Need  Have    
    ---------------------------- ----- --------
    blib                         1.01  1.06    
    ExtUtils::MakeMaker          0     7.24    
    File::Spec                   0     3.62    
    File::Temp                   0     0.2304  
    IO::Handle                   0     1.35    
    IPC::Open3                   0     1.16    
    Test::More                   0     1.302078

configure_requires:

    Module                       Need  Have    
    ---------------------------- ----- --------
    ExtUtils::MakeMaker          0     7.24    
    File::ShareDir::Install      0.06  0.11    
    perl                         5.010 5.020000


------------------------------
ENVIRONMENT AND OTHER CONTEXT
------------------------------

Environment variables:

    LC_ALL = de_DE.ISO8859-1
    PATH = /usr/local/bin:/usr/bin:/bin:/usr/local/sbin:/usr/sbin:/sbin:/home/cpansand/bin/freebsd9.3:/home/cpansand/bin/sh:/home/cpansand/bin:/usr/games:/home/cpansand/devel:/usr/home/eserte/src/srezic-misc/scripts
    PERL5LIB = 
    PERL5OPT = 
    PERL5_CPANPLUS_IS_RUNNING = 12351
    PERL5_CPAN_IS_RUNNING = 12351
    PERL5_CPAN_IS_RUNNING_IN_RECURSION = 12237,12351
    PERLDOC = -MPod::Perldoc::ToTextOverstrike
    PERL_BATCH = yes
    PERL_CANARY_STABILITY_NOPROMPT = 1
    PERL_CPAN_REPORTER_CONFIG = /var/tmp/cpansmoker-1023/2017041221/cpanreporter_000_config.ini
    PERL_EXTUTILS_AUTOINSTALL = --defaultdeps
    SHELL = /usr/local/bin/zsh
    TERM = screen
    TMPDIR = /var/tmp/cpansmoker-1023/2017041221

Perl special variables (and OS-specific diagnostics, for MSWin32):

    $^X = /usr/perl5.20.0/bin/perl
    $UID/$EUID = 1023 / 1023
    $GID = 1023 1023
    $EGID = 1023 1023

Perl module toolchain versions installed:

    Module              Have    
    ------------------- --------
    CPAN                2.16    
    CPAN::Meta          2.150005
    Cwd                 3.62    
    ExtUtils::CBuilder  0.280223
    ExtUtils::Command   7.24    
    ExtUtils::Install   2.04    
    ExtUtils::MakeMaker 7.24    
    ExtUtils::Manifest  1.70    
    ExtUtils::ParseXS   3.30    
    File::Spec          3.62    
    JSON                2.90    
    JSON::PP            2.27400 
    Module::Build       0.4222  
    Module::Signature   0.81    
    Parse::CPAN::Meta   1.4422  
    Test::Harness       3.35    
    Test::More          1.302078
    YAML                1.22    
    YAML::Syck          1.29    
    version             0.9917  


--

Summary of my perl5 (revision 5 version 20 subversion 0) configuration:
   
  Platform:
    osname=freebsd, osvers=9.2-release-p4, archname=amd64-freebsd
    uname='freebsd cvrsnica-freebsd-92 9.2-release-p4 freebsd 9.2-release-p4 #0: tue apr 8 18:08:22 utc 2014 root@amd64-builder.daemonology.net:usrobjusrsrcsysgeneric amd64 '
    config_args='-ds -e -Dprefix=/usr/perl5.20.0'
    hint=recommended, useposix=true, d_sigaction=define
    useithreads=undef, usemultiplicity=undef
    use64bitint=define, use64bitall=define, uselongdouble=undef
    usemymalloc=n, bincompat5005=undef
  Compiler:
    cc='cc', ccflags ='-DHAS_FPSETMASK -DHAS_FLOATINGPOINT_H -fno-strict-aliasing -pipe -fstack-protector -I/usr/local/include',
    optimize='-O',
    cppflags='-DHAS_FPSETMASK -DHAS_FLOATINGPOINT_H -fno-strict-aliasing -pipe -fstack-protector -I/usr/local/include'
    ccversion='', gccversion='4.2.1 20070831 patched [FreeBSD]', gccosandvers=''
    intsize=4, longsize=8, ptrsize=8, doublesize=8, byteorder=12345678
    d_longlong=define, longlongsize=8, d_longdbl=define, longdblsize=16
    ivtype='long', ivsize=8, nvtype='double', nvsize=8, Off_t='off_t', lseeksize=8
    alignbytes=8, prototype=define
  Linker and Libraries:
    ld='cc', ldflags ='-Wl,-E  -fstack-protector -L/usr/local/lib'
    libpth=/usr/lib /usr/local/lib /usr/include/gcc/4.2 /usr/lib
    libs=-lgdbm -lm -lcrypt -lutil -lc
    perllibs=-lm -lcrypt -lutil -lc
    libc=, so=so, useshrplib=false, libperl=libperl.a
    gnulibc_version=''
  Dynamic Linking:
    dlsrc=dl_dlopen.xs, dlext=so, d_dlsymun=undef, ccdlflags=' '
    cccdlflags='-DPIC -fPIC', lddlflags='-shared  -L/usr/local/lib -fstack-protector'


Characteristics of this binary (from libperl): 
  Compile-time options: HAS_TIMES PERLIO_LAYERS PERL_DONT_CREATE_GVSV
                        PERL_HASH_FUNC_ONE_AT_A_TIME_HARD PERL_MALLOC_WRAP
                        PERL_NEW_COPY_ON_WRITE PERL_PRESERVE_IVUV
                        USE_64_BIT_ALL USE_64_BIT_INT USE_LARGE_FILES
                        USE_LOCALE USE_LOCALE_COLLATE USE_LOCALE_CTYPE
                        USE_LOCALE_NUMERIC USE_PERLIO USE_PERL_ATOF
  Built under freebsd
  Compiled at May 27 2014 13:55:26
  %ENV:
    PERL5LIB=""
    PERL5OPT=""
    PERL5_CPANPLUS_IS_RUNNING="12351"
    PERL5_CPAN_IS_RUNNING="12351"
    PERL5_CPAN_IS_RUNNING_IN_RECURSION="12237,12351"
    PERLDOC="-MPod::Perldoc::ToTextOverstrike"
    PERL_BATCH="yes"
    PERL_CANARY_STABILITY_NOPROMPT="1"
    PERL_CPAN_REPORTER_CONFIG="/var/tmp/cpansmoker-1023/2017041221/cpanreporter_000_config.ini"
    PERL_EXTUTILS_AUTOINSTALL="--defaultdeps"
  @INC:
    /usr/perl5.20.0/lib/site_perl/5.20.0/amd64-freebsd
    /usr/perl5.20.0/lib/site_perl/5.20.0
    /usr/perl5.20.0/lib/5.20.0/amd64-freebsd
    /usr/perl5.20.0/lib/5.20.0
    .