HTTP-Message v6.44 Perl 5 v5.37.11 darwin-2level

Status
Pass
From
John SJ Anderson
Dist
HTTP-Message v6.44
Platform
Perl 5 v5.37.11 darwin-2level
Date
2023-04-21 17:27:30
ID
cb1515ee-e069-11ed-9de9-9b18c20be841
This distribution has been tested as part of the CPAN Testers
project, supporting the Perl programming language.  See
http://wiki.cpantesters.org/ for more information or email
questions to cpan-testers-discuss@perl.org


--
Dear OALDERS,

This is a computer-generated report for HTTP-Message-6.44
on perl 5.37.11, created by App::cpanminus::reporter 0.18 (1.7046).

Thank you for uploading your work to CPAN.  Congratulations!
All tests were successful.

Sections of this report:

    * Tester comments
    * Program output
    * Prerequisites
    * Environment and other context

------------------------------
TESTER COMMENTS
------------------------------

Additional comments from tester:

none provided

------------------------------
PROGRAM OUTPUT
------------------------------

Output from '':

Building and testing HTTP-Message-6.44
cp lib/HTTP/Response.pm blib/lib/HTTP/Response.pm
cp lib/HTTP/Headers.pm blib/lib/HTTP/Headers.pm
cp lib/HTTP/Config.pm blib/lib/HTTP/Config.pm
cp lib/HTTP/Status.pm blib/lib/HTTP/Status.pm
cp lib/HTTP/Request.pm blib/lib/HTTP/Request.pm
cp lib/HTTP/Headers/Util.pm blib/lib/HTTP/Headers/Util.pm
cp lib/HTTP/Headers/ETag.pm blib/lib/HTTP/Headers/ETag.pm
cp lib/HTTP/Headers/Auth.pm blib/lib/HTTP/Headers/Auth.pm
cp lib/HTTP/Message.pm blib/lib/HTTP/Message.pm
cp lib/HTTP/Request/Common.pm blib/lib/HTTP/Request/Common.pm
Manifying 10 pod documents
PERL_DL_NONLAZY=1 "/opt/plenv/versions/5.37.11/bin/perl5.37.11" "-MExtUtils::Command::MM" "-MTest::Harness" "-e" "undef *Test::Harness::Switches; test_harness(0, 'blib/lib', 'blib/arch')" t/*.t
# 
# Versions for all modules listed in MYMETA.json (including optional ones):
# 
# === Configure Requires ===
# 
#     Module              Want Have
#     ------------------- ---- ----
#     ExtUtils::MakeMaker  any 7.70
# 
# === Configure Suggests ===
# 
#     Module      Want Have
#     -------- ------- ----
#     JSON::PP 2.27300 4.16
# 
# === Build Requires ===
# 
#     Module              Want Have
#     ------------------- ---- ----
#     ExtUtils::MakeMaker  any 7.70
# 
# === Test Requires ===
# 
#     Module              Want     Have
#     ------------------- ---- --------
#     ExtUtils::MakeMaker  any     7.70
#     File::Spec           any     3.88
#     File::Temp           any   0.2311
#     PerlIO::encoding     any     0.30
#     Test::More          0.88 1.302194
#     Test::Needs          any 0.002010
#     Time::Local          any     1.30
#     Try::Tiny            any     0.31
#     URI::URL             any     5.17
#     lib                  any     0.65
#     overload             any     1.37
# 
# === Test Recommends ===
# 
#     Module                     Want     Have
#     ---------------------- -------- --------
#     CPAN::Meta             2.120900 2.150010
#     IO::Compress::Brotli   0.004001  missing
#     IO::Uncompress::Brotli 0.004001  missing
# 
# === Runtime Requires ===
# 
#     Module                      Want  Have
#     -------------------------- ----- -----
#     Carp                         any  1.54
#     Clone                       0.46  0.46
#     Compress::Raw::Bzip2         any 2.204
#     Compress::Raw::Zlib        2.062 2.204
#     Encode                      3.01  3.19
#     Encode::Locale                 1  1.05
#     Exporter                    5.57  5.77
#     File::Spec                   any  3.88
#     HTTP::Date                     6  6.05
#     IO::Compress::Bzip2        2.021 2.204
#     IO::Compress::Deflate        any 2.204
#     IO::Compress::Gzip           any 2.204
#     IO::HTML                     any 1.004
#     IO::Uncompress::Inflate      any 2.204
#     IO::Uncompress::RawInflate   any 2.204
#     LWP::MediaTypes                6  6.04
#     MIME::Base64                 2.1  3.16
#     MIME::QuotedPrint            any  3.16
#     URI                         1.10  5.17
#     parent                       any 0.241
#     strict                       any  1.12
#     warnings                     any  1.64
# 
# === Runtime Recommends ===
# 
#     Module                     Want    Have
#     ---------------------- -------- -------
#     IO::Compress::Brotli   0.004001 missing
#     IO::Uncompress::Brotli 0.004001 missing
# 
t/00-report-prereqs.t .......... ok
t/common-req.t ................. ok
t/headers-auth.t ............... ok
t/headers-etag.t ............... ok
t/headers-util.t ............... ok
t/headers.t .................... ok
t/http-config.t ................ ok
t/message-brotli.t ............. skipped: Need IO::Compress::Brotli, IO::Uncompress::Brotli
t/message-charset.t ............ ok
t/message-decode-brotlibomb.t .. skipped: Need IO::Compress::Brotli, IO::Uncompress::Brotli
t/message-decode-bzipbomb.t .... ok
t/message-decode-xml.t ......... ok
t/message-decode-zipbomb.t ..... ok
t/message-old.t ................ ok
t/message-parts.t .............. ok
t/message.t .................... ok
t/request.t .................... ok
t/request_type_with_data.t ..... ok
t/response.t ................... ok
t/status-old.t ................. ok
t/status.t ..................... ok
All tests successful.
Files=21, Tests=836,  3 wallclock secs ( 0.09 usr  0.04 sys +  2.34 cusr  0.39 csys =  2.86 CPU)
Result: PASS

------------------------------
PREREQUISITES
------------------------------

Prerequisite modules loaded:

runtime:

    Module                     Need     Have    
    -------------------------- -------- --------
    Carp                       0        1.54    
    Clone                      0.46     0.46    
    Compress::Raw::Bzip2       0        2.204   
    Compress::Raw::Zlib        2.062    2.204   
    Encode                     3.01     3.19    
    Encode::Locale             1        1.05    
    Exporter                   5.57     5.77    
    File::Spec                 0        3.88    
    HTTP::Date                 6        6.05    
    IO::Compress::Bzip2        2.021    2.204   
    IO::Compress::Deflate      0        2.204   
    IO::Compress::Gzip         0        2.204   
    IO::HTML                   0        1.004   
    IO::Uncompress::Inflate    0        2.204   
    IO::Uncompress::RawInflate 0        2.204   
    LWP::MediaTypes            6        6.04    
    MIME::Base64               2.1      3.16    
    MIME::QuotedPrint          0        3.16    
    parent                     0        0.241   
    perl                       5.008001 5.037011
    strict                     0        1.12    
    URI                        1.10     5.17    
    warnings                   0        1.64    

build:

    Module                     Need     Have    
    -------------------------- -------- --------
    ExtUtils::MakeMaker        0        7.70    

configure:

    Module                     Need     Have    
    -------------------------- -------- --------
    ExtUtils::MakeMaker        0        7.70    


------------------------------
ENVIRONMENT AND OTHER CONTEXT
------------------------------

Environment variables:

    LANG = en_US.UTF-8
    LC_ALL = en_US.UTF-8
    LC_TERMINAL = iTerm2
    LC_TERMINAL_VERSION = 3.4.19
    PATH = /opt/plenv/versions/5.37.11/bin:/opt/plenv/libexec:/opt/plenv/plugins/Perl-Build/bin:/Users/genehack/bin:/opt/plenv/shims:/opt/plenv/bin:/opt/vim/bin:/opt/git/bin:/opt/local/bin:/usr/local/bin:/usr/local/sbin:/usr/bin:/bin:/usr/sbin:/sbin
    PERL_CPANM_OPT = --skip-installed --prompt
    SHELL = /bin/zsh
    TERM = screen-256color
    TMPDIR = /var/folders/91/jjmr4sms7fz9s27f3_9glhb80000gn/T/

Perl special variables (and OS-specific diagnostics, for MSWin32):

    EGID = 20 20 12 61 79 80 81 98 701 33 100 204 250 395 398 399 400
    EUID = 501
    EXECUTABLE_NAME = /opt/plenv/versions/5.37.11/bin/perl5.37.11
    GID = 20 20 12 61 79 80 81 98 701 33 100 204 250 395 398 399 400
    UID = 501

Perl module toolchain versions installed:

    Module              Have    
    ------------------- --------
    CPAN                2.34    
    CPAN::Meta          2.150010
    Cwd                 3.89    
    ExtUtils::CBuilder  0.280238
    ExtUtils::Command   7.70    
    ExtUtils::Install   2.22    
    ExtUtils::MakeMaker 7.70    
    ExtUtils::Manifest  1.73    
    ExtUtils::ParseXS   3.50    
    File::Spec          3.88    
    JSON                n/a     
    JSON::PP            4.16    
    Module::Build       n/a     
    Module::Signature   n/a     
    Parse::CPAN::Meta   2.150010
    Test::Harness       3.44    
    Test::More          1.302194
    YAML                n/a     
    YAML::Syck          n/a     
    version             0.9929  


--

Summary of my perl5 (revision 5 version 37 subversion 11) configuration:
   
  Platform:
    osname=darwin
    osvers=22.4.0
    archname=darwin-2level
    uname='darwin bigjob.home.genehack.org 22.4.0 darwin kernel version 22.4.0: mon mar 6 21:00:17 pst 2023; root:xnu-8796.101.5~3release_x86_64 x86_64 i386 macmini8,1 darwin '
    config_args='-Dprefix=/opt/plenv/versions/5.37.11 -de -Dversiononly -Dusedevel -A'eval:scriptdir=/opt/plenv/versions/5.37.11/bin''
    hint=recommended
    useposix=true
    d_sigaction=define
    useithreads=undef
    usemultiplicity=undef
    use64bitint=define
    use64bitall=define
    uselongdouble=undef
    usemymalloc=n
    default_inc_excludes_dot=define
  Compiler:
    cc='cc'
    ccflags ='-fno-common -DPERL_DARWIN -mmacosx-version-min=13.3 -fno-strict-aliasing -pipe -fstack-protector-strong -I/usr/local/include'
    optimize='-O3'
    cppflags='-fno-common -DPERL_DARWIN -mmacosx-version-min=13.3 -fno-strict-aliasing -pipe -fstack-protector-strong -I/usr/local/include'
    ccversion=''
    gccversion='Apple LLVM 14.0.3 (clang-1403.0.22.14.1)'
    gccosandvers=''
    intsize=4
    longsize=8
    ptrsize=8
    doublesize=8
    byteorder=12345678
    doublekind=3
    d_longlong=define
    longlongsize=8
    d_longdbl=define
    longdblsize=16
    longdblkind=3
    ivtype='long'
    ivsize=8
    nvtype='double'
    nvsize=8
    Off_t='off_t'
    lseeksize=8
    alignbytes=8
    prototype=define
  Linker and Libraries:
    ld='cc'
    ldflags =' -mmacosx-version-min=13.3 -fstack-protector-strong -L/usr/local/lib'
    libpth=/usr/local/lib /Applications/Xcode.app/Contents/Developer/Toolchains/XcodeDefault.xctoolchain/usr/lib/clang/14.0.3/lib /Applications/Xcode.app/Contents/Developer/Platforms/MacOSX.platform/Developer/SDKs/MacOSX.sdk/usr/lib /Applications/Xcode.app/Contents/Developer/Toolchains/XcodeDefault.xctoolchain/usr/lib /usr/lib
    libs=-lgdbm
    perllibs=
    libc=
    so=dylib
    useshrplib=false
    libperl=libperl.a
    gnulibc_version=''
  Dynamic Linking:
    dlsrc=dl_dlopen.xs
    dlext=bundle
    d_dlsymun=undef
    ccdlflags=' '
    cccdlflags=' '
    lddlflags=' -mmacosx-version-min=13.3 -bundle -undefined dynamic_lookup -L/usr/local/lib -fstack-protector-strong'


Characteristics of this binary (from libperl): 
  Compile-time options:
    HAS_LONG_DOUBLE
    HAS_STRTOLD
    HAS_TIMES
    PERLIO_LAYERS
    PERL_COPY_ON_WRITE
    PERL_DONT_CREATE_GVSV
    PERL_HASH_FUNC_SIPHASH13
    PERL_HASH_USE_SBOX32
    PERL_MALLOC_WRAP
    PERL_OP_PARENT
    PERL_PRESERVE_IVUV
    PERL_USE_DEVEL
    PERL_USE_SAFE_PUTENV
    USE_64_BIT_ALL
    USE_64_BIT_INT
    USE_LARGE_FILES
    USE_LOCALE
    USE_LOCALE_COLLATE
    USE_LOCALE_CTYPE
    USE_LOCALE_NUMERIC
    USE_LOCALE_TIME
    USE_PERLIO
    USE_PERL_ATOF
  Built under darwin
  Compiled at Apr 21 2023 10:12:38
  %ENV:
    PERL_CPANM_OPT="--skip-installed --prompt"
  @INC:
    /opt/plenv/versions/5.37.11/lib/perl5/site_perl/5.37.11/darwin-2level
    /opt/plenv/versions/5.37.11/lib/perl5/site_perl/5.37.11
    /opt/plenv/versions/5.37.11/lib/perl5/5.37.11/darwin-2level
    /opt/plenv/versions/5.37.11/lib/perl5/5.37.11