Devel-REPL v1.003029 Perl 5 v5.14.4 darwin-2level

Status
Pass
From
Stanislaw Pusep
Dist
Devel-REPL v1.003029
Platform
Perl 5 v5.14.4 darwin-2level
Date
2022-05-28 09:16:01
ID
cb19cdba-de66-11ec-99f3-ef39481e9afa
This distribution has been tested as part of the CPAN Testers
project, supporting the Perl programming language.  See
http://wiki.cpantesters.org/ for more information or email
questions to cpan-testers-discuss@perl.org


--
Dear ETHER,

This is a computer-generated report for Devel-REPL-1.003029
on perl 5.14.4, created by App::cpanminus::reporter 0.17 (1.7044).

Thank you for uploading your work to CPAN.  Congratulations!
All tests were successful.

Sections of this report:

    * Tester comments
    * Program output
    * Prerequisites
    * Environment and other context

------------------------------
TESTER COMMENTS
------------------------------

Additional comments from tester:

none provided

------------------------------
PROGRAM OUTPUT
------------------------------

Output from '':

Building and testing Devel-REPL-1.003029
cp lib/Devel/REPL/Plugin/ShowClass.pm blib/lib/Devel/REPL/Plugin/ShowClass.pm
cp lib/Devel/REPL/Plugin/DDS.pm blib/lib/Devel/REPL/Plugin/DDS.pm
cp lib/Devel/REPL/Plugin/OutputCache.pm blib/lib/Devel/REPL/Plugin/OutputCache.pm
cp lib/Devel/REPL/Plugin/Interrupt.pm blib/lib/Devel/REPL/Plugin/Interrupt.pm
cp lib/Devel/REPL/Plugin/ReadLineHistory.pm blib/lib/Devel/REPL/Plugin/ReadLineHistory.pm
cp lib/Devel/REPL/Plugin/Colors.pm blib/lib/Devel/REPL/Plugin/Colors.pm
cp lib/Devel/REPL/Profile/Standard.pm blib/lib/Devel/REPL/Profile/Standard.pm
cp lib/Devel/REPL/Plugin/CompletionDriver/Turtles.pm blib/lib/Devel/REPL/Plugin/CompletionDriver/Turtles.pm
cp lib/Devel/REPL/Plugin/CompletionDriver/Methods.pm blib/lib/Devel/REPL/Plugin/CompletionDriver/Methods.pm
cp lib/Devel/REPL/Plugin/Completion.pm blib/lib/Devel/REPL/Plugin/Completion.pm
cp lib/Devel/REPL/Plugin.pm blib/lib/Devel/REPL/Plugin.pm
cp lib/Devel/REPL/Plugin/LexEnv.pm blib/lib/Devel/REPL/Plugin/LexEnv.pm
cp lib/Devel/REPL/Plugin/CompletionDriver/INC.pm blib/lib/Devel/REPL/Plugin/CompletionDriver/INC.pm
cp lib/Devel/REPL/Profile.pm blib/lib/Devel/REPL/Profile.pm
cp lib/Devel/REPL/Plugin/CompletionDriver/Keywords.pm blib/lib/Devel/REPL/Plugin/CompletionDriver/Keywords.pm
cp lib/Devel/REPL/Script.pm blib/lib/Devel/REPL/Script.pm
cp lib/Devel/REPL/Plugin/Turtles.pm blib/lib/Devel/REPL/Plugin/Turtles.pm
cp lib/Devel/REPL/Error.pm blib/lib/Devel/REPL/Error.pm
cp lib/Devel/REPL/Plugin/CompletionDriver/Globals.pm blib/lib/Devel/REPL/Plugin/CompletionDriver/Globals.pm
cp lib/Devel/REPL/Plugin/Commands.pm blib/lib/Devel/REPL/Plugin/Commands.pm
cp lib/Devel/REPL.pm blib/lib/Devel/REPL.pm
cp lib/Devel/REPL/Plugin/B/Concise.pm blib/lib/Devel/REPL/Plugin/B/Concise.pm
cp lib/Devel/REPL/Plugin/Peek.pm blib/lib/Devel/REPL/Plugin/Peek.pm
cp lib/Devel/REPL/Plugin/CompletionDriver/LexEnv.pm blib/lib/Devel/REPL/Plugin/CompletionDriver/LexEnv.pm
cp lib/Devel/REPL/Meta/Plugin.pm blib/lib/Devel/REPL/Meta/Plugin.pm
cp lib/Devel/REPL/Plugin/PPI.pm blib/lib/Devel/REPL/Plugin/PPI.pm
cp lib/Devel/REPL/Plugin/DDC.pm blib/lib/Devel/REPL/Plugin/DDC.pm
cp lib/Devel/REPL/Plugin/Refresh.pm blib/lib/Devel/REPL/Plugin/Refresh.pm
cp lib/Devel/REPL/Overview.pod blib/lib/Devel/REPL/Overview.pod
cp lib/Devel/REPL/Plugin/DumpHistory.pm blib/lib/Devel/REPL/Plugin/DumpHistory.pm
cp lib/Devel/REPL/Profile/Default.pm blib/lib/Devel/REPL/Profile/Default.pm
cp lib/Devel/REPL/Plugin/FindVariable.pm blib/lib/Devel/REPL/Plugin/FindVariable.pm
cp lib/Devel/REPL/Profile/Minimal.pm blib/lib/Devel/REPL/Profile/Minimal.pm
cp lib/Devel/REPL/Plugin/History.pm blib/lib/Devel/REPL/Plugin/History.pm
cp lib/Devel/REPL/Plugin/FancyPrompt.pm blib/lib/Devel/REPL/Plugin/FancyPrompt.pm
cp lib/Devel/REPL/Plugin/MultiLine/PPI.pm blib/lib/Devel/REPL/Plugin/MultiLine/PPI.pm
cp lib/Devel/REPL/Plugin/Packages.pm blib/lib/Devel/REPL/Plugin/Packages.pm
cp lib/Devel/REPL/Plugin/Timing.pm blib/lib/Devel/REPL/Plugin/Timing.pm
cp lib/Devel/REPL/Plugin/Nopaste.pm blib/lib/Devel/REPL/Plugin/Nopaste.pm
cp script/re.pl blib/script/re.pl
"/Users/stan/perl5/perlbrew/perls/perl-5.14.4/bin/perl" -MExtUtils::MY -e 'MY->fixin(shift)' -- blib/script/re.pl
Manifying 32 pod documents
PERL_DL_NONLAZY=1 "/Users/stan/perl5/perlbrew/perls/perl-5.14.4/bin/perl" "-MExtUtils::Command::MM" "-MTest::Harness" "-e" "undef *Test::Harness::Switches; test_harness(0, 'blib/lib', 'blib/arch')" t/*.t
# 
# Versions for all modules listed in MYMETA.json (including optional ones):
# 
# === Configure Requires ===
# 
#     Module                       Want     Have
#     ------------------------ -------- --------
#     CPAN::Meta::Requirements 2.120620    2.140
#     ExtUtils::MakeMaker           any     7.64
#     Module::Metadata              any 1.000037
# 
# === Build Requires ===
# 
#     Module              Want Have
#     ------------------- ---- ----
#     ExtUtils::MakeMaker  any 7.64
# 
# === Test Requires ===
# 
#     Module              Want     Have
#     ------------------- ---- --------
#     ExtUtils::MakeMaker  any     7.64
#     File::Spec           any     3.75
#     Test::Fatal          any    0.016
#     Test::More          0.88 1.302190
#     if                   any   0.0608
# 
# === Test Recommends ===
# 
#     Module         Want     Have
#     ---------- -------- --------
#     CPAN::Meta 2.120900 2.150010
# 
# === Runtime Requires ===
# 
#     Module                      Want   Have
#     ------------------------- ------ ------
#     B::Concise                  0.62   0.83
#     B::Keywords                  any   1.24
#     Data::Dump::Streamer        2.39   2.40
#     Data::Dumper::Concise        any  2.023
#     Devel::Peek                  any   1.07
#     File::Next                   any   1.18
#     File::Spec                   any   3.75
#     Lexical::Persistence         any  1.020
#     Module::Runtime              any  0.016
#     Moose                       0.93 2.2201
#     Moose::Meta::Role            any 2.2201
#     Moose::Role                  any 2.2201
#     MooseX::Getopt              0.18   0.75
#     MooseX::Object::Pluggable 0.0009 0.0014
#     PPI                          any  1.274
#     Scalar::Util                 any   1.62
#     Sys::SigAction               any   0.23
#     Task::Weaken                 any   1.06
#     Term::ANSIColor              any   5.01
#     Term::ReadLine               any   1.14
#     Time::HiRes                  any 1.9764
#     namespace::autoclean         any   0.29
#     strict                       any   1.04
#     warnings                     any   1.12
# 
# === Runtime Recommends ===
# 
#     Module                 Want    Have
#     --------------------- ----- -------
#     App::Nopaste            any missing
#     B::Keywords             any    1.24
#     Data::Dump::Streamer   2.39    2.40
#     Data::Dumper::Concise   any   2.023
#     File::Next              any    1.18
#     Lexical::Persistence    any   1.020
#     Module::Refresh         any missing
#     PPI                     any   1.274
#     PPI::XS               0.902 missing
#     Sys::SigAction          any    0.23
# 
# === Other Modules ===
# 
#     Module            Have
#     --------------- ------
#     Encode            3.17
#     File::Temp      0.2311
#     JSON::PP          4.09
#     Module::Runtime  0.016
#     Sub::Name         0.26
#     YAML              1.30
#     autodie           2.34
# 
t/00-report-prereqs.t .. ok
t/load_core.t .......... ok
t/load_plugins.t ....... ok
All tests successful.
Files=3, Tests=61,  1 wallclock secs ( 0.02 usr  0.01 sys +  0.93 cusr  0.10 csys =  1.06 CPU)
Result: PASS

------------------------------
PREREQUISITES
------------------------------

Prerequisite modules loaded:

    No requirements found

------------------------------
ENVIRONMENT AND OTHER CONTEXT
------------------------------

Environment variables:

    LANG = en_US.UTF-8
    LC_ALL = en_US.UTF-8
    LC_CTYPE = UTF-8
    LC_TERMINAL = iTerm2
    LC_TERMINAL_VERSION = 3.4.15
    LDFLAGS = -L/usr/local/opt/curl/lib
    PATH = /Users/stan/perl5/perlbrew/bin:/Users/stan/perl5/perlbrew/perls/perl-5.14.4/bin:/Users/stan/perl5/perlbrew/bin:/Users/stan/perl5/perlbrew/perls/perl-5.34.1/bin:/usr/local/opt/mysql-client/bin:/usr/local/Caskroom/google-cloud-sdk/latest/google-cloud-sdk/bin:/usr/local/opt/curl/bin:/usr/local/bin:/usr/local/sbin:/usr/local/bin:/usr/bin:/bin:/usr/sbin:/sbin:/opt/X11/bin:/Users/stan/.vim/bin:/Users/stan/bin:/Users/stan/node_modules/.bin:/usr/local/sbin:/usr/local/opt/mysql-client/bin:/usr/local/Caskroom/google-cloud-sdk/latest/google-cloud-sdk/bin:/usr/local/opt/curl/bin:/usr/local/opt/fzf/bin
    PERL5LIB = 
    PERLBREW_HOME = /Users/stan/.perlbrew
    PERLBREW_LIB = 
    PERLBREW_MANPATH = /Users/stan/perl5/perlbrew/perls/perl-5.14.4/man
    PERLBREW_PATH = /Users/stan/perl5/perlbrew/bin:/Users/stan/perl5/perlbrew/perls/perl-5.14.4/bin
    PERLBREW_PERL = perl-5.14.4
    PERLBREW_ROOT = /Users/stan/perl5/perlbrew
    PERLBREW_SHELLRC_VERSION = 0.92
    PERLBREW_VERSION = 0.92
    PERL_LOCAL_LIB_ROOT = 
    PERL_MM_USE_DEFAULT = 1
    SHELL = /usr/local/bin/zsh
    TERM = screen
    TMPDIR = /var/folders/tk/hx6fvpsj3yzbyd1k1br945mc0000gn/T/

Perl special variables (and OS-specific diagnostics, for MSWin32):

    EGID = 20 20 12 61 79 80 81 98 701 33 100 204 250 395 398 101 400
    EUID = 501
    EXECUTABLE_NAME = /Users/stan/perl5/perlbrew/perls/perl-5.14.4/bin/perl
    GID = 20 20 12 61 79 80 81 98 701 33 100 204 250 395 398 101 400
    UID = 501

Perl module toolchain versions installed:

    Module              Have    
    ------------------- --------
    CPAN                2.34    
    CPAN::Meta          2.150010
    Cwd                 3.75    
    ExtUtils::CBuilder  0.280236
    ExtUtils::Command   7.64    
    ExtUtils::Install   2.20    
    ExtUtils::MakeMaker 7.64    
    ExtUtils::Manifest  1.73    
    ExtUtils::ParseXS   3.44    
    File::Spec          3.75    
    JSON                4.06    
    JSON::PP            4.09    
    Module::Build       0.4231  
    Module::Signature   n/a     
    Parse::CPAN::Meta   2.150010
    Test::Harness       3.44    
    Test::More          1.302190
    YAML                1.30    
    YAML::Syck          n/a     
    version             0.9929  


--

Summary of my perl5 (revision 5 version 14 subversion 4) configuration:
   
  Platform:
    osname=darwin, osvers=21.3.0, archname=darwin-2level
    uname='darwin imac.fritz.box 21.3.0 darwin kernel version 21.3.0: wed jan 5 21:37:58 pst 2022; root:xnu-8019.80.24~20release_x86_64 x86_64 '
    config_args='-de -Dprefix=/Users/stan/perl5/perlbrew/perls/perl-5.14.4 -Aeval:scriptdir=/Users/stan/perl5/perlbrew/perls/perl-5.14.4/bin'
    hint=recommended, useposix=true, d_sigaction=define
    useithreads=undef, usemultiplicity=undef
    useperlio=define, d_sfio=undef, uselargefiles=define, usesocks=undef
    use64bitint=define, use64bitall=define, uselongdouble=undef
    usemymalloc=n, bincompat5005=undef
  Compiler:
    cc='cc', ccflags ='-fno-common -DPERL_DARWIN -mmacosx-version-min=12.2 -fno-strict-aliasing -pipe -fstack-protector -I/usr/local/include -DPERL_USE_SAFE_PUTENV',
    optimize='-O3',
    cppflags='-fno-common -DPERL_DARWIN -mmacosx-version-min=12.2 -fno-strict-aliasing -pipe -fstack-protector -I/usr/local/include'
    ccversion='', gccversion='Apple LLVM 13.0.0 (clang-1300.0.29.30)', gccosandvers=''
    intsize=4, longsize=8, ptrsize=8, doublesize=8, byteorder=12345678
    d_longlong=define, longlongsize=8, d_longdbl=define, longdblsize=16
    ivtype='long', ivsize=8, nvtype='double', nvsize=8, Off_t='off_t', lseeksize=8
    alignbytes=8, prototype=define
  Linker and Libraries:
    ld='cc', ldflags =' -mmacosx-version-min=12.2 -fstack-protector -L/usr/local/lib'
    libpth=/usr/local/lib /usr/lib
    libs=-lgdbm -ldb
    perllibs=
    libc=, so=dylib, useshrplib=false, libperl=libperl.a
    gnulibc_version=''
  Dynamic Linking:
    dlsrc=dl_dlopen.xs, dlext=bundle, d_dlsymun=undef, ccdlflags=' '
    cccdlflags=' ', lddlflags=' -mmacosx-version-min=12.2 -bundle -undefined dynamic_lookup -L/usr/local/lib -fstack-protector'


Characteristics of this binary (from libperl): 
  Compile-time options: PERL_DONT_CREATE_GVSV PERL_MALLOC_WRAP
                        PERL_PRESERVE_IVUV PERL_USE_SAFE_PUTENV
                        USE_64_BIT_ALL USE_64_BIT_INT USE_LARGE_FILES
                        USE_PERLIO USE_PERL_ATOF
  Locally applied patches:
	Devel::PatchPerl 2.08
  Built under darwin
  Compiled at Feb 10 2022 22:59:08
  %ENV:
    PERL5LIB=""
    PERLBREW_HOME="/Users/stan/.perlbrew"
    PERLBREW_LIB=""
    PERLBREW_MANPATH="/Users/stan/perl5/perlbrew/perls/perl-5.14.4/man"
    PERLBREW_PATH="/Users/stan/perl5/perlbrew/bin:/Users/stan/perl5/perlbrew/perls/perl-5.14.4/bin"
    PERLBREW_PERL="perl-5.14.4"
    PERLBREW_ROOT="/Users/stan/perl5/perlbrew"
    PERLBREW_SHELLRC_VERSION="0.92"
    PERLBREW_VERSION="0.92"
    PERL_LOCAL_LIB_ROOT=""
    PERL_MM_USE_DEFAULT="1"
  @INC:
    /Users/stan/perl5/perlbrew/perls/perl-5.14.4/lib/site_perl/5.14.4/darwin-2level
    /Users/stan/perl5/perlbrew/perls/perl-5.14.4/lib/site_perl/5.14.4
    /Users/stan/perl5/perlbrew/perls/perl-5.14.4/lib/5.14.4/darwin-2level
    /Users/stan/perl5/perlbrew/perls/perl-5.14.4/lib/5.14.4
    .