Back
From: metabase:user:21427c7c-6c1b-1014-a310-4ed93fdd96d6
Subject: PASS Method-Lexical-0.30 v5.16.3 GNU/Linux
Date: 2013-08-02T19:21:55Z
This distribution has been tested as part of the CPAN Testers
project, supporting the Perl programming language. See
http://wiki.cpantesters.org/ for more information or email
questions to cpan-testers-discuss@perl.org
--
Dear chocolateboy,
This is a computer-generated report for Method-Lexical-0.30
on perl 5.16.3, created by CPAN-Reporter-1.2009.
Thank you for uploading your work to CPAN. Congratulations!
All tests were successful.
Sections of this report:
* Tester comments
* Program output
* Prerequisites
* Environment and other context
------------------------------
TESTER COMMENTS
------------------------------
Additional comments from tester:
none provided
------------------------------
PROGRAM OUTPUT
------------------------------
Output from '/usr/bin/make test':
PERL_DL_NONLAZY=1 /home/jm/perl5/perlbrew/perls/perl-5.16.3-thread-multi-ld/bin/perl5.16.3 "-MExtUtils::Command::MM" "-e" "test_harness(0, 'blib/lib', 'blib/arch')" t/*.t
t/01_use.t ................ ok
t/autoload.t .............. ok
t/basic.t ................. ok
t/cache.t ................. ok
t/depth.t ................. ok
t/fail.t .................. ok
t/fqname.t ................ ok
t/method_name_value.t ..... ok
t/module_autoload_fail.t .. ok
Can't stat ../blib: No such file or directory
at /home/jm/perl5/perlbrew/perls/perl-5.16.3-thread-multi-ld/lib/site_perl/5.16.3/Test/Pod.pm line 220.
t/pod.t ................... ok
All tests successful.
Files=10, Tests=299, 3 wallclock secs ( 0.22 usr 0.04 sys + 1.41 cusr 0.15 csys = 1.82 CPU)
Result: PASS
------------------------------
PREREQUISITES
------------------------------
Prerequisite modules loaded:
requires:
Module Need Have
------------------------ ----- -----
B::Hooks::EndOfScope 0.12 0.12
B::Hooks::OP::Annotation 0.44 0.44
B::Hooks::OP::Check 0.19 0.19
Devel::Pragma 0.54 0.54
build_requires:
Module Need Have
------------------------ ----- -----
ExtUtils::MakeMaker 0 6.68
configure_requires:
Module Need Have
------------------------ ----- -----
B::Hooks::OP::Annotation 0.44 0.44
B::Hooks::OP::Check 0.19 0.19
ExtUtils::Depends 0.304 0.304
ExtUtils::MakeMaker 0 6.68
------------------------------
ENVIRONMENT AND OTHER CONTEXT
------------------------------
Environment variables:
LANG = pl_PL.UTF-8
LC_COLLATE = pl_PL.UTF-8
LC_MESSAGES = POSIX
PATH = /home/jm/perl5/perlbrew/bin:/home/jm/perl5/perlbrew/perls/perl-5.16.3-thread-multi-ld/bin:/home/jm/perl5/perlbrew/bin:/usr/local/bin:/usr/bin:/bin:/usr/games:/usr/lib/java/bin:/usr/lib/java/jre/bin:/usr/lib/kde4/libexec:/usr/lib/qt/bin:.:.:/home/jm/usr/bin
PERL5LIB =
PERL5OPT =
PERL5_CPANPLUS_IS_RUNNING = 2719
PERL5_CPAN_IS_RUNNING = 2719
PERLBREW_BASHRC_VERSION = 0.61
PERLBREW_HOME = /home/jm/.perlbrew
PERLBREW_MANPATH = /home/jm/perl5/perlbrew/perls/perl-5.16.3-thread-multi-ld/man
PERLBREW_PATH = /home/jm/perl5/perlbrew/bin:/home/jm/perl5/perlbrew/perls/perl-5.16.3-thread-multi-ld/bin
PERLBREW_PERL = perl-5.16.3-thread-multi-ld
PERLBREW_ROOT = /home/jm/perl5/perlbrew
PERLBREW_VERSION = 0.64
SHELL = /bin/bash
TERM = xterm
Perl special variables (and OS-specific diagnostics, for MSWin32):
$^X = /home/jm/perl5/perlbrew/perls/perl-5.16.3-thread-multi-ld/bin/perl5.16.3
$UID/$EUID = 1000 / 1000
$GID = 100 6 10 17 18 19 83 84 93 94 100 1000
$EGID = 100 6 10 17 18 19 83 84 93 94 100 1000
Perl module toolchain versions installed:
Module Have
------------------- --------
CPAN 2.00
CPAN::Meta 2.131560
Cwd 3.40
ExtUtils::CBuilder 0.280206
ExtUtils::Command 1.17
ExtUtils::Install 1.58
ExtUtils::MakeMaker 6.68
ExtUtils::Manifest 1.61
ExtUtils::ParseXS 3.18_03
File::Spec 3.40
JSON 2.57
JSON::PP 2.27202
Module::Build 0.4007
Module::Signature n/a
Parse::CPAN::Meta 1.4404
Test::Harness 3.28
Test::More 0.98
YAML 0.84
YAML::Syck 1.25
version 0.9902
--
Summary of my perl5 (revision 5 version 16 subversion 3) configuration:
Platform:
osname=linux, osvers=3.2.29-smp, archname=i686-linux-thread-multi-ld
uname='linux darkstar 3.2.29-smp #2 smp mon sep 17 13:16:43 cdt 2012 i686 intel(r) celeron(r) cpu 3.06ghz genuineintel gnulinux '
config_args='-de -Dprefix=/home/jm/perl5/perlbrew/perls/perl-5.16.3-thread-multi-ld -Dusemultiplicity -Dusethreads -Duseithreads -Dmad=y -Duselongdouble -Aeval:scriptdir=/home/jm/perl5/perlbrew/perls/perl-5.16.3-thread-multi-ld/bin'
hint=recommended, useposix=true, d_sigaction=define
useithreads=define, usemultiplicity=define
useperlio=define, d_sfio=undef, uselargefiles=define, usesocks=undef
use64bitint=undef, use64bitall=undef, uselongdouble=define
usemymalloc=n, bincompat5005=undef
Compiler:
cc='cc', ccflags ='-D_REENTRANT -D_GNU_SOURCE -fno-strict-aliasing -pipe -fstack-protector -I/usr/local/include -D_LARGEFILE_SOURCE -D_FILE_OFFSET_BITS=64',
optimize='-O2',
cppflags='-D_REENTRANT -D_GNU_SOURCE -fno-strict-aliasing -pipe -fstack-protector -I/usr/local/include'
ccversion='', gccversion='4.7.1', gccosandvers=''
intsize=4, longsize=4, ptrsize=4, doublesize=8, byteorder=1234
d_longlong=define, longlongsize=8, d_longdbl=define, longdblsize=12
ivtype='long', ivsize=4, nvtype='long double', nvsize=12, Off_t='off_t', lseeksize=8
alignbytes=4, prototype=define
Linker and Libraries:
ld='cc', ldflags =' -fstack-protector -L/usr/local/lib'
libpth=/usr/local/lib /lib /usr/lib
libs=-lnsl -lgdbm -ldb -ldl -lm -lcrypt -lutil -lpthread -lc
perllibs=-lnsl -ldl -lm -lcrypt -lutil -lpthread -lc
libc=/lib/libc-2.15.so, so=so, useshrplib=false, libperl=libperl.a
gnulibc_version='2.15'
Dynamic Linking:
dlsrc=dl_dlopen.xs, dlext=so, d_dlsymun=undef, ccdlflags='-Wl,-E'
cccdlflags='-fPIC', lddlflags='-shared -O2 -L/usr/local/lib -fstack-protector'
Characteristics of this binary (from libperl):
Compile-time options: HAS_TIMES MULTIPLICITY PERLIO_LAYERS
PERL_DONT_CREATE_GVSV PERL_IMPLICIT_CONTEXT PERL_MAD
PERL_MALLOC_WRAP PERL_PRESERVE_IVUV USE_ITHREADS
USE_LARGE_FILES USE_LOCALE USE_LOCALE_COLLATE
USE_LOCALE_CTYPE USE_LOCALE_NUMERIC USE_LONG_DOUBLE
USE_PERLIO USE_PERL_ATOF USE_REENTRANT_API
Built under linux
Compiled at Mar 24 2013 09:06:31
%ENV:
PERL5LIB=""
PERL5OPT=""
PERL5_CPANPLUS_IS_RUNNING="2719"
PERL5_CPAN_IS_RUNNING="2719"
PERLBREW_BASHRC_VERSION="0.61"
PERLBREW_HOME="/home/jm/.perlbrew"
PERLBREW_MANPATH="/home/jm/perl5/perlbrew/perls/perl-5.16.3-thread-multi-ld/man"
PERLBREW_PATH="/home/jm/perl5/perlbrew/bin:/home/jm/perl5/perlbrew/perls/perl-5.16.3-thread-multi-ld/bin"
PERLBREW_PERL="perl-5.16.3-thread-multi-ld"
PERLBREW_ROOT="/home/jm/perl5/perlbrew"
PERLBREW_VERSION="0.64"
@INC:
/home/jm/perl5/perlbrew/perls/perl-5.16.3-thread-multi-ld/lib/site_perl/5.16.3/i686-linux-thread-multi-ld
/home/jm/perl5/perlbrew/perls/perl-5.16.3-thread-multi-ld/lib/site_perl/5.16.3
/home/jm/perl5/perlbrew/perls/perl-5.16.3-thread-multi-ld/lib/5.16.3/i686-linux-thread-multi-ld
/home/jm/perl5/perlbrew/perls/perl-5.16.3-thread-multi-ld/lib/5.16.3
.