Report for WebService-Simple-0.16

Back
From: metabase:user:313dc9fe-2aae-11df-837a-5e0a49663a4f
Subject: PASS WebService-Simple-0.16 v5.8.9 GNU/Linux
Date: 2010-11-07T03:55:00Z

This distribution has been tested as part of the CPAN Testers
project, supporting the Perl programming language.  See
http://wiki.cpantesters.org/ for more information or email
questions to cpan-testers-discuss@perl.org


--
Dear Yusuke Wada,

This is a computer-generated report for WebService-Simple-0.16
on perl 5.8.9, created by CPAN-Reporter-1.1805.

Thank you for uploading your work to CPAN.  Congratulations!
All tests were successful.

Sections of this report:

    * Tester comments
    * Program output
    * Prerequisites
    * Environment and other context

------------------------------
TESTER COMMENTS
------------------------------

Additional comments from tester:

this report is from an automated smoke testing program
and was not reviewed by a human for accuracy

------------------------------
PROGRAM OUTPUT
------------------------------

Output from '/usr/bin/make test':

PERL_DL_NONLAZY=1 /home/perl589/perl/bin/perl "-MExtUtils::Command::MM" "-e" "test_harness(0, 'inc', 'blib/lib', 'blib/arch')" t/*.t
# Testing WebService::Simple 0.16
t/00_load.t ............... ok
t/01_basic.t .............. skipped: Please set FLICKR_API_KEY to enable this test
t/01_escape.t ............. ok
t/02_parser.t ............. ok
t/02_parser_json.t ........ ok
t/02_parser_libxml.t ...... skipped: XML::LibXML not installed
t/02_parser_lite.t ........ skipped: XML::Parser::Lite::Tree not installed
t/02_parser_xml_feed.t .... skipped: XML::Feed not installed
t/02_parser_xml_simple.t .. ok
t/pod-coverage.t .......... ok
t/pod.t ................... ok
All tests successful.
Files=11, Tests=30,  1 wallclock secs ( 0.03 usr  0.04 sys +  0.72 cusr  0.13 csys =  0.92 CPU)
Result: PASS

------------------------------
PREREQUISITES
------------------------------

Prerequisite modules loaded:

requires:

    Module                  Need Have   
    ----------------------- ---- -------
    Class::Accessor::Fast   0    0.34   
    Class::Data::ConfigHash 0    0.00002
    Class::Inspector        0    1.24   
    Data::Dumper            0    2.126  
    Digest::MD5             0    2.39   
    JSON                    2.0  2.26   
    LWP::UserAgent          0    5.835  
    Pod::Coverage           0    0.20   
    Test::More              0    0.94   
    Test::Pod               0    1.44   
    UNIVERSAL::require      0    0.13   
    URI                     1.36 1.54   
    XML::Simple             0    2.18   

configure_requires:

    Module                  Need Have   
    ----------------------- ---- -------
    ExtUtils::MakeMaker     6.42 6.56   


------------------------------
ENVIRONMENT AND OTHER CONTEXT
------------------------------

Environment variables:

    AUTOMATED_TESTING = 1
    LANG = en_US.UTF-8
    PATH = /usr/local/sbin:/usr/local/bin:/usr/sbin:/usr/bin:/sbin:/bin:/usr/games
    PERL5LIB = /home/perl589/.cpan/build/UNIVERSAL-require-0.13-XPT7Sg/blib/arch:/home/perl589/.cpan/build/UNIVERSAL-require-0.13-XPT7Sg/blib/lib:/home/perl589/.cpan/build/Class-Data-ConfigHash-0.00002-_le_CQ/blib/arch:/home/perl589/.cpan/build/Class-Data-ConfigHash-0.00002-_le_CQ/blib/lib:/home/perl589/.cpan/build/XML-Simple-2.18-yXdzkN/blib/arch:/home/perl589/.cpan/build/XML-Simple-2.18-yXdzkN/blib/lib
    PERL5OPT = 
    PERL5_CPANPLUS_IS_RUNNING = 20580
    PERL5_CPAN_IS_RUNNING = 20580
    PERL5_CPAN_IS_RUNNING_IN_RECURSION = 22811,20580
    PERL_CR_SMOKER_CURRENT = WebService-Simple-AWS-0.01
    PERL_EXTUTILS_AUTOINSTALL = --defaultdeps
    PERL_MM_USE_DEFAULT = 1
    SHELL = /bin/bash
    TERM = xterm

Perl special variables (and OS-specific diagnostics, for MSWin32):

    $^X = /home/perl589/perl/bin/perl
    $UID/$EUID = 1001 / 1001
    $GID = 1001 1001
    $EGID = 1001 1001

Perl module toolchain versions installed:

    Module              Have  
    ------------------- ------
    CPAN                1.9402
    Cwd                 3.31  
    ExtUtils::CBuilder  0.2703
    ExtUtils::Command   1.16  
    ExtUtils::Install   1.54  
    ExtUtils::MakeMaker 6.56  
    ExtUtils::Manifest  1.58  
    ExtUtils::ParseXS   2.2205
    File::Spec          3.31  
    Module::Build       0.3607
    Module::Signature   n/a   
    Test::Harness       3.21  
    Test::More          0.94  
    YAML                0.71  
    YAML::Syck          1.09  
    version             0.82  


--

Summary of my perl5 (revision 5 version 8 subversion 9) configuration:
  Platform:
    osname=linux, osvers=2.6.31-20-generic, archname=i686-linux-thread-multi
    uname='linux st47-laptop 2.6.31-20-generic #57-ubuntu smp mon feb 8 09:05:19 utc 2010 i686 gnulinux '
    config_args=''
    hint=recommended, useposix=true, d_sigaction=define
    usethreads=define use5005threads=undef useithreads=define usemultiplicity=define
    useperlio=define d_sfio=undef uselargefiles=define usesocks=undef
    use64bitint=undef use64bitall=undef uselongdouble=undef
    usemymalloc=n, bincompat5005=undef
  Compiler:
    cc='cc', ccflags ='-D_REENTRANT -D_GNU_SOURCE -DTHREADS_HAVE_PIDS -fno-strict-aliasing -pipe -I/usr/local/include -D_LARGEFILE_SOURCE -D_FILE_OFFSET_BITS=64',
    optimize='-O2',
    cppflags='-D_REENTRANT -D_GNU_SOURCE -DTHREADS_HAVE_PIDS -fno-strict-aliasing -pipe -I/usr/local/include'
    ccversion='', gccversion='4.4.1', gccosandvers=''
    intsize=4, longsize=4, ptrsize=4, doublesize=8, byteorder=1234
    d_longlong=define, longlongsize=8, d_longdbl=define, longdblsize=12
    ivtype='long', ivsize=4, nvtype='double', nvsize=8, Off_t='off_t', lseeksize=8
    alignbytes=4, prototype=define
  Linker and Libraries:
    ld='cc', ldflags =' -L/usr/local/lib'
    libpth=/usr/local/lib /lib /usr/lib
    libs=-lnsl -ldl -lm -lcrypt -lutil -lpthread -lc
    perllibs=-lnsl -ldl -lm -lcrypt -lutil -lpthread -lc
    libc=/lib/libc-2.10.1.so, so=so, useshrplib=false, libperl=libperl.a
    gnulibc_version='2.10.1'
  Dynamic Linking:
    dlsrc=dl_dlopen.xs, dlext=so, d_dlsymun=undef, ccdlflags='-Wl,-E'
    cccdlflags='-fPIC', lddlflags='-shared -O2 -L/usr/local/lib'


Characteristics of this binary (from libperl): 
  Compile-time options: MULTIPLICITY PERL_IMPLICIT_CONTEXT PERL_MALLOC_WRAP
                        THREADS_HAVE_PIDS USE_FAST_STDIO USE_ITHREADS
                        USE_LARGE_FILES USE_PERLIO USE_REENTRANT_API
  Built under linux
  Compiled at Mar 11 2010 22:22:38
  %ENV:
    PERL5LIB="/home/perl589/.cpan/build/UNIVERSAL-require-0.13-XPT7Sg/blib/arch:/home/perl589/.cpan/build/UNIVERSAL-require-0.13-XPT7Sg/blib/lib:/home/perl589/.cpan/build/Class-Data-ConfigHash-0.00002-_le_CQ/blib/arch:/home/perl589/.cpan/build/Class-Data-ConfigHash-0.00002-_le_CQ/blib/lib:/home/perl589/.cpan/build/XML-Simple-2.18-yXdzkN/blib/arch:/home/perl589/.cpan/build/XML-Simple-2.18-yXdzkN/blib/lib"
    PERL5OPT=""
    PERL5_CPANPLUS_IS_RUNNING="20580"
    PERL5_CPAN_IS_RUNNING="20580"
    PERL5_CPAN_IS_RUNNING_IN_RECURSION="22811,20580"
    PERL_CR_SMOKER_CURRENT="WebService-Simple-AWS-0.01"
    PERL_EXTUTILS_AUTOINSTALL="--defaultdeps"
    PERL_MM_USE_DEFAULT="1"
  @INC:
    /home/perl589/.cpan/build/UNIVERSAL-require-0.13-XPT7Sg/blib/arch
    /home/perl589/.cpan/build/UNIVERSAL-require-0.13-XPT7Sg/blib/lib
    /home/perl589/.cpan/build/Class-Data-ConfigHash-0.00002-_le_CQ/blib/arch
    /home/perl589/.cpan/build/Class-Data-ConfigHash-0.00002-_le_CQ/blib/lib
    /home/perl589/.cpan/build/XML-Simple-2.18-yXdzkN/blib/arch
    /home/perl589/.cpan/build/XML-Simple-2.18-yXdzkN/blib/lib
    /home/perl589/perl/lib/5.8.9/i686-linux-thread-multi
    /home/perl589/perl/lib/5.8.9
    /home/perl589/perl/lib/site_perl/5.8.9/i686-linux-thread-multi
    /home/perl589/perl/lib/site_perl/5.8.9
    .