Back
From: metabase:user:30f4dfbe-2aae-11df-837a-5e0a49663a4f
Subject: PASS Mojolicious-Plugin-UniqueTagHelpers-1.2 v5.12.1 GNU/Linux
Date: 2016-12-01T16:25:38Z
This distribution has been tested as part of the CPAN Testers
project, supporting the Perl programming language. See
http://wiki.cpantesters.org/ for more information or email
questions to cpan-testers-discuss@perl.org
--
Dear Roman V. Nikolaev,
This is a computer-generated report for Mojolicious-Plugin-UniqueTagHelpers-1.2
on perl 5.12.1, created by CPAN-Reporter-1.2011.
Thank you for uploading your work to CPAN. Congratulations!
All tests were successful.
Sections of this report:
* Tester comments
* Program output
* Prerequisites
* Environment and other context
------------------------------
TESTER COMMENTS
------------------------------
Additional comments from tester:
this report is from an automated smoke testing program
and was not reviewed by a human for accuracy
------------------------------
PROGRAM OUTPUT
------------------------------
Output from '/usr/bin/make test':
PERL_DL_NONLAZY=1 /home/njh/perl5/perlbrew/perls/perl-5.12.1/bin/perl5.12.1 "-MExtUtils::Command::MM" "-MTest::Harness" "-e" "undef *Test::Harness::Switches; test_harness(0, 'blib/lib', 'blib/arch')" t/*.t
# Testing Mojolicious::Plugin::UniqueTagHelpers 1.2, Perl 5.012001, /home/njh/perl5/perlbrew/perls/perl-5.12.1/bin/perl5.12.1
t/00-load.t ................. ok
t/11-stylesheet-block.t ..... ok
t/21-javascript-block.t ..... ok
t/20-javascript.t ........... ok
t/10-stylesheet.t ........... ok
t/manifest.t ................ skipped: Test::CheckManifest 0.9 required
t/12-stylesheet-mojo-url.t .. ok
t/22-javascript-mojo-url.t .. ok
t/pod.t ..................... ok
t/32-unique-long-key.t ...... ok
t/30-unique.t ............... ok
t/31-unique-block.t ......... ok
All tests successful.
Files=12, Tests=50, 6 wallclock secs ( 0.27 usr 0.12 sys + 18.88 cusr 1.13 csys = 20.40 CPU)
Result: PASS
------------------------------
PREREQUISITES
------------------------------
Prerequisite modules loaded:
requires:
Module Need Have
------------------- ----- --------
Mojolicious 5.54 7.11
perl 5.006 5.012001
build_requires:
Module Need Have
------------------- ----- --------
Test::More 0 1.001014
configure_requires:
Module Need Have
------------------- ----- --------
ExtUtils::MakeMaker 0 6.98
------------------------------
ENVIRONMENT AND OTHER CONTEXT
------------------------------
Environment variables:
AUTOMATED_TESTING = 1
HARNESS_OPTIONS = j6
PATH = /home/njh/perl5/perlbrew/bin:/home/njh/perl5/perlbrew/perls/perl-5.12.1/bin:/home/njh/perl5/perlbrew/bin:/usr/bin:/bin
PERL5LIB = /home/njh/.cpan/build/Mojolicious-7.11-7lQ8o0/blib/arch:/home/njh/.cpan/build/Mojolicious-7.11-7lQ8o0/blib/lib:/home/njh/.cpan/build/Time-Local-1.25-cSktkm/blib/arch:/home/njh/.cpan/build/Time-Local-1.25-cSktkm/blib/lib:/home/njh/.cpan/build/IO-Socket-IP-0.38-dzAmzj/blib/arch:/home/njh/.cpan/build/IO-Socket-IP-0.38-dzAmzj/blib/lib:/home/njh/.cpan/build/Socket-2.024-jaxxQp/blib/arch:/home/njh/.cpan/build/Socket-2.024-jaxxQp/blib/lib:/home/njh/.cpan/build/ExtUtils-Constant-0.23-JDN0Q4/blib/arch:/home/njh/.cpan/build/ExtUtils-Constant-0.23-JDN0Q4/blib/lib
PERL5OPT =
PERL5_CPANPLUS_IS_RUNNING = 26114
PERL5_CPAN_IS_RUNNING = 26114
PERLBREW_BASHRC_VERSION = 0.75
PERLBREW_HOME = /home/njh/.perlbrew
PERLBREW_LIB =
PERLBREW_MANPATH = /home/njh/perl5/perlbrew/perls/perl-5.12.1/man
PERLBREW_PATH = /home/njh/perl5/perlbrew/bin:/home/njh/perl5/perlbrew/perls/perl-5.12.1/bin
PERLBREW_PERL = perl-5.12.1
PERLBREW_ROOT = /home/njh/perl5/perlbrew
PERLBREW_VERSION = 0.75
PERL_LOCAL_LIB_ROOT =
SHELL = /bin/sh
Perl special variables (and OS-specific diagnostics, for MSWin32):
$^X = /home/njh/perl5/perlbrew/perls/perl-5.12.1/bin/perl5.12.1
$UID/$EUID = 1000 / 1000
$GID = 1000 4 1000
$EGID = 1000 4 1000
Perl module toolchain versions installed:
Module Have
------------------- --------
CPAN 1.94_56
CPAN::Meta 2.142060
Cwd 3.47
ExtUtils::CBuilder 0.280220
ExtUtils::Command 1.16
ExtUtils::Install 1.55
ExtUtils::MakeMaker 6.98
ExtUtils::Manifest 1.60
ExtUtils::ParseXS 2.21
File::Spec 3.47
JSON 2.90
JSON::PP 2.27203
Module::Build 0.3603
Module::Signature n/a
Parse::CPAN::Meta 1.4414
Test::Harness 3.33
Test::More 1.001014
YAML 0.98
YAML::Syck 1.29
version 0.9908
--
Summary of my perl5 (revision 5 version 12 subversion 1) configuration:
Platform:
osname=linux, osvers=3.0.35-cm-fx6-6.1, archname=armv7l-linux-thread-multi
uname='linux utilite 3.0.35-cm-fx6-6.1 #140 smp tue jun 17 10:40:25 idt 2014 armv7l armv7l armv7l gnulinux '
config_args='-de -Dprefix=/home/njh/perl5/perlbrew/perls/perl-5.12.1 -Duseithreads -Dusemultiplicity -Dusedevel -Accflags=-O2 -W -Wformat=2 -Wswitch -Wshadow -Wwrite-strings -Wuninitialized -Wall -pipe -fomit-frame-pointer -pedantic -D_FORTIFY_SOURCE=2 -Wpointer-arith -Wstrict-prototypes -fstack-protector -Wstack-protector -Wextra -Wbad-function-cast -Wcast-align -Wcast-qual -Wdisabled-optimization -Wendif-labels -Wfloat-equal -Wformat-nonliteral -Winline -Wmissing-declarations -Wmissing-prototypes -Wnested-externs -Wpointer-arith -Wundef -Wformat-security -march=native -Aeval:scriptdir=/home/njh/perl5/perlbrew/perls/perl-5.12.1/bin'
hint=recommended, useposix=true, d_sigaction=define
useithreads=define, usemultiplicity=define
useperlio=define, d_sfio=undef, uselargefiles=define, usesocks=undef
use64bitint=undef, use64bitall=undef, uselongdouble=undef
usemymalloc=n, bincompat5005=undef
Compiler:
cc='cc', ccflags ='-D_REENTRANT -D_GNU_SOURCE -O2 -W -Wformat=2 -Wswitch -Wshadow -Wwrite-strings -Wuninitialized -Wall -pipe -fomit-frame-pointer -pedantic -D_FORTIFY_SOURCE=2 -Wpointer-arith -Wstrict-prototypes -fstack-protector -Wstack-protector -Wextra -Wbad-function-cast -Wcast-align -Wcast-qual -Wdisabled-optimization -Wendif-labels -Wfloat-equal -Wformat-nonliteral -Winline -Wmissing-declarations -Wmissing-prototypes -Wnested-externs -Wpointer-arith -Wundef -Wformat-security -march=native -fno-strict-aliasing -I/usr/local/include -D_LARGEFILE_SOURCE -D_FILE_OFFSET_BITS=64',
optimize='-O2',
cppflags='-D_REENTRANT -D_GNU_SOURCE -O2 -W -Wformat=2 -Wswitch -Wshadow -Wwrite-strings -Wuninitialized -Wall -pipe -fomit-frame-pointer -pedantic -D_FORTIFY_SOURCE=2 -Wpointer-arith -Wstrict-prototypes -fstack-protector -Wstack-protector -Wextra -Wbad-function-cast -Wcast-align -Wcast-qual -Wdisabled-optimization -Wendif-labels -Wfloat-equal -Wformat-nonliteral -Winline -Wmissing-declarations -Wmissing-prototypes -Wnested-externs -Wpointer-arith -Wundef -Wformat-security -march=native -fno-strict-aliasing -I/usr/local/include'
ccversion='', gccversion='4.7.2', gccosandvers=''
intsize=4, longsize=4, ptrsize=4, doublesize=8, byteorder=1234
d_longlong=define, longlongsize=8, d_longdbl=define, longdblsize=8
ivtype='long', ivsize=4, nvtype='double', nvsize=8, Off_t='off_t', lseeksize=8
alignbytes=8, prototype=define
Linker and Libraries:
ld='cc', ldflags =' -fstack-protector -L/usr/local/lib'
libpth=/usr/local/lib /lib/arm-linux-gnueabi /lib/../lib /usr/lib/arm-linux-gnueabi /usr/lib/../lib /lib /usr/lib
libs=-lnsl -lgdbm -ldb -ldl -lm -lcrypt -lutil -lpthread -lc -lgdbm_compat
perllibs=-lnsl -ldl -lm -lcrypt -lutil -lpthread -lc
libc=libc-2.15.so, so=so, useshrplib=false, libperl=libperl.a
gnulibc_version='2.15'
Dynamic Linking:
dlsrc=dl_dlopen.xs, dlext=so, d_dlsymun=undef, ccdlflags='-Wl,-E'
cccdlflags='-fPIC', lddlflags='-shared -O2 -L/usr/local/lib -fstack-protector'
Characteristics of this binary (from libperl):
Compile-time options: MULTIPLICITY PERL_DONT_CREATE_GVSV
PERL_IMPLICIT_CONTEXT PERL_MALLOC_WRAP PERL_USE_DEVEL
USE_ITHREADS USE_LARGE_FILES USE_PERLIO USE_PERL_ATOF
USE_REENTRANT_API
Built under linux
Compiled at Jul 18 2014 08:21:08
%ENV:
PERL5LIB="/home/njh/.cpan/build/Mojolicious-7.11-7lQ8o0/blib/arch:/home/njh/.cpan/build/Mojolicious-7.11-7lQ8o0/blib/lib:/home/njh/.cpan/build/Time-Local-1.25-cSktkm/blib/arch:/home/njh/.cpan/build/Time-Local-1.25-cSktkm/blib/lib:/home/njh/.cpan/build/IO-Socket-IP-0.38-dzAmzj/blib/arch:/home/njh/.cpan/build/IO-Socket-IP-0.38-dzAmzj/blib/lib:/home/njh/.cpan/build/Socket-2.024-jaxxQp/blib/arch:/home/njh/.cpan/build/Socket-2.024-jaxxQp/blib/lib:/home/njh/.cpan/build/ExtUtils-Constant-0.23-JDN0Q4/blib/arch:/home/njh/.cpan/build/ExtUtils-Constant-0.23-JDN0Q4/blib/lib"
PERL5OPT=""
PERL5_CPANPLUS_IS_RUNNING="26114"
PERL5_CPAN_IS_RUNNING="26114"
PERLBREW_BASHRC_VERSION="0.75"
PERLBREW_HOME="/home/njh/.perlbrew"
PERLBREW_LIB=""
PERLBREW_MANPATH="/home/njh/perl5/perlbrew/perls/perl-5.12.1/man"
PERLBREW_PATH="/home/njh/perl5/perlbrew/bin:/home/njh/perl5/perlbrew/perls/perl-5.12.1/bin"
PERLBREW_PERL="perl-5.12.1"
PERLBREW_ROOT="/home/njh/perl5/perlbrew"
PERLBREW_VERSION="0.75"
PERL_LOCAL_LIB_ROOT=""
@INC:
/home/njh/.cpan/build/Mojolicious-7.11-7lQ8o0/blib/arch
/home/njh/.cpan/build/Mojolicious-7.11-7lQ8o0/blib/lib
/home/njh/.cpan/build/Time-Local-1.25-cSktkm/blib/arch
/home/njh/.cpan/build/Time-Local-1.25-cSktkm/blib/lib
/home/njh/.cpan/build/IO-Socket-IP-0.38-dzAmzj/blib/arch
/home/njh/.cpan/build/IO-Socket-IP-0.38-dzAmzj/blib/lib
/home/njh/.cpan/build/Socket-2.024-jaxxQp/blib/arch
/home/njh/.cpan/build/Socket-2.024-jaxxQp/blib/lib
/home/njh/.cpan/build/ExtUtils-Constant-0.23-JDN0Q4/blib/arch
/home/njh/.cpan/build/ExtUtils-Constant-0.23-JDN0Q4/blib/lib
/home/njh/perl5/perlbrew/perls/perl-5.12.1/lib/site_perl/5.12.1/armv7l-linux-thread-multi
/home/njh/perl5/perlbrew/perls/perl-5.12.1/lib/site_perl/5.12.1
/home/njh/perl5/perlbrew/perls/perl-5.12.1/lib/5.12.1/armv7l-linux-thread-multi
/home/njh/perl5/perlbrew/perls/perl-5.12.1/lib/5.12.1
.