CGI-Ex v2.53 Perl 5 v5.35.7 darwin-thread-multi-2level

Status
Pass
From
David Cantrell (DCANTRELL)
Dist
CGI-Ex v2.53
Platform
Perl 5 v5.35.7 darwin-thread-multi-2level
Date
2022-03-12 11:01:40
ID
cb5b3fb6-a1f3-11ec-98c7-d3fb36a6d4d3
This distribution has been tested as part of the CPAN Testers
project, supporting the Perl programming language.  See
http://wiki.cpantesters.org/ for more information or email
questions to cpan-testers-discuss@perl.org


--
Dear Charles McGarvey,

This is a computer-generated report for CGI-Ex-2.53
on perl 5.35.7, created by CPAN-Reporter-1.2018.

Thank you for uploading your work to CPAN.  Congratulations!
All tests were successful.

Sections of this report:

    * Tester comments
    * Program output
    * Prerequisites
    * Environment and other context

------------------------------
TESTER COMMENTS
------------------------------

Additional comments from tester:

this report is from an automated smoke testing program
and was not reviewed by a human for accuracy

------------------------------
PROGRAM OUTPUT
------------------------------

Output from '/usr/bin/make test':

PERL_DL_NONLAZY=1 "/Users/cpantesting/cpantesting/perl-5.35.7/bin/perl5.35.7" "-MExtUtils::Command::MM" "-MTest::Harness" "-e" "undef *Test::Harness::Switches; test_harness(0, 'blib/lib', 'blib/arch')" t/*.t
t/00-compile.t .................. ok
# 
# Versions for all modules listed in MYMETA.json (including optional ones):
# 
# === Configure Requires ===
# 
#     Module              Want Have
#     ------------------- ---- ----
#     ExtUtils::MakeMaker  any 7.64
# 
# === Configure Suggests ===
# 
#     Module      Want Have
#     -------- ------- ----
#     JSON::PP 2.27300 4.07
# 
# === Build Requires ===
# 
#     Module              Want Have
#     ------------------- ---- ----
#     ExtUtils::MakeMaker  any 7.64
# 
# === Test Requires ===
# 
#     Module              Want     Have
#     ------------------- ---- --------
#     ExtUtils::MakeMaker  any     7.64
#     File::Spec           any     3.83
#     File::Temp           any   0.2311
#     FindBin              any     1.53
#     IO::Handle           any     1.48
#     IPC::Open3           any     1.22
#     Test::More           any 1.302188
#     lib                  any     0.65
# 
# === Test Recommends ===
# 
#     Module         Want     Have
#     ---------- -------- --------
#     CPAN::Meta 2.120900 2.150010
# 
# === Test Suggests ===
# 
#     Module      Want Have
#     ----------- ---- ----
#     Tie::Handle  any  4.3
# 
# === Runtime Requires ===
# 
#     Module           Want   Have
#     --------------- ----- ------
#     CGI               any   4.54
#     Carp              any   1.52
#     Data::Dumper      any  2.183
#     Exporter          any   5.77
#     Scalar::Util      any   1.60
#     Template::Alloy 1.016  1.022
#     Time::HiRes       any 1.9769
#     base              any   2.27
#     constant          any   1.33
#     overload          any   1.34
#     strict            any   1.12
#     vars              any   1.05
#     warnings          any   1.56
# 
# === Runtime Suggests ===
# 
#     Module          Want    Have
#     --------------- ---- -------
#     CGI             4.45    4.54
#     Config::IniHash  any missing
#     File::Find       any 1.39_01
#     JSON             any missing
#     Storable         any    3.25
#     XML::Simple      any missing
#     YAML             any missing
# 
t/00-report-prereqs.t ........... ok
t/0_ex_00_base.t ................ ok
t/1_validate_00_base.t .......... ok
t/1_validate_03_cgi.t ........... ok
t/1_validate_05_types.t ......... ok
t/1_validate_07_yaml.t .......... ok
t/1_validate_11_no_extra.t ...... ok
t/1_validate_12_change.t ........ ok
t/1_validate_14_untaint.t ....... ok
t/2_fill_00_base.t .............. ok
t/2_fill_01_form.t .............. ok
t/2_fill_02_hidden.t ............ ok
t/2_fill_03_checkbox.t .......... ok
t/2_fill_04_select.t ............ ok
t/2_fill_05_textarea.t .......... ok
t/2_fill_06_radio.t ............. ok
t/2_fill_07_reuse.t ............. ok
t/2_fill_08_multiple_objects.t .. ok
t/2_fill_09_default_type.t ...... ok
t/2_fill_10_escape.t ............ ok
t/2_fill_11_target.t ............ ok
t/2_fill_12_mult.t .............. ok
t/2_fill_13_warning.t ........... ok
t/2_fill_14_password.t .......... ok
t/2_fill_16_ignore_fields.t ..... ok
t/2_fill_17_xhtml.t ............. ok
t/2_fill_18_coderef.t ........... ok
t/2_fill_19_complex.t ........... ok
t/2_fill_20_switcharoo.t ........ ok
t/3_conf_00_base.t .............. ok
t/4_app_00_base.t ............... ok
t/5_dump_00_base.t .............. ok
t/6_die_00_base.t ............... ok
t/7_template_00_base.t .......... ok
t/8_auth_00_base.t .............. ok
t/8_auth_01_cookies.t ........... ok
t/9_jsondump_00_base.t .......... ok
t/author-distmeta.t ............. skipped: these tests are for testing by the author
t/author-pod-syntax.t ........... skipped: these tests are for testing by the author
t/release-consistent-version.t .. skipped: these tests are for release candidate testing
t/release-cpan-changes.t ........ skipped: these tests are for release candidate testing
All tests successful.
Files=42, Tests=837,  8 wallclock secs ( 0.26 usr  0.16 sys +  5.88 cusr  1.12 csys =  7.42 CPU)
Result: PASS

------------------------------
PREREQUISITES
------------------------------

Prerequisite modules loaded:

requires:

    Module              Need     Have    
    ------------------- -------- --------
    base                0        2.27    
    Carp                0        1.52    
    CGI                 0        4.54    
    constant            0        1.33    
    Data::Dumper        0        2.183   
    Exporter            0        5.77    
    overload            0        1.34    
    perl                5.006    5.035007
    Scalar::Util        0        1.60    
    strict              0        1.12    
    Template::Alloy     1.016    1.022   
    Time::HiRes         0        1.9769  
    vars                0        1.05    
    warnings            0        1.56    

build_requires:

    Module              Need     Have    
    ------------------- -------- --------
    ExtUtils::MakeMaker 0        7.64    
    File::Spec          0        3.83    
    File::Temp          0        0.2311  
    FindBin             0        1.53    
    IO::Handle          0        1.48    
    IPC::Open3          0        1.22    
    lib                 0        0.65    
    Test::More          0        1.302188

configure_requires:

    Module              Need     Have    
    ------------------- -------- --------
    ExtUtils::MakeMaker 0        7.64    

opt_build_requires:

    Module              Need     Have    
    ------------------- -------- --------
    CPAN::Meta          2.120900 2.150010


------------------------------
ENVIRONMENT AND OTHER CONTEXT
------------------------------

Environment variables:

    AUTOMATED_TESTING = 1
    NONINTERACTIVE_TESTING = 1
    PATH = /Users/cpantesting/perl5/perlbrew/bin:/Users/cpantesting/perl5/perlbrew/perls/perl-5.32.0/bin:/usr/local/bin:/usr/bin:/bin:/usr/sbin:/sbin:/Library/Apple/usr/bin
    PERL = 5.35.7
    PERL5LIB = 
    PERL5OPT = 
    PERL5_CPANPLUS_IS_RUNNING = 70671
    PERL5_CPAN_IS_RUNNING = 70671
    PERLBREW_HOME = /Users/cpantesting/.perlbrew
    PERLBREW_MANPATH = /Users/cpantesting/perl5/perlbrew/perls/perl-5.32.0/man
    PERLBREW_PATH = /Users/cpantesting/perl5/perlbrew/bin:/Users/cpantesting/perl5/perlbrew/perls/perl-5.32.0/bin
    PERLBREW_PERL = perl-5.32.0
    PERLBREW_ROOT = /Users/cpantesting/perl5/perlbrew
    PERLBREW_SHELLRC_VERSION = 0.94
    PERLBREW_VERSION = 0.94
    PERLVER = 5.35.7
    PERL_INLINE_DIRECTORY = /Users/cpantesting/.Inline-5.35.7
    PERL_MM_USE_DEFAULT = 1
    PERL_USE_UNSAFE_INC = 0
    SHELL = /bin/bash
    TERM = screen

Perl special variables (and OS-specific diagnostics, for MSWin32):

    $^X = /Users/cpantesting/cpantesting/perl-5.35.7/bin/perl5.35.7
    $UID/$EUID = 503 / 503
    $GID = 20 20 12 61 703 702 701 100
    $EGID = 20 20 12 61 703 702 701 100

Perl module toolchain versions installed:

    Module              Have    
    ------------------- --------
    CPAN                2.29    
    CPAN::Meta          2.150010
    Cwd                 3.83    
    ExtUtils::CBuilder  0.280236
    ExtUtils::Command   7.64    
    ExtUtils::Install   2.20    
    ExtUtils::MakeMaker 7.64    
    ExtUtils::Manifest  1.73    
    ExtUtils::ParseXS   3.44    
    File::Spec          3.83    
    JSON                n/a     
    JSON::PP            4.07    
    Module::Build       0.4231  
    Module::Signature   n/a     
    Parse::CPAN::Meta   2.150010
    Test::Harness       3.43    
    Test::More          1.302188
    YAML                n/a     
    YAML::Syck          n/a     
    version             0.9929  


--

Summary of my perl5 (revision 5 version 35 subversion 7) configuration:
   
  Platform:
    osname=darwin
    osvers=20.6.0
    archname=darwin-thread-multi-2level
    uname='darwin harrow.local 20.6.0 darwin kernel version 20.6.0: wed nov 10 22:23:07 pst 2021; root:xnu-7195.141.14~1release_x86_64 x86_64 '
    config_args='-de -Dusethreads -Dprefix=/Users/cpantesting/cpantesting/perl-5.35.7 -Dusedevel'
    hint=recommended
    useposix=true
    d_sigaction=define
    useithreads=define
    usemultiplicity=define
    use64bitint=define
    use64bitall=define
    uselongdouble=undef
    usemymalloc=n
    default_inc_excludes_dot=define
  Compiler:
    cc='cc'
    ccflags ='-fno-common -DPERL_DARWIN -mmacosx-version-min=11.6 -fno-strict-aliasing -pipe -fstack-protector-strong -I/usr/local/include -DPERL_USE_SAFE_PUTENV'
    optimize='-O3'
    cppflags='-fno-common -DPERL_DARWIN -mmacosx-version-min=11.6 -fno-strict-aliasing -pipe -fstack-protector-strong -I/usr/local/include'
    ccversion=''
    gccversion='Apple LLVM 13.0.0 (clang-1300.0.29.30)'
    gccosandvers=''
    intsize=4
    longsize=8
    ptrsize=8
    doublesize=8
    byteorder=12345678
    doublekind=3
    d_longlong=define
    longlongsize=8
    d_longdbl=define
    longdblsize=16
    longdblkind=3
    ivtype='long'
    ivsize=8
    nvtype='double'
    nvsize=8
    Off_t='off_t'
    lseeksize=8
    alignbytes=8
    prototype=define
  Linker and Libraries:
    ld='cc'
    ldflags =' -mmacosx-version-min=11.6 -fstack-protector-strong -L/usr/local/lib'
    libpth=/usr/local/lib /Applications/Xcode.app/Contents/Developer/Toolchains/XcodeDefault.xctoolchain/usr/lib/clang/13.0.0/lib /Applications/Xcode.app/Contents/Developer/Platforms/MacOSX.platform/Developer/SDKs/MacOSX.sdk/usr/lib /Applications/Xcode.app/Contents/Developer/Toolchains/XcodeDefault.xctoolchain/usr/lib /usr/lib
    libs=-lgdbm
    perllibs=
    libc=
    so=dylib
    useshrplib=false
    libperl=libperl.a
    gnulibc_version=''
  Dynamic Linking:
    dlsrc=dl_dlopen.xs
    dlext=bundle
    d_dlsymun=undef
    ccdlflags=' '
    cccdlflags=' '
    lddlflags=' -mmacosx-version-min=11.6 -bundle -undefined dynamic_lookup -L/usr/local/lib -fstack-protector-strong'


Characteristics of this binary (from libperl): 
  Compile-time options:
    HAS_TIMES
    MULTIPLICITY
    PERLIO_LAYERS
    PERL_COPY_ON_WRITE
    PERL_DONT_CREATE_GVSV
    PERL_MALLOC_WRAP
    PERL_OP_PARENT
    PERL_PRESERVE_IVUV
    PERL_USE_DEVEL
    PERL_USE_SAFE_PUTENV
    USE_64_BIT_ALL
    USE_64_BIT_INT
    USE_ITHREADS
    USE_LARGE_FILES
    USE_LOCALE
    USE_LOCALE_COLLATE
    USE_LOCALE_CTYPE
    USE_LOCALE_NUMERIC
    USE_LOCALE_TIME
    USE_PERLIO
    USE_PERL_ATOF
    USE_REENTRANT_API
    USE_THREAD_SAFE_LOCALE
  Built under darwin
  Compiled at Jan 12 2022 21:21:48
  %ENV:
    PERL="5.35.7"
    PERL5LIB=""
    PERL5OPT=""
    PERL5_CPANPLUS_IS_RUNNING="70671"
    PERL5_CPAN_IS_RUNNING="70671"
    PERLBREW_HOME="/Users/cpantesting/.perlbrew"
    PERLBREW_MANPATH="/Users/cpantesting/perl5/perlbrew/perls/perl-5.32.0/man"
    PERLBREW_PATH="/Users/cpantesting/perl5/perlbrew/bin:/Users/cpantesting/perl5/perlbrew/perls/perl-5.32.0/bin"
    PERLBREW_PERL="perl-5.32.0"
    PERLBREW_ROOT="/Users/cpantesting/perl5/perlbrew"
    PERLBREW_SHELLRC_VERSION="0.94"
    PERLBREW_VERSION="0.94"
    PERLVER="5.35.7"
    PERL_INLINE_DIRECTORY="/Users/cpantesting/.Inline-5.35.7"
    PERL_MM_USE_DEFAULT="1"
    PERL_USE_UNSAFE_INC="0"
  @INC:
    /Users/cpantesting/cpantesting/perl-5.35.7/lib/site_perl/5.35.7/darwin-thread-multi-2level
    /Users/cpantesting/cpantesting/perl-5.35.7/lib/site_perl/5.35.7
    /Users/cpantesting/cpantesting/perl-5.35.7/lib/5.35.7/darwin-thread-multi-2level
    /Users/cpantesting/cpantesting/perl-5.35.7/lib/5.35.7