Data-Session v1.18 Perl 5 v5.32.1 i386-openbsd

Status
Pass
From
Alceu Rodrigues de Freitas Junior
Dist
Data-Session v1.18
Platform
Perl 5 v5.32.1 i386-openbsd
Date
2022-05-12 03:22:46
ID
cb62b6b8-d1a2-11ec-b737-db65ffa5fe2c
This distribution has been tested as part of the CPAN Testers
project, supporting the Perl programming language.  See
http://wiki.cpantesters.org/ for more information or email
questions to cpan-testers-discuss@perl.org


--
Dear Ron Savage,

This is a computer-generated report for Data-Session-1.18
on perl 5.32.1, created by CPAN-Reporter-1.2018.

Thank you for uploading your work to CPAN.  Congratulations!
All tests were successful.

Sections of this report:

    * Tester comments
    * Program output
    * Prerequisites
    * Environment and other context

------------------------------
TESTER COMMENTS
------------------------------

Additional comments from tester:

this report is from an automated smoke testing program
and was not reviewed by a human for accuracy

------------------------------
PROGRAM OUTPUT
------------------------------

Output from '/usr/bin/make test':

PERL_DL_NONLAZY=1 "/usr/bin/perl" "-MExtUtils::Command::MM" "-MTest::Harness" "-e" "undef *Test::Harness::Switches; test_harness(0, 'blib/lib', 'blib/arch')" t/*.t
# Testing Data::Session V 1.18
# Using autovivification V 0.18
# Using CGI V 4.51
# Using Class::Load V 0.25
# Using Config::Tiny V 2.28
# Using Data::Dumper V 2.183
# Using Data::UUID V 1.226
# Using DBD::SQLite V 1.70
# Using DBI V 1.643
# Using DBIx::Admin::CreateTable V 2.11
# Using Digest::MD5 V 2.55_01
# Using Digest::SHA V 6.02
# Using Fcntl V 1.13
# Using File::Basename V 2.85
# Using File::Path V 2.16
# Using File::Slurper V 0.013
# Using File::Spec V 3.78
# Using File::Temp V 0.2311
# Using FreezeThaw V 0.5001
# Using Hash::FieldHash V 0.15
# Using JSON V 4.05
# Using overload V 1.31
# Using parent V 0.238
# Using Safe V 2.41_01
# Using Scalar::Util V 1.62
# Using Storable V 3.21
# Using strict V 1.11
# Using Try::Tiny V 0.30
# Using vars V 1.05
# Using warnings V 1.47
# Using YAML::Tiny V 1.73
t/00.versions.t .. ok
# Test: File.1. DSN: dbi:File:. ID generator: AutoIncrement. Serializer: DataDumper
# id 1: 1002
# Test: File.1. DSN: dbi:File:. ID generator: AutoIncrement. Serializer: FreezeThaw
# id 1: 1008
# Test: File.1. DSN: dbi:File:. ID generator: AutoIncrement. Serializer: JSON
# id 1: 1014
# Test: File.1. DSN: dbi:File:. ID generator: AutoIncrement. Serializer: Storable
# id 1: 1020
# Test: File.1. DSN: dbi:File:. ID generator: AutoIncrement. Serializer: YAML
# id 1: 1026
# Test: File.1. DSN: dbi:File:. ID generator: MD5. Serializer: DataDumper
# id 1: 4f9aae8d26809643a60e2ad24357989d
# Test: File.1. DSN: dbi:File:. ID generator: MD5. Serializer: FreezeThaw
# id 1: 1ab1abcc984a7f812a43263407a01c7f
# Test: File.1. DSN: dbi:File:. ID generator: MD5. Serializer: JSON
# id 1: 2e0a8ace2f5cd19fb77472719cc0bca3
# Test: File.1. DSN: dbi:File:. ID generator: MD5. Serializer: Storable
# id 1: 41e8e2af4ebaaf779610ea8d001bdaaa
# Test: File.1. DSN: dbi:File:. ID generator: MD5. Serializer: YAML
# id 1: 48103eb0277395b2b585bb4f60e2d918
# Test: File.1. DSN: dbi:File:. ID generator: SHA1. Serializer: DataDumper
# id 1: a7e701b05ac055917ee9ef35acc590b23e745467
# Test: File.1. DSN: dbi:File:. ID generator: SHA1. Serializer: FreezeThaw
# id 1: a960cbd89c604847dd403c5e41e69395d4e2e63d
# Test: File.1. DSN: dbi:File:. ID generator: SHA1. Serializer: JSON
# id 1: 30db8ffae4e16082dfadddfa254bc0b5b01b4826
# Test: File.1. DSN: dbi:File:. ID generator: SHA1. Serializer: Storable
# id 1: 5c33eca4970908d87f751a7a84c81ec6c2c04ac9
# Test: File.1. DSN: dbi:File:. ID generator: SHA1. Serializer: YAML
# id 1: e0efa8777f0313a2eb162bfa5ede570c264bb8a5
# Test: File.1. DSN: dbi:File:. ID generator: SHA256. Serializer: DataDumper
# id 1: 08a207b1df938a994bf7420de0442aa945c532ad85bfc6ced479f4316f70b363
# Test: File.1. DSN: dbi:File:. ID generator: SHA256. Serializer: FreezeThaw
# id 1: 8494faa506c3f052f786c2ed364615350039efd52d0505e7169c9cca1dbd8a53
# Test: File.1. DSN: dbi:File:. ID generator: SHA256. Serializer: JSON
# id 1: 0f6a09de56ec337e22f3c87728fe389062903b0013df1bd9af31a03076e25e24
# Test: File.1. DSN: dbi:File:. ID generator: SHA256. Serializer: Storable
# id 1: 7eacab69ffedc7f4f2ee4d1f1c62629db583e0890b96b0c779adb1b41a7a6964
# Test: File.1. DSN: dbi:File:. ID generator: SHA256. Serializer: YAML
# id 1: f85f39e80d107bc3078ff9c4b7938e7a83b435b84083509f5214124dee25a7cf
# Test: File.1. DSN: dbi:File:. ID generator: SHA512. Serializer: DataDumper
# id 1: 3cf8b340599ae613d67fdb1cd7f32f7e1ceb61420153166b6186766253e5f5a71906fcce98d811172e9cc308ac7ce3437ecdaff54b2c9139b2ef3a06033db8f4
# Test: File.1. DSN: dbi:File:. ID generator: SHA512. Serializer: FreezeThaw
# id 1: d5c57d25153a350e98dec556c5635deb15f0ca06f0f5828f10e76e21961c43fa8de1ab96c367d4539dfe7311583abb45a34fc2f33cb376d2f651e85126ddb006
# Test: File.1. DSN: dbi:File:. ID generator: SHA512. Serializer: JSON
# id 1: 220fcbc534a82aedd8409be9c4b8405188aa197ad2053e4edd7154e2d3fce2d1f697980eaf7c1af869aa7a3404aa1dbd8baf19e3e753fa178f6d2677af93b51a
# Test: File.1. DSN: dbi:File:. ID generator: SHA512. Serializer: Storable
# id 1: 6cf0fa520f435b026fd1215e23a07607530ead0ec5a52dbf81a19cf1ff5b77329b7d167919d1d74fd9c1257dfb2dd038660b523da198e14c89249544910a05a7
# Test: File.1. DSN: dbi:File:. ID generator: SHA512. Serializer: YAML
# id 1: 5f5e725712f6925eefa06c05ad1479a25a1c5cd152dc1067f9801ba2b6226b67fcc5794955311c0a5cec4a9d3aa54e90e97247d465e99e3a2616f1c1b05f43f6
# Test: File.1. DSN: dbi:File:. ID generator: Static. Serializer: DataDumper
# id 1: 1234
# Test: File.1. DSN: dbi:File:. ID generator: Static. Serializer: FreezeThaw
# id 1: 1234
# Test: File.1. DSN: dbi:File:. ID generator: Static. Serializer: JSON
# id 1: 1234
# Test: File.1. DSN: dbi:File:. ID generator: Static. Serializer: Storable
# id 1: 1234
# Test: File.1. DSN: dbi:File:. ID generator: Static. Serializer: YAML
# id 1: 1234
# Test: File.1. DSN: dbi:File:. ID generator: UUID34. Serializer: DataDumper
# id 1: 0x6C33F9E4D18511ECA1593728A71A8DE2
# Test: File.1. DSN: dbi:File:. ID generator: UUID34. Serializer: FreezeThaw
# id 1: 0x6C380E8AD18511ECA1593728A71A8DE2
# Test: File.1. DSN: dbi:File:. ID generator: UUID34. Serializer: JSON
# id 1: 0x6C3C02B0D18511ECA1593728A71A8DE2
# Test: File.1. DSN: dbi:File:. ID generator: UUID34. Serializer: Storable
# id 1: 0x6C3F4DB2D18511ECA1593728A71A8DE2
# Test: File.1. DSN: dbi:File:. ID generator: UUID34. Serializer: YAML
# id 1: 0x6C42D93CD18511ECA1593728A71A8DE2
# Test: File.1. DSN: dbi:File:. ID generator: UUID36. Serializer: DataDumper
# id 1: 6C46A04E-D185-11EC-A159-3728A71A8DE2
# Test: File.1. DSN: dbi:File:. ID generator: UUID36. Serializer: FreezeThaw
# id 1: 6C4AC37C-D185-11EC-A159-3728A71A8DE2
# Test: File.1. DSN: dbi:File:. ID generator: UUID36. Serializer: JSON
# id 1: 6C4E5514-D185-11EC-A159-3728A71A8DE2
# Test: File.1. DSN: dbi:File:. ID generator: UUID36. Serializer: Storable
# id 1: 6C51F250-D185-11EC-A159-3728A71A8DE2
# Test: File.1. DSN: dbi:File:. ID generator: UUID36. Serializer: YAML
# id 1: 6C558B5E-D185-11EC-A159-3728A71A8DE2
# Skipping dsn 'dbi:SQLite:dbname=/tmp/sessions.sqlite' because the SQLite directory does not exist
# 
# Testing HTTP header generation
# 
# Testing expire the session. Sleeping for 1 second ...
# Expiring id: 6C5A2E02-D185-11EC-A159-3728A71A8DE2
# 
# Testing expire a session parameter. Sleeping for 1 second ...
t/basic.t ........ ok
# DSN name: File.1. DSN: dbi:File:. ID generator: MD5. Serializer: DataDumper
# id1: 4c7dca93e840963d614eb566918074f1
# 1: Recovered known id 0ed2cddbc7453b266de5abfb5600c996 from traverse
# 2: Recovered known id b376520098c3ebf658944d94a8780b86 from traverse
# 3: Recovered known id ec5d245cf54571f519d20bcd1693a615 from traverse
# 4: Recovered known id bb7a99205bb592eebe31eee8520aa18e from traverse
# Skipping dsn 'dbi:SQLite:dbname=/tmp/sessions.sqlite' because the SQLite directory does not exist
t/traverse.t ..... ok
All tests successful.
Files=3, Tests=52,  8 wallclock secs ( 0.01 usr  0.03 sys +  1.57 cusr  0.53 csys =  2.14 CPU)
Result: PASS

------------------------------
PREREQUISITES
------------------------------

Prerequisite modules loaded:

requires:

    Module                   Need     Have    
    ------------------------ -------- --------
    autovivification         0        0.18    
    CGI                      3.63     4.51    
    Class::Load              0.19     0.25    
    Config::Tiny             2.14     2.28    
    Data::Dumper             2.145    2.183   
    Data::UUID               1.218    1.226   
    DBD::SQLite              1.39     1.70    
    DBI                      1.627    1.643   
    DBIx::Admin::CreateTable 2.07     2.11    
    Digest::MD5              2.52     2.55_01 
    Digest::SHA              5.84     6.02    
    Fcntl                    1.06     1.13    
    File::Basename           2.77     2.85    
    File::Path               2.07     2.16    
    File::Slurper            0.012    0.013   
    File::Spec               3.3      3.78    
    File::Temp               0.22     0.2311  
    FreezeThaw               0.5001   0.5001  
    Hash::FieldHash          0.14     0.15    
    JSON                     2.59     4.05    
    overload                 0        1.31    
    parent                   0        0.238   
    Safe                     2.35     2.41_01 
    Scalar::Util             1.27     1.62    
    Storable                 2.39     3.21    
    strict                   0        1.11    
    Try::Tiny                0.12     0.30    
    vars                     0        1.05    
    warnings                 0        1.47    
    YAML::Tiny               1.51     1.73    

build_requires:

    Module                   Need     Have    
    ------------------------ -------- --------
    ExtUtils::MakeMaker      0        7.64    
    Test::More               1.001014 1.302190
    Test::Pod                1.48     1.52    

configure_requires:

    Module                   Need     Have    
    ------------------------ -------- --------
    ExtUtils::MakeMaker      0        7.64    


------------------------------
ENVIRONMENT AND OTHER CONTEXT
------------------------------

Environment variables:

    AUTOMATED_TESTING = 1
    NONINTERACTIVE_TESTING = 1
    PATH = /home/goku/perl5/bin:/usr/bin:/bin:/usr/sbin:/sbin:/usr/X11R6/bin:/usr/local/bin:/usr/local/sbin
    PERL5LIB = /home/goku/perl5/lib/perl5
    PERL5OPT = 
    PERL5_CPANPLUS_IS_RUNNING = 42814
    PERL5_CPAN_IS_RUNNING = 42814
    PERL_EXTUTILS_AUTOINSTALL = 1
    PERL_LOCAL_LIB_ROOT = /home/goku/perl5
    PERL_MB_OPT = --install_base "/home/goku/perl5"
    PERL_MM_OPT = INSTALL_BASE=/home/goku/perl5
    PERL_MM_USE_DEFAULT = 1
    PERL_USE_UNSAFE_INC = 1
    SHELL = /bin/ksh
    TERM = xterm-256color

Perl special variables (and OS-specific diagnostics, for MSWin32):

    $^X = /usr/bin/perl
    $UID/$EUID = 1001 / 1001
    $GID = 1002 1002 1001
    $EGID = 1002 1002 1001

Perl module toolchain versions installed:

    Module              Have    
    ------------------- --------
    CPAN                2.34    
    CPAN::Meta          2.150010
    Cwd                 3.78    
    ExtUtils::CBuilder  0.280236
    ExtUtils::Command   7.64    
    ExtUtils::Install   2.14    
    ExtUtils::MakeMaker 7.64    
    ExtUtils::Manifest  1.72    
    ExtUtils::ParseXS   3.40    
    File::Spec          3.78    
    JSON                4.05    
    JSON::PP            4.04    
    Module::Build       0.4231  
    Module::Signature   n/a     
    Parse::CPAN::Meta   2.150010
    Test::Harness       3.44    
    Test::More          1.302190
    YAML                1.30    
    YAML::Syck          1.34    
    version             0.9924  


--

Summary of my perl5 (revision 5 version 32 subversion 1) configuration:
   
  Platform:
    osname=openbsd
    osvers=7.0
    archname=i386-openbsd
    uname='openbsd'
    config_args='-dse -Dopenbsd_distribution=defined -Dmksymlinks'
    hint=recommended
    useposix=true
    d_sigaction=define
    useithreads=undef
    usemultiplicity=undef
    use64bitint=undef
    use64bitall=undef
    uselongdouble=undef
    usemymalloc=n
    default_inc_excludes_dot=define
    bincompat5005=undef
  Compiler:
    cc='cc'
    ccflags ='-DNO_LOCALE_NUMERIC -DNO_LOCALE_COLLATE -fno-strict-aliasing -fno-delete-null-pointer-checks -pipe -fstack-protector-strong -I/usr/local/include'
    optimize='-O2'
    cppflags='-DBIG_TIME -DNO_LOCALE_NUMERIC -DNO_LOCALE_COLLATE -fno-strict-aliasing -fno-delete-null-pointer-checks -pipe -fstack-protector-strong -I/usr/local/include'
    ccversion=''
    gccversion='OpenBSD Clang 11.1.0'
    gccosandvers=''
    intsize=4
    longsize=4
    ptrsize=4
    doublesize=8
    byteorder=1234
    doublekind=3
    d_longlong=define
    longlongsize=8
    d_longdbl=define
    longdblsize=12
    longdblkind=3
    ivtype='long'
    ivsize=4
    nvtype='double'
    nvsize=8
    Off_t='off_t'
    lseeksize=8
    alignbytes=4
    prototype=define
  Linker and Libraries:
    ld='cc'
    ldflags ='-Wl,-E  -fstack-protector-strong -L/usr/local/lib'
    libpth=/usr/lib /usr/local/lib
    libs=-lm -lc
    perllibs=-lm -lc
    libc=/usr/lib/libc.so.96.1
    so=so
    useshrplib=true
    libperl=libperl.so.22.0
    gnulibc_version=''
  Dynamic Linking:
    dlsrc=dl_dlopen.xs
    dlext=so
    d_dlsymun=undef
    ccdlflags='-Wl,-R/usr/libdata/perl5/i386-openbsd/CORE'
    cccdlflags='-DPIC -fpic '
    lddlflags='-shared -fpic  -fstack-protector-strong -L/usr/local/lib'


Characteristics of this binary (from libperl): 
  Compile-time options:
    HAS_TIMES
    PERLIO_LAYERS
    PERL_COPY_ON_WRITE
    PERL_DONT_CREATE_GVSV
    PERL_MALLOC_WRAP
    PERL_OP_PARENT
    PERL_PRESERVE_IVUV
    USE_LARGE_FILES
    USE_LOCALE
    USE_LOCALE_CTYPE
    USE_LOCALE_TIME
    USE_PERLIO
    USE_PERL_ATOF
  Built under openbsd
  %ENV:
    PERL5LIB="/home/goku/perl5/lib/perl5"
    PERL5OPT=""
    PERL5_CPANPLUS_IS_RUNNING="42814"
    PERL5_CPAN_IS_RUNNING="42814"
    PERL_EXTUTILS_AUTOINSTALL="1"
    PERL_LOCAL_LIB_ROOT="/home/goku/perl5"
    PERL_MB_OPT="--install_base "/home/goku/perl5""
    PERL_MM_OPT="INSTALL_BASE=/home/goku/perl5"
    PERL_MM_USE_DEFAULT="1"
    PERL_USE_UNSAFE_INC="1"
  @INC:
    /home/goku/perl5/lib/perl5/i386-openbsd
    /home/goku/perl5/lib/perl5
    /usr/local/libdata/perl5/site_perl/i386-openbsd
    /usr/local/libdata/perl5/site_perl
    /usr/libdata/perl5/i386-openbsd
    /usr/libdata/perl5
    .